BEGIN:VCALENDAR
VERSION:2.0
PRODID:-//Temple Israel - ECPv6.15.17.1//NONSGML v1.0//EN
CALSCALE:GREGORIAN
METHOD:PUBLISH
X-WR-CALNAME:Temple Israel
X-ORIGINAL-URL:https://templeisraelorlando.org
X-WR-CALDESC:Events for Temple Israel
REFRESH-INTERVAL;VALUE=DURATION:PT1H
X-Robots-Tag:noindex
X-PUBLISHED-TTL:PT1H
BEGIN:VTIMEZONE
TZID:America/New_York
BEGIN:DAYLIGHT
TZOFFSETFROM:-0500
TZOFFSETTO:-0400
TZNAME:EDT
DTSTART:20230312T070000
END:DAYLIGHT
BEGIN:STANDARD
TZOFFSETFROM:-0400
TZOFFSETTO:-0500
TZNAME:EST
DTSTART:20231105T060000
END:STANDARD
BEGIN:DAYLIGHT
TZOFFSETFROM:-0500
TZOFFSETTO:-0400
TZNAME:EDT
DTSTART:20240310T070000
END:DAYLIGHT
BEGIN:STANDARD
TZOFFSETFROM:-0400
TZOFFSETTO:-0500
TZNAME:EST
DTSTART:20241103T060000
END:STANDARD
BEGIN:DAYLIGHT
TZOFFSETFROM:-0500
TZOFFSETTO:-0400
TZNAME:EDT
DTSTART:20250309T070000
END:DAYLIGHT
BEGIN:STANDARD
TZOFFSETFROM:-0400
TZOFFSETTO:-0500
TZNAME:EST
DTSTART:20251102T060000
END:STANDARD
END:VTIMEZONE
BEGIN:VTIMEZONE
TZID:UTC
BEGIN:STANDARD
TZOFFSETFROM:+0000
TZOFFSETTO:+0000
TZNAME:UTC
DTSTART:20230101T000000
END:STANDARD
END:VTIMEZONE
BEGIN:VEVENT
DTSTART;TZID=America/New_York:20240818T090000
DTEND;TZID=America/New_York:20240818T093000
DTSTAMP:20260419T204855
CREATED:20240507T021438Z
LAST-MODIFIED:20250715T172314Z
UID:10005340-1723971600-1723973400@templeisraelorlando.org
SUMMARY:Sunday Minyan
DESCRIPTION:Our minyan starts at 9:00am in person and on zoom. \nhttps://us02web.zoom.us/j/83885789313?pwd=UkdrN25yMGRpTUIzNlRwejd1UWpjQT09 \nMeeting ID: 838 8578 9313\nPasscode: 165936
URL:https://templeisraelorlando.org/event/sunday-minyan/2024-08-18/
LOCATION:Temple Israel\, 50 S Moss Road\, Winter Springs\, FL\, 32708\, United States
CATEGORIES:Services
END:VEVENT
BEGIN:VEVENT
DTSTART;TZID=America/New_York:20240818T100000
DTEND;TZID=America/New_York:20240818T110000
DTSTAMP:20260419T204855
CREATED:20240715T170100Z
LAST-MODIFIED:20240715T170106Z
UID:10001966-1723975200-1723978800@templeisraelorlando.org
SUMMARY:Budget and Finance Committee
DESCRIPTION:
URL:https://templeisraelorlando.org/event/budget-and-finance-committee-3/
CATEGORIES:Committee meeting
END:VEVENT
BEGIN:VEVENT
DTSTART;TZID=UTC:20240818T103000
DTEND;TZID=UTC:20240818T153000
DTSTAMP:20260419T204855
CREATED:20240508T223520Z
LAST-MODIFIED:20240508T223913Z
UID:10001619-1723977000-1723995000@templeisraelorlando.org
SUMMARY:Men's Club - Scuba Intro
DESCRIPTION:Sunday\, August 18 at 10:30am \n$18 for Men’s Club members\n$25 for Non-Members \nScuba Intro with a professional instructor\, including BBQ for lunch.  \nRSVP to Natan Brener at 407-435-8613 before 8/16.  \nOnly for men.
URL:https://templeisraelorlando.org/event/mens-club-scuba-intro/
CATEGORIES:Featured
ATTACH;FMTTYPE=image/png:https://templeisraelorlando.org/wp-content/uploads/2024/05/Mens-Club-Scuba-Intro.png
END:VEVENT
END:VCALENDAR