BEGIN:VCALENDAR
VERSION:2.0
PRODID:-//Temple Israel - ECPv6.15.17.1//NONSGML v1.0//EN
CALSCALE:GREGORIAN
METHOD:PUBLISH
X-ORIGINAL-URL:https://templeisraelorlando.org
X-WR-CALDESC:Events for Temple Israel
REFRESH-INTERVAL;VALUE=DURATION:PT1H
X-Robots-Tag:noindex
X-PUBLISHED-TTL:PT1H
BEGIN:VTIMEZONE
TZID:America/New_York
BEGIN:DAYLIGHT
TZOFFSETFROM:-0500
TZOFFSETTO:-0400
TZNAME:EDT
DTSTART:20230312T070000
END:DAYLIGHT
BEGIN:STANDARD
TZOFFSETFROM:-0400
TZOFFSETTO:-0500
TZNAME:EST
DTSTART:20231105T060000
END:STANDARD
BEGIN:DAYLIGHT
TZOFFSETFROM:-0500
TZOFFSETTO:-0400
TZNAME:EDT
DTSTART:20240310T070000
END:DAYLIGHT
BEGIN:STANDARD
TZOFFSETFROM:-0400
TZOFFSETTO:-0500
TZNAME:EST
DTSTART:20241103T060000
END:STANDARD
BEGIN:DAYLIGHT
TZOFFSETFROM:-0500
TZOFFSETTO:-0400
TZNAME:EDT
DTSTART:20250309T070000
END:DAYLIGHT
BEGIN:STANDARD
TZOFFSETFROM:-0400
TZOFFSETTO:-0500
TZNAME:EST
DTSTART:20251102T060000
END:STANDARD
END:VTIMEZONE
BEGIN:VEVENT
DTSTART;TZID=America/New_York:20240915T090000
DTEND;TZID=America/New_York:20240915T093000
DTSTAMP:20260419T190600
CREATED:20240507T021438Z
LAST-MODIFIED:20250715T172314Z
UID:10005344-1726390800-1726392600@templeisraelorlando.org
SUMMARY:Sunday Minyan
DESCRIPTION:Our minyan starts at 9:00am in person and on zoom. \nhttps://us02web.zoom.us/j/83885789313?pwd=UkdrN25yMGRpTUIzNlRwejd1UWpjQT09 \nMeeting ID: 838 8578 9313\nPasscode: 165936
URL:https://templeisraelorlando.org/event/sunday-minyan/2024-09-15/
LOCATION:Temple Israel\, 50 S Moss Road\, Winter Springs\, FL\, 32708\, United States
CATEGORIES:Services
END:VEVENT
BEGIN:VEVENT
DTSTART;TZID=America/New_York:20240915T100000
DTEND;TZID=America/New_York:20240915T170000
DTSTAMP:20260419T190600
CREATED:20240606T190510Z
LAST-MODIFIED:20240606T191725Z
UID:10001946-1726394400-1726419600@templeisraelorlando.org
SUMMARY:TI Town Hall
DESCRIPTION:
URL:https://templeisraelorlando.org/event/ti-town-hall/
CATEGORIES:Event
END:VEVENT
BEGIN:VEVENT
DTSTART;TZID=America/New_York:20240915T140000
DTEND;TZID=America/New_York:20240915T160000
DTSTAMP:20260419T190600
CREATED:20240814T142841Z
LAST-MODIFIED:20240815T174029Z
UID:10002047-1726408800-1726416000@templeisraelorlando.org
SUMMARY:TI Gesher Roller Skating Event
DESCRIPTION:2:00pm on Sunday\, September 15th at Semoran Skateway\n2670 Cassel Creek Blvd\, Casselberry\, FL 32707 \nFor 6th-8th Grade \n$9 Admission including skate rental \nRSVP to yaelamarks@gmail.com \nFor more information\, email penelope.neely@gmail.com.
URL:https://templeisraelorlando.org/event/ti-gesher-roller-skating-event/
CATEGORIES:Youth
ATTACH;FMTTYPE=image/png:https://templeisraelorlando.org/wp-content/uploads/2024/08/TI-Gesher-Roller-Skating-15-Sep-2024.png
END:VEVENT
BEGIN:VEVENT
DTSTART;TZID=America/New_York:20240915T193000
DTEND;TZID=America/New_York:20240915T210000
DTSTAMP:20260419T190600
CREATED:20240715T172625Z
LAST-MODIFIED:20240905T220226Z
UID:10001970-1726428600-1726434000@templeisraelorlando.org
SUMMARY:Budget and Finance Committee
DESCRIPTION:
URL:https://templeisraelorlando.org/event/budget-and-finance-committee-4/
CATEGORIES:Committee meeting
END:VEVENT
END:VCALENDAR