BEGIN:VCALENDAR
VERSION:2.0
PRODID:-//Temple Israel - ECPv6.15.17.1//NONSGML v1.0//EN
CALSCALE:GREGORIAN
METHOD:PUBLISH
X-WR-CALNAME:Temple Israel
X-ORIGINAL-URL:https://templeisraelorlando.org
X-WR-CALDESC:Events for Temple Israel
REFRESH-INTERVAL;VALUE=DURATION:PT1H
X-Robots-Tag:noindex
X-PUBLISHED-TTL:PT1H
BEGIN:VTIMEZONE
TZID:America/New_York
BEGIN:DAYLIGHT
TZOFFSETFROM:-0500
TZOFFSETTO:-0400
TZNAME:EDT
DTSTART:20230312T070000
END:DAYLIGHT
BEGIN:STANDARD
TZOFFSETFROM:-0400
TZOFFSETTO:-0500
TZNAME:EST
DTSTART:20231105T060000
END:STANDARD
BEGIN:DAYLIGHT
TZOFFSETFROM:-0500
TZOFFSETTO:-0400
TZNAME:EDT
DTSTART:20240310T070000
END:DAYLIGHT
BEGIN:STANDARD
TZOFFSETFROM:-0400
TZOFFSETTO:-0500
TZNAME:EST
DTSTART:20241103T060000
END:STANDARD
BEGIN:DAYLIGHT
TZOFFSETFROM:-0500
TZOFFSETTO:-0400
TZNAME:EDT
DTSTART:20250309T070000
END:DAYLIGHT
BEGIN:STANDARD
TZOFFSETFROM:-0400
TZOFFSETTO:-0500
TZNAME:EST
DTSTART:20251102T060000
END:STANDARD
END:VTIMEZONE
BEGIN:VEVENT
DTSTART;TZID=America/New_York:20241215T080000
DTEND;TZID=America/New_York:20241215T170000
DTSTAMP:20260419T125449
CREATED:20240816T162608Z
LAST-MODIFIED:20241211T173311Z
UID:10002072-1734249600-1734282000@templeisraelorlando.org
SUMMARY:Hanukkah Market
DESCRIPTION:templeisraelevents.com
URL:https://templeisraelorlando.org/event/hanukkah-market/
CATEGORIES:Event
ATTACH;FMTTYPE=image/jpeg:https://templeisraelorlando.org/wp-content/uploads/2024/08/Hanukkah-TI-1.jpeg
END:VEVENT
BEGIN:VEVENT
DTSTART;TZID=America/New_York:20241215T090000
DTEND;TZID=America/New_York:20241215T093000
DTSTAMP:20260419T125449
CREATED:20240507T021438Z
LAST-MODIFIED:20250715T172314Z
UID:10005357-1734253200-1734255000@templeisraelorlando.org
SUMMARY:Sunday Minyan
DESCRIPTION:Our minyan starts at 9:00am in person and on zoom. \nhttps://us02web.zoom.us/j/83885789313?pwd=UkdrN25yMGRpTUIzNlRwejd1UWpjQT09 \nMeeting ID: 838 8578 9313\nPasscode: 165936
URL:https://templeisraelorlando.org/event/sunday-minyan/2024-12-15/
LOCATION:Temple Israel\, 50 S Moss Road\, Winter Springs\, FL\, 32708\, United States
CATEGORIES:Services
END:VEVENT
BEGIN:VEVENT
DTSTART;TZID=America/New_York:20241215T110000
DTEND;TZID=America/New_York:20241215T123000
DTSTAMP:20260419T125449
CREATED:20240815T234453Z
LAST-MODIFIED:20240815T234453Z
UID:10002067-1734260400-1734265800@templeisraelorlando.org
SUMMARY:Bagels & Blocks
DESCRIPTION:
URL:https://templeisraelorlando.org/event/bagels-blocks-4/
LOCATION:Temple Israel\, 50 S Moss Road\, Winter Springs\, FL\, 32708\, United States
CATEGORIES:Family
END:VEVENT
BEGIN:VEVENT
DTSTART;TZID=America/New_York:20241215T123000
DTEND;TZID=America/New_York:20241215T133000
DTSTAMP:20260419T125449
CREATED:20240815T172147Z
LAST-MODIFIED:20240815T172147Z
UID:10002058-1734265800-1734269400@templeisraelorlando.org
SUMMARY:L'Dor v'Dor Hanukkah event
DESCRIPTION:
URL:https://templeisraelorlando.org/event/ldor-vdor-hanukkah-event/
CATEGORIES:Youth
END:VEVENT
BEGIN:VEVENT
DTSTART;TZID=America/New_York:20241215T153000
DTEND;TZID=America/New_York:20241215T170000
DTSTAMP:20260419T125449
CREATED:20240814T143328Z
LAST-MODIFIED:20240814T143328Z
UID:10002053-1734276600-1734282000@templeisraelorlando.org
SUMMARY:TI USY mini golf event
DESCRIPTION:For more information\, email penelope.neely@gmail.com.
URL:https://templeisraelorlando.org/event/ti-usy-mini-golf-event/
CATEGORIES:Youth
END:VEVENT
END:VCALENDAR