BEGIN:VCALENDAR
VERSION:2.0
PRODID:-//Temple Israel - ECPv6.15.17.1//NONSGML v1.0//EN
CALSCALE:GREGORIAN
METHOD:PUBLISH
X-ORIGINAL-URL:https://templeisraelorlando.org
X-WR-CALDESC:Events for Temple Israel
REFRESH-INTERVAL;VALUE=DURATION:PT1H
X-Robots-Tag:noindex
X-PUBLISHED-TTL:PT1H
BEGIN:VTIMEZONE
TZID:America/New_York
BEGIN:DAYLIGHT
TZOFFSETFROM:-0500
TZOFFSETTO:-0400
TZNAME:EDT
DTSTART:20230312T070000
END:DAYLIGHT
BEGIN:STANDARD
TZOFFSETFROM:-0400
TZOFFSETTO:-0500
TZNAME:EST
DTSTART:20231105T060000
END:STANDARD
BEGIN:DAYLIGHT
TZOFFSETFROM:-0500
TZOFFSETTO:-0400
TZNAME:EDT
DTSTART:20240310T070000
END:DAYLIGHT
BEGIN:STANDARD
TZOFFSETFROM:-0400
TZOFFSETTO:-0500
TZNAME:EST
DTSTART:20241103T060000
END:STANDARD
BEGIN:DAYLIGHT
TZOFFSETFROM:-0500
TZOFFSETTO:-0400
TZNAME:EDT
DTSTART:20250309T070000
END:DAYLIGHT
BEGIN:STANDARD
TZOFFSETFROM:-0400
TZOFFSETTO:-0500
TZNAME:EST
DTSTART:20251102T060000
END:STANDARD
END:VTIMEZONE
BEGIN:VEVENT
DTSTART;TZID=America/New_York:20241103T093000
DTEND;TZID=America/New_York:20241103T113000
DTSTAMP:20260420T124014
CREATED:20240827T193337Z
LAST-MODIFIED:20240827T193337Z
UID:10002171-1730626200-1730633400@templeisraelorlando.org
SUMMARY:Gan Chesed Committee Planting Day
DESCRIPTION:
URL:https://templeisraelorlando.org/event/gan-chesed-committee-planting-day/
CATEGORIES:Committee meeting
END:VEVENT
BEGIN:VEVENT
DTSTART;TZID=America/New_York:20241103T100000
DTEND;TZID=America/New_York:20241103T103000
DTSTAMP:20260420T124014
CREATED:20240515T192119Z
LAST-MODIFIED:20240515T192119Z
UID:10001815-1730628000-1730629800@templeisraelorlando.org
SUMMARY:Men's Club Committee
DESCRIPTION:
URL:https://templeisraelorlando.org/event/mens-club-committee/2024-11-03/
CATEGORIES:Committee meeting
END:VEVENT
BEGIN:VEVENT
DTSTART;TZID=America/New_York:20241103T140000
DTEND;TZID=America/New_York:20241103T170000
DTSTAMP:20260420T124014
CREATED:20240809T204135Z
LAST-MODIFIED:20240809T204135Z
UID:10002046-1730642400-1730653200@templeisraelorlando.org
SUMMARY:Cemetery Corporation Quarterly Board Meeting
DESCRIPTION:
URL:https://templeisraelorlando.org/event/cemetery-corporation-quarterly-board-meeting/
CATEGORIES:Committee meeting
END:VEVENT
BEGIN:VEVENT
DTSTART;TZID=America/New_York:20241104T190000
DTEND;TZID=America/New_York:20241104T200000
DTSTAMP:20260420T124014
CREATED:20241002T005654Z
LAST-MODIFIED:20241002T005654Z
UID:10002496-1730746800-1730750400@templeisraelorlando.org
SUMMARY:Executive Committee
DESCRIPTION:
URL:https://templeisraelorlando.org/event/executive-committee-4/
CATEGORIES:Committee meeting
END:VEVENT
BEGIN:VEVENT
DTSTART;TZID=America/New_York:20241105T193000
DTEND;TZID=America/New_York:20241105T203000
DTSTAMP:20260420T124014
CREATED:20240514T200940Z
LAST-MODIFIED:20240524T204606Z
UID:10001807-1730835000-1730838600@templeisraelorlando.org
SUMMARY:Ways and Means Committee
DESCRIPTION:
URL:https://templeisraelorlando.org/event/ways-and-means-committee-3/2024-11-05/
CATEGORIES:Committee meeting
END:VEVENT
BEGIN:VEVENT
DTSTART;TZID=America/New_York:20241111T113000
DTEND;TZID=America/New_York:20241111T123000
DTSTAMP:20260420T124014
CREATED:20241021T165456Z
LAST-MODIFIED:20241021T165456Z
UID:10002499-1731324600-1731328200@templeisraelorlando.org
SUMMARY:MAGAL Committee
DESCRIPTION:
URL:https://templeisraelorlando.org/event/magal-committee-7/
CATEGORIES:Committee meeting
END:VEVENT
BEGIN:VEVENT
DTSTART;TZID=America/New_York:20241111T190000
DTEND;TZID=America/New_York:20241111T210000
DTSTAMP:20260420T124014
CREATED:20241002T005800Z
LAST-MODIFIED:20241002T005800Z
UID:10002497-1731351600-1731358800@templeisraelorlando.org
SUMMARY:Board of Directors
DESCRIPTION:
URL:https://templeisraelorlando.org/event/board-of-directors-5/
CATEGORIES:Committee meeting
END:VEVENT
BEGIN:VEVENT
DTSTART;TZID=America/New_York:20241114T193000
DTEND;TZID=America/New_York:20241114T210000
DTSTAMP:20260420T124014
CREATED:20241023T180642Z
LAST-MODIFIED:20241023T180642Z
UID:10002500-1731612600-1731618000@templeisraelorlando.org
SUMMARY:Safety and Security Committee
DESCRIPTION:
URL:https://templeisraelorlando.org/event/safety-and-security-committee-5/
CATEGORIES:Committee meeting
END:VEVENT
BEGIN:VEVENT
DTSTART;TZID=America/New_York:20241117T193000
DTEND;TZID=America/New_York:20241117T210000
DTSTAMP:20260420T124014
CREATED:20241107T164433Z
LAST-MODIFIED:20241107T164433Z
UID:10002513-1731871800-1731877200@templeisraelorlando.org
SUMMARY:Strategic Planning Meeting
DESCRIPTION:
URL:https://templeisraelorlando.org/event/strategic-planning-meeting/
CATEGORIES:Committee meeting
END:VEVENT
BEGIN:VEVENT
DTSTART;TZID=America/New_York:20241121T191500
DTEND;TZID=America/New_York:20241121T203000
DTSTAMP:20260420T124014
CREATED:20240920T005509Z
LAST-MODIFIED:20241023T180601Z
UID:10002210-1732216500-1732221000@templeisraelorlando.org
SUMMARY:Ritual Committee
DESCRIPTION:
URL:https://templeisraelorlando.org/event/ritual-committee-4/
CATEGORIES:Committee meeting
END:VEVENT
END:VCALENDAR