BEGIN:VCALENDAR
VERSION:2.0
PRODID:-//Temple Israel - ECPv6.15.17.1//NONSGML v1.0//EN
CALSCALE:GREGORIAN
METHOD:PUBLISH
X-ORIGINAL-URL:https://templeisraelorlando.org
X-WR-CALDESC:Events for Temple Israel
REFRESH-INTERVAL;VALUE=DURATION:PT1H
X-Robots-Tag:noindex
X-PUBLISHED-TTL:PT1H
BEGIN:VTIMEZONE
TZID:UTC
BEGIN:STANDARD
TZOFFSETFROM:+0000
TZOFFSETTO:+0000
TZNAME:UTC
DTSTART:20230101T000000
END:STANDARD
END:VTIMEZONE
BEGIN:VEVENT
DTSTART;TZID=UTC:20240509T191500
DTEND;TZID=UTC:20240509T201500
DTSTAMP:20260421T025407
CREATED:20240507T021906Z
LAST-MODIFIED:20240507T021906Z
UID:10001316-1715282100-1715285700@templeisraelorlando.org
SUMMARY:Ritual Committee
DESCRIPTION:
URL:https://templeisraelorlando.org/event/ritual-committee/
CATEGORIES:Committee meeting
END:VEVENT
END:VCALENDAR