BEGIN:VCALENDAR
VERSION:2.0
PRODID:-//Temple Israel - ECPv6.15.17.1//NONSGML v1.0//EN
CALSCALE:GREGORIAN
METHOD:PUBLISH
X-ORIGINAL-URL:https://templeisraelorlando.org
X-WR-CALDESC:Events for Temple Israel
REFRESH-INTERVAL;VALUE=DURATION:PT1H
X-Robots-Tag:noindex
X-PUBLISHED-TTL:PT1H
BEGIN:VTIMEZONE
TZID:UTC
BEGIN:STANDARD
TZOFFSETFROM:+0000
TZOFFSETTO:+0000
TZNAME:UTC
DTSTART:20230101T000000
END:STANDARD
END:VTIMEZONE
BEGIN:VEVENT
DTSTART;TZID=UTC:20240606T193000
DTEND;TZID=UTC:20240606T203000
DTSTAMP:20260421T053046
CREATED:20240510T154654Z
LAST-MODIFIED:20240510T154654Z
UID:10001688-1717702200-1717705800@templeisraelorlando.org
SUMMARY:Safety & Security Committee
DESCRIPTION:
URL:https://templeisraelorlando.org/event/safety-security-committee/
CATEGORIES:Committee meeting
END:VEVENT
END:VCALENDAR