BEGIN:VCALENDAR
VERSION:2.0
PRODID:-//Temple Israel - ECPv6.15.17.1//NONSGML v1.0//EN
CALSCALE:GREGORIAN
METHOD:PUBLISH
X-WR-CALNAME:Temple Israel
X-ORIGINAL-URL:https://templeisraelorlando.org
X-WR-CALDESC:Events for Temple Israel
REFRESH-INTERVAL;VALUE=DURATION:PT1H
X-Robots-Tag:noindex
X-PUBLISHED-TTL:PT1H
BEGIN:VTIMEZONE
TZID:UTC
BEGIN:STANDARD
TZOFFSETFROM:+0000
TZOFFSETTO:+0000
TZNAME:UTC
DTSTART:20230101T000000
END:STANDARD
END:VTIMEZONE
BEGIN:VEVENT
DTSTART;TZID=UTC:20240610T113000
DTEND;TZID=UTC:20240610T123000
DTSTAMP:20260421T060657
CREATED:20240513T174114Z
LAST-MODIFIED:20240513T174114Z
UID:10001692-1718019000-1718022600@templeisraelorlando.org
SUMMARY:MAGAL Committee
DESCRIPTION:Via Zoom.
URL:https://templeisraelorlando.org/event/magal-committee-2/
CATEGORIES:Committee meeting
END:VEVENT
END:VCALENDAR