BEGIN:VCALENDAR
VERSION:2.0
PRODID:-//Temple Israel - ECPv6.15.17.1//NONSGML v1.0//EN
CALSCALE:GREGORIAN
METHOD:PUBLISH
X-WR-CALNAME:Temple Israel
X-ORIGINAL-URL:https://templeisraelorlando.org
X-WR-CALDESC:Events for Temple Israel
REFRESH-INTERVAL;VALUE=DURATION:PT1H
X-Robots-Tag:noindex
X-PUBLISHED-TTL:PT1H
BEGIN:VTIMEZONE
TZID:America/New_York
BEGIN:DAYLIGHT
TZOFFSETFROM:-0500
TZOFFSETTO:-0400
TZNAME:EDT
DTSTART:20230312T070000
END:DAYLIGHT
BEGIN:STANDARD
TZOFFSETFROM:-0400
TZOFFSETTO:-0500
TZNAME:EST
DTSTART:20231105T060000
END:STANDARD
BEGIN:DAYLIGHT
TZOFFSETFROM:-0500
TZOFFSETTO:-0400
TZNAME:EDT
DTSTART:20240310T070000
END:DAYLIGHT
BEGIN:STANDARD
TZOFFSETFROM:-0400
TZOFFSETTO:-0500
TZNAME:EST
DTSTART:20241103T060000
END:STANDARD
BEGIN:DAYLIGHT
TZOFFSETFROM:-0500
TZOFFSETTO:-0400
TZNAME:EDT
DTSTART:20250309T070000
END:DAYLIGHT
BEGIN:STANDARD
TZOFFSETFROM:-0400
TZOFFSETTO:-0500
TZNAME:EST
DTSTART:20251102T060000
END:STANDARD
END:VTIMEZONE
BEGIN:VTIMEZONE
TZID:UTC
BEGIN:STANDARD
TZOFFSETFROM:+0000
TZOFFSETTO:+0000
TZNAME:UTC
DTSTART:20230101T000000
END:STANDARD
END:VTIMEZONE
BEGIN:VEVENT
DTSTART;TZID=America/New_York:20240729T113000
DTEND;TZID=America/New_York:20240729T123000
DTSTAMP:20260420T015407
CREATED:20240610T180021Z
LAST-MODIFIED:20240610T180021Z
UID:10001953-1722252600-1722256200@templeisraelorlando.org
SUMMARY:MAGAL Committee
DESCRIPTION:
URL:https://templeisraelorlando.org/event/magal-committee-4/
CATEGORIES:Committee meeting
END:VEVENT
BEGIN:VEVENT
DTSTART;TZID=America/New_York:20240722T193000
DTEND;TZID=America/New_York:20240722T210000
DTSTAMP:20260420T015407
CREATED:20240524T010900Z
LAST-MODIFIED:20240605T215903Z
UID:10001937-1721676600-1721682000@templeisraelorlando.org
SUMMARY:Strategic Planning Committee
DESCRIPTION:
URL:https://templeisraelorlando.org/event/strategic-planning-committee-2/
CATEGORIES:Committee meeting
END:VEVENT
BEGIN:VEVENT
DTSTART;TZID=America/New_York:20240721T100000
DTEND;TZID=America/New_York:20240721T170000
DTSTAMP:20260420T015407
CREATED:20240605T163857Z
LAST-MODIFIED:20240605T163857Z
UID:10001944-1721556000-1721581200@templeisraelorlando.org
SUMMARY:Budget and Finance Committee
DESCRIPTION:
URL:https://templeisraelorlando.org/event/budget-and-finance-committee-2/
CATEGORIES:Committee meeting
END:VEVENT
BEGIN:VEVENT
DTSTART;TZID=America/New_York:20240714T100000
DTEND;TZID=America/New_York:20240714T120000
DTSTAMP:20260420T015407
CREATED:20240617T182643Z
LAST-MODIFIED:20240617T182643Z
UID:10001956-1720951200-1720958400@templeisraelorlando.org
SUMMARY:Temple Israel Cemetery Corporation Quarterly Board Meeting
DESCRIPTION:
URL:https://templeisraelorlando.org/event/temple-israel-cemetery-corporation-quarterly-board-meeting/
CATEGORIES:Committee meeting
END:VEVENT
BEGIN:VEVENT
DTSTART;TZID=America/New_York:20240711T193000
DTEND;TZID=America/New_York:20240711T213000
DTSTAMP:20260420T015407
CREATED:20240617T170244Z
LAST-MODIFIED:20240617T170244Z
UID:10001955-1720726200-1720733400@templeisraelorlando.org
SUMMARY:Safety and Security Committee
DESCRIPTION:
URL:https://templeisraelorlando.org/event/safety-and-security-committee/
CATEGORIES:Committee meeting
END:VEVENT
BEGIN:VEVENT
DTSTART;TZID=America/New_York:20240708T113000
DTEND;TZID=America/New_York:20240708T123000
DTSTAMP:20260420T015407
CREATED:20240610T175948Z
LAST-MODIFIED:20240610T175948Z
UID:10001952-1720438200-1720441800@templeisraelorlando.org
SUMMARY:MAGAL Committee
DESCRIPTION:
URL:https://templeisraelorlando.org/event/magal-committee-3/
CATEGORIES:Committee meeting
END:VEVENT
BEGIN:VEVENT
DTSTART;TZID=America/New_York:20240707T100000
DTEND;TZID=America/New_York:20240707T113000
DTSTAMP:20260420T015407
CREATED:20240515T192119Z
LAST-MODIFIED:20240515T192119Z
UID:10001811-1720346400-1720351800@templeisraelorlando.org
SUMMARY:Men's Club Committee
DESCRIPTION:
URL:https://templeisraelorlando.org/event/mens-club-committee/2024-07-07/
CATEGORIES:Committee meeting
END:VEVENT
BEGIN:VEVENT
DTSTART;TZID=America/New_York:20240702T193000
DTEND;TZID=America/New_York:20240702T203000
DTSTAMP:20260420T015407
CREATED:20240514T200645Z
LAST-MODIFIED:20240514T200645Z
UID:10001803-1719948600-1719952200@templeisraelorlando.org
SUMMARY:Ways and Means Committee
DESCRIPTION:
URL:https://templeisraelorlando.org/event/ways-and-means-committee-2/
CATEGORIES:Committee meeting
END:VEVENT
BEGIN:VEVENT
DTSTART;TZID=America/New_York:20240624T190000
DTEND;TZID=America/New_York:20240624T200000
DTSTAMP:20260420T015407
CREATED:20240507T032905Z
LAST-MODIFIED:20250825T133443Z
UID:10006475-1719255600-1719259200@templeisraelorlando.org
SUMMARY:Board of Directors
DESCRIPTION:
URL:https://templeisraelorlando.org/event/board-of-directors/2024-06-24/
CATEGORIES:Committee meeting
END:VEVENT
BEGIN:VEVENT
DTSTART;TZID=UTC:20240610T113000
DTEND;TZID=UTC:20240610T123000
DTSTAMP:20260420T015407
CREATED:20240513T174114Z
LAST-MODIFIED:20240513T174114Z
UID:10001692-1718019000-1718022600@templeisraelorlando.org
SUMMARY:MAGAL Committee
DESCRIPTION:Via Zoom.
URL:https://templeisraelorlando.org/event/magal-committee-2/
CATEGORIES:Committee meeting
END:VEVENT
BEGIN:VEVENT
DTSTART;TZID=America/New_York:20240609T200000
DTEND;TZID=America/New_York:20240609T210000
DTSTAMP:20260420T015407
CREATED:20240514T185319Z
LAST-MODIFIED:20240523T192639Z
UID:10001756-1717963200-1717966800@templeisraelorlando.org
SUMMARY:Budget and Finance Committee
DESCRIPTION:
URL:https://templeisraelorlando.org/event/budget-and-finance-committee/
CATEGORIES:Committee meeting
END:VEVENT
BEGIN:VEVENT
DTSTART;TZID=UTC:20240606T193000
DTEND;TZID=UTC:20240606T203000
DTSTAMP:20260420T015407
CREATED:20240510T154654Z
LAST-MODIFIED:20240510T154654Z
UID:10001688-1717702200-1717705800@templeisraelorlando.org
SUMMARY:Safety & Security Committee
DESCRIPTION:
URL:https://templeisraelorlando.org/event/safety-security-committee/
CATEGORIES:Committee meeting
END:VEVENT
BEGIN:VEVENT
DTSTART;TZID=America/New_York:20240604T193000
DTEND;TZID=America/New_York:20240604T213000
DTSTAMP:20260420T015407
CREATED:20240514T200525Z
LAST-MODIFIED:20240514T200544Z
UID:10001802-1717529400-1717536600@templeisraelorlando.org
SUMMARY:Ways and Means Committee
DESCRIPTION:
URL:https://templeisraelorlando.org/event/ways-and-means-committee/
CATEGORIES:Committee meeting
END:VEVENT
BEGIN:VEVENT
DTSTART;TZID=America/New_York:20240602T100000
DTEND;TZID=America/New_York:20240602T113000
DTSTAMP:20260420T015407
CREATED:20240515T192119Z
LAST-MODIFIED:20240515T192119Z
UID:10001810-1717322400-1717327800@templeisraelorlando.org
SUMMARY:Men's Club Committee
DESCRIPTION:
URL:https://templeisraelorlando.org/event/mens-club-committee/2024-06-02/
CATEGORIES:Committee meeting
END:VEVENT
BEGIN:VEVENT
DTSTART;TZID=UTC:20240530T191500
DTEND;TZID=UTC:20240530T200000
DTSTAMP:20260420T015407
CREATED:20240510T044724Z
LAST-MODIFIED:20240510T044724Z
UID:10001687-1717096500-1717099200@templeisraelorlando.org
SUMMARY:Ritual Committee
DESCRIPTION:
URL:https://templeisraelorlando.org/event/ritual-committee-3/
CATEGORIES:Committee meeting
END:VEVENT
BEGIN:VEVENT
DTSTART;TZID=UTC:20240523T193000
DTEND;TZID=UTC:20240523T203000
DTSTAMP:20260420T015407
CREATED:20240507T032957Z
LAST-MODIFIED:20240523T153633Z
UID:10001496-1716492600-1716496200@templeisraelorlando.org
SUMMARY:Strategic Planning Committee
DESCRIPTION:
URL:https://templeisraelorlando.org/event/strategic-planning-committee/
CATEGORIES:Committee meeting
END:VEVENT
BEGIN:VEVENT
DTSTART;TZID=America/New_York:20240519T100000
DTEND;TZID=America/New_York:20240519T113000
DTSTAMP:20260420T015407
CREATED:20240515T141426Z
LAST-MODIFIED:20240515T141426Z
UID:10001809-1716112800-1716118200@templeisraelorlando.org
SUMMARY:Budget & Finance
DESCRIPTION:
URL:https://templeisraelorlando.org/event/budget-finance/
LOCATION:Temple Israel\, 50 S Moss Road\, Winter Springs\, FL\, 32708\, United States
CATEGORIES:Committee meeting
END:VEVENT
BEGIN:VEVENT
DTSTART;TZID=UTC:20240513T113000
DTEND;TZID=UTC:20240513T123000
DTSTAMP:20260420T015407
CREATED:20240507T032642Z
LAST-MODIFIED:20240507T032642Z
UID:10001375-1715599800-1715603400@templeisraelorlando.org
SUMMARY:MAGAL Committee
DESCRIPTION:
URL:https://templeisraelorlando.org/event/magal-committee/
CATEGORIES:Committee meeting
END:VEVENT
BEGIN:VEVENT
DTSTART;TZID=UTC:20240509T191500
DTEND;TZID=UTC:20240509T201500
DTSTAMP:20260420T015407
CREATED:20240507T021906Z
LAST-MODIFIED:20240507T021906Z
UID:10001316-1715282100-1715285700@templeisraelorlando.org
SUMMARY:Ritual Committee
DESCRIPTION:
URL:https://templeisraelorlando.org/event/ritual-committee/
CATEGORIES:Committee meeting
END:VEVENT
END:VCALENDAR