BEGIN:VCALENDAR
VERSION:2.0
PRODID:-//Temple Israel - ECPv6.15.17.1//NONSGML v1.0//EN
CALSCALE:GREGORIAN
METHOD:PUBLISH
X-ORIGINAL-URL:https://templeisraelorlando.org
X-WR-CALDESC:Events for Temple Israel
REFRESH-INTERVAL;VALUE=DURATION:PT1H
X-Robots-Tag:noindex
X-PUBLISHED-TTL:PT1H
BEGIN:VTIMEZONE
TZID:America/New_York
BEGIN:DAYLIGHT
TZOFFSETFROM:-0500
TZOFFSETTO:-0400
TZNAME:EDT
DTSTART:20240310T070000
END:DAYLIGHT
BEGIN:STANDARD
TZOFFSETFROM:-0400
TZOFFSETTO:-0500
TZNAME:EST
DTSTART:20241103T060000
END:STANDARD
BEGIN:DAYLIGHT
TZOFFSETFROM:-0500
TZOFFSETTO:-0400
TZNAME:EDT
DTSTART:20250309T070000
END:DAYLIGHT
BEGIN:STANDARD
TZOFFSETFROM:-0400
TZOFFSETTO:-0500
TZNAME:EST
DTSTART:20251102T060000
END:STANDARD
BEGIN:DAYLIGHT
TZOFFSETFROM:-0500
TZOFFSETTO:-0400
TZNAME:EDT
DTSTART:20260308T070000
END:DAYLIGHT
BEGIN:STANDARD
TZOFFSETFROM:-0400
TZOFFSETTO:-0500
TZNAME:EST
DTSTART:20261101T060000
END:STANDARD
BEGIN:DAYLIGHT
TZOFFSETFROM:-0500
TZOFFSETTO:-0400
TZNAME:EDT
DTSTART:20270314T070000
END:DAYLIGHT
BEGIN:STANDARD
TZOFFSETFROM:-0400
TZOFFSETTO:-0500
TZNAME:EST
DTSTART:20271107T060000
END:STANDARD
END:VTIMEZONE
BEGIN:VEVENT
DTSTART;TZID=America/New_York:20260126T190000
DTEND;TZID=America/New_York:20260126T200000
DTSTAMP:20260419T123810
CREATED:20240507T032905Z
LAST-MODIFIED:20250825T133443Z
UID:10006489-1769454000-1769457600@templeisraelorlando.org
SUMMARY:Board of Directors
DESCRIPTION:
URL:https://templeisraelorlando.org/event/board-of-directors/2026-01-26/
CATEGORIES:Committee meeting
END:VEVENT
BEGIN:VEVENT
DTSTART;TZID=America/New_York:20260118T100000
DTEND;TZID=America/New_York:20260118T170000
DTSTAMP:20260419T123810
CREATED:20260112T200931Z
LAST-MODIFIED:20260112T200931Z
UID:10006876-1768730400-1768755600@templeisraelorlando.org
SUMMARY:TIMC Monthly Meeting
DESCRIPTION:
URL:https://templeisraelorlando.org/event/timc-monthly-meeting/
CATEGORIES:Committee meeting
END:VEVENT
BEGIN:VEVENT
DTSTART;TZID=America/New_York:20260112T110000
DTEND;TZID=America/New_York:20260112T120000
DTSTAMP:20260419T123810
CREATED:20251208T182801Z
LAST-MODIFIED:20251208T182801Z
UID:10006853-1768215600-1768219200@templeisraelorlando.org
SUMMARY:MAGAL Committee
DESCRIPTION:
URL:https://templeisraelorlando.org/event/magal-committee-17/
CATEGORIES:Committee meeting
END:VEVENT
BEGIN:VEVENT
DTSTART;TZID=America/New_York:20260111T100000
DTEND;TZID=America/New_York:20260111T110000
DTSTAMP:20260419T123810
CREATED:20251024T195317Z
LAST-MODIFIED:20251024T195318Z
UID:10006810-1768125600-1768129200@templeisraelorlando.org
SUMMARY:Men's Club Meeting
DESCRIPTION:
URL:https://templeisraelorlando.org/event/mens-club-meeting-2-2/2026-01-11/
CATEGORIES:Committee meeting
END:VEVENT
BEGIN:VEVENT
DTSTART;TZID=America/New_York:20251223T193000
DTEND;TZID=America/New_York:20251223T203000
DTSTAMP:20260419T123810
CREATED:20250630T172741Z
LAST-MODIFIED:20250825T133756Z
UID:10003119-1766518200-1766521800@templeisraelorlando.org
SUMMARY:Membership Committee Meeting
DESCRIPTION:
URL:https://templeisraelorlando.org/event/membership-committee-meeting-3/2025-12-23/
CATEGORIES:Committee meeting
END:VEVENT
BEGIN:VEVENT
DTSTART;TZID=America/New_York:20251222T190000
DTEND;TZID=America/New_York:20251222T200000
DTSTAMP:20260419T123810
CREATED:20240507T032905Z
LAST-MODIFIED:20250825T133443Z
UID:10006488-1766430000-1766433600@templeisraelorlando.org
SUMMARY:Board of Directors
DESCRIPTION:
URL:https://templeisraelorlando.org/event/board-of-directors/2025-12-22/
CATEGORIES:Committee meeting
END:VEVENT
BEGIN:VEVENT
DTSTART;TZID=America/New_York:20251218T190000
DTEND;TZID=America/New_York:20251218T200000
DTSTAMP:20260419T123810
CREATED:20250110T172703Z
LAST-MODIFIED:20250513T122732Z
UID:10002852-1766084400-1766088000@templeisraelorlando.org
SUMMARY:Ritual Committee
DESCRIPTION:
URL:https://templeisraelorlando.org/event/ritual-committee-2/2025-12-18/
CATEGORIES:Committee meeting
END:VEVENT
BEGIN:VEVENT
DTSTART;TZID=America/New_York:20251214T100000
DTEND;TZID=America/New_York:20251214T110000
DTSTAMP:20260419T123810
CREATED:20251024T195317Z
LAST-MODIFIED:20251024T195318Z
UID:10006809-1765706400-1765710000@templeisraelorlando.org
SUMMARY:Men's Club Meeting
DESCRIPTION:
URL:https://templeisraelorlando.org/event/mens-club-meeting-2-2/2025-12-14/
CATEGORIES:Committee meeting
END:VEVENT
BEGIN:VEVENT
DTSTART;TZID=America/New_York:20251214T100000
DTEND;TZID=America/New_York:20251214T110000
DTSTAMP:20260419T123810
CREATED:20250909T130818Z
LAST-MODIFIED:20250909T130818Z
UID:10006755-1765706400-1765710000@templeisraelorlando.org
SUMMARY:Men's Club Meeting
DESCRIPTION:
URL:https://templeisraelorlando.org/event/mens-club-meeting-4/
CATEGORIES:Committee meeting
END:VEVENT
BEGIN:VEVENT
DTSTART;TZID=America/New_York:20251211T193000
DTEND;TZID=America/New_York:20251211T213000
DTSTAMP:20260419T123810
CREATED:20250110T171952Z
LAST-MODIFIED:20250110T171952Z
UID:10002840-1765481400-1765488600@templeisraelorlando.org
SUMMARY:Security and Safety Meeting
DESCRIPTION:
URL:https://templeisraelorlando.org/event/security-and-safety-meeting/2025-12-11/
CATEGORIES:Committee meeting
END:VEVENT
BEGIN:VEVENT
DTSTART;TZID=America/New_York:20251208T120000
DTEND;TZID=America/New_York:20251208T130000
DTSTAMP:20260419T123810
CREATED:20251117T172235Z
LAST-MODIFIED:20251117T172235Z
UID:10006844-1765195200-1765198800@templeisraelorlando.org
SUMMARY:MAGAL Committee
DESCRIPTION:
URL:https://templeisraelorlando.org/event/magal-committee-16/
CATEGORIES:Committee meeting
END:VEVENT
BEGIN:VEVENT
DTSTART;TZID=America/New_York:20251125T193000
DTEND;TZID=America/New_York:20251125T203000
DTSTAMP:20260419T123810
CREATED:20250630T172741Z
LAST-MODIFIED:20250825T133756Z
UID:10003118-1764099000-1764102600@templeisraelorlando.org
SUMMARY:Membership Committee Meeting
DESCRIPTION:
URL:https://templeisraelorlando.org/event/membership-committee-meeting-3/2025-11-25/
CATEGORIES:Committee meeting
END:VEVENT
BEGIN:VEVENT
DTSTART;TZID=America/New_York:20251124T190000
DTEND;TZID=America/New_York:20251124T200000
DTSTAMP:20260419T123810
CREATED:20240507T032905Z
LAST-MODIFIED:20250825T133443Z
UID:10006487-1764010800-1764014400@templeisraelorlando.org
SUMMARY:Board of Directors
DESCRIPTION:
URL:https://templeisraelorlando.org/event/board-of-directors/2025-11-24/
CATEGORIES:Committee meeting
END:VEVENT
BEGIN:VEVENT
DTSTART;TZID=America/New_York:20251120T190000
DTEND;TZID=America/New_York:20251120T200000
DTSTAMP:20260419T123810
CREATED:20250110T172703Z
LAST-MODIFIED:20250513T122732Z
UID:10002851-1763665200-1763668800@templeisraelorlando.org
SUMMARY:Ritual Committee
DESCRIPTION:
URL:https://templeisraelorlando.org/event/ritual-committee-2/2025-11-20/
CATEGORIES:Committee meeting
END:VEVENT
BEGIN:VEVENT
DTSTART;TZID=America/New_York:20251117T120000
DTEND;TZID=America/New_York:20251117T130000
DTSTAMP:20260419T123810
CREATED:20251020T163525Z
LAST-MODIFIED:20251020T163525Z
UID:10006791-1763380800-1763384400@templeisraelorlando.org
SUMMARY:MAGAL Committee
DESCRIPTION:
URL:https://templeisraelorlando.org/event/magal-committee-15/
CATEGORIES:Committee meeting
END:VEVENT
BEGIN:VEVENT
DTSTART;TZID=America/New_York:20251116T140000
DTEND;TZID=America/New_York:20251116T170000
DTSTAMP:20260419T123810
CREATED:20250117T165149Z
LAST-MODIFIED:20250929T181619Z
UID:10006772-1763301600-1763312400@templeisraelorlando.org
SUMMARY:TICC Quarterly Board Meeting
DESCRIPTION:
URL:https://templeisraelorlando.org/event/ticc-quarterly-board-meeting/2025-11-16/
CATEGORIES:Committee meeting
END:VEVENT
BEGIN:VEVENT
DTSTART;TZID=America/New_York:20251113T193000
DTEND;TZID=America/New_York:20251113T213000
DTSTAMP:20260419T123810
CREATED:20250110T171952Z
LAST-MODIFIED:20250110T171952Z
UID:10002839-1763062200-1763069400@templeisraelorlando.org
SUMMARY:Security and Safety Meeting
DESCRIPTION:
URL:https://templeisraelorlando.org/event/security-and-safety-meeting/2025-11-13/
CATEGORIES:Committee meeting
END:VEVENT
BEGIN:VEVENT
DTSTART;TZID=America/New_York:20251109T100000
DTEND;TZID=America/New_York:20251109T110000
DTSTAMP:20260419T123810
CREATED:20251024T195317Z
LAST-MODIFIED:20251024T195318Z
UID:10003100-1762682400-1762686000@templeisraelorlando.org
SUMMARY:Men's Club Meeting
DESCRIPTION:
URL:https://templeisraelorlando.org/event/mens-club-meeting-2-2/2025-11-09/
CATEGORIES:Committee meeting
END:VEVENT
BEGIN:VEVENT
DTSTART;TZID=America/New_York:20251028T193000
DTEND;TZID=America/New_York:20251028T203000
DTSTAMP:20260419T123810
CREATED:20250630T172741Z
LAST-MODIFIED:20250825T133756Z
UID:10003117-1761679800-1761683400@templeisraelorlando.org
SUMMARY:Membership Committee Meeting
DESCRIPTION:
URL:https://templeisraelorlando.org/event/membership-committee-meeting-3/2025-10-28/
CATEGORIES:Committee meeting
END:VEVENT
BEGIN:VEVENT
DTSTART;TZID=America/New_York:20251027T190000
DTEND;TZID=America/New_York:20251027T200000
DTSTAMP:20260419T123810
CREATED:20240507T032905Z
LAST-MODIFIED:20250825T133443Z
UID:10006486-1761591600-1761595200@templeisraelorlando.org
SUMMARY:Board of Directors
DESCRIPTION:
URL:https://templeisraelorlando.org/event/board-of-directors/2025-10-27/
CATEGORIES:Committee meeting
END:VEVENT
BEGIN:VEVENT
DTSTART;TZID=America/New_York:20251020T190000
DTEND;TZID=America/New_York:20251020T200000
DTSTAMP:20260419T123810
CREATED:20250928T233311Z
LAST-MODIFIED:20250928T233311Z
UID:10006771-1760986800-1760990400@templeisraelorlando.org
SUMMARY:Executive Committee
DESCRIPTION:
URL:https://templeisraelorlando.org/event/executive-committee-7/
CATEGORIES:Committee meeting
END:VEVENT
BEGIN:VEVENT
DTSTART;TZID=America/New_York:20251020T120000
DTEND;TZID=America/New_York:20251020T130000
DTSTAMP:20260419T123810
CREATED:20250904T175416Z
LAST-MODIFIED:20250904T175416Z
UID:10006689-1760961600-1760965200@templeisraelorlando.org
SUMMARY:MAGAL Committee
DESCRIPTION:
URL:https://templeisraelorlando.org/event/magal-committee-14/
CATEGORIES:Committee meeting
END:VEVENT
BEGIN:VEVENT
DTSTART;TZID=America/New_York:20251016T190000
DTEND;TZID=America/New_York:20251016T200000
DTSTAMP:20260419T123810
CREATED:20250110T172703Z
LAST-MODIFIED:20250513T122732Z
UID:10002850-1760641200-1760644800@templeisraelorlando.org
SUMMARY:Ritual Committee
DESCRIPTION:
URL:https://templeisraelorlando.org/event/ritual-committee-2/2025-10-16/
CATEGORIES:Committee meeting
END:VEVENT
BEGIN:VEVENT
DTSTART;TZID=America/New_York:20251009T193000
DTEND;TZID=America/New_York:20251009T213000
DTSTAMP:20260419T123810
CREATED:20250110T171952Z
LAST-MODIFIED:20250110T171952Z
UID:10002838-1760038200-1760045400@templeisraelorlando.org
SUMMARY:Security and Safety Meeting
DESCRIPTION:
URL:https://templeisraelorlando.org/event/security-and-safety-meeting/2025-10-09/
CATEGORIES:Committee meeting
END:VEVENT
BEGIN:VEVENT
DTSTART;TZID=America/New_York:20251005T100000
DTEND;TZID=America/New_York:20251005T110000
DTSTAMP:20260419T123810
CREATED:20250630T163653Z
LAST-MODIFIED:20250909T130703Z
UID:10003099-1759658400-1759662000@templeisraelorlando.org
SUMMARY:Men's Club Meeting
DESCRIPTION:
URL:https://templeisraelorlando.org/event/mens-club-meeting-2/2025-10-05/
CATEGORIES:Committee meeting
END:VEVENT
BEGIN:VEVENT
DTSTART;TZID=America/New_York:20250918T190000
DTEND;TZID=America/New_York:20250918T200000
DTSTAMP:20260419T123810
CREATED:20250110T172703Z
LAST-MODIFIED:20250513T122732Z
UID:10002849-1758222000-1758225600@templeisraelorlando.org
SUMMARY:Ritual Committee
DESCRIPTION:
URL:https://templeisraelorlando.org/event/ritual-committee-2/2025-09-18/
CATEGORIES:Committee meeting
END:VEVENT
BEGIN:VEVENT
DTSTART;TZID=America/New_York:20250915T190000
DTEND;TZID=America/New_York:20250915T200000
DTSTAMP:20260419T123810
CREATED:20250825T133521Z
LAST-MODIFIED:20250825T133521Z
UID:10006680-1757962800-1757966400@templeisraelorlando.org
SUMMARY:Board of Directors
DESCRIPTION:
URL:https://templeisraelorlando.org/event/board-of-directors-6/
CATEGORIES:Committee meeting
END:VEVENT
BEGIN:VEVENT
DTSTART;TZID=America/New_York:20250911T193000
DTEND;TZID=America/New_York:20250911T213000
DTSTAMP:20260419T123810
CREATED:20250110T171952Z
LAST-MODIFIED:20250110T171952Z
UID:10002837-1757619000-1757626200@templeisraelorlando.org
SUMMARY:Security and Safety Meeting
DESCRIPTION:
URL:https://templeisraelorlando.org/event/security-and-safety-meeting/2025-09-11/
CATEGORIES:Committee meeting
END:VEVENT
BEGIN:VEVENT
DTSTART;TZID=America/New_York:20250907T100000
DTEND;TZID=America/New_York:20250907T110000
DTSTAMP:20260419T123810
CREATED:20250630T163653Z
LAST-MODIFIED:20250909T130703Z
UID:10003098-1757239200-1757242800@templeisraelorlando.org
SUMMARY:Men's Club Meeting
DESCRIPTION:
URL:https://templeisraelorlando.org/event/mens-club-meeting-2/2025-09-07/
CATEGORIES:Committee meeting
END:VEVENT
BEGIN:VEVENT
DTSTART;TZID=America/New_York:20250904T130000
DTEND;TZID=America/New_York:20250904T140000
DTSTAMP:20260419T123811
CREATED:20250804T162919Z
LAST-MODIFIED:20250804T162919Z
UID:10006668-1756990800-1756994400@templeisraelorlando.org
SUMMARY:MAGAL Committee
DESCRIPTION:
URL:https://templeisraelorlando.org/event/magal-committee-13/
CATEGORIES:Committee meeting
END:VEVENT
END:VCALENDAR