BEGIN:VCALENDAR
VERSION:2.0
PRODID:-//Temple Israel - ECPv6.15.17.1//NONSGML v1.0//EN
CALSCALE:GREGORIAN
METHOD:PUBLISH
X-WR-CALNAME:Temple Israel
X-ORIGINAL-URL:https://templeisraelorlando.org
X-WR-CALDESC:Events for Temple Israel
REFRESH-INTERVAL;VALUE=DURATION:PT1H
X-Robots-Tag:noindex
X-PUBLISHED-TTL:PT1H
BEGIN:VTIMEZONE
TZID:America/New_York
BEGIN:DAYLIGHT
TZOFFSETFROM:-0500
TZOFFSETTO:-0400
TZNAME:EDT
DTSTART:20240310T070000
END:DAYLIGHT
BEGIN:STANDARD
TZOFFSETFROM:-0400
TZOFFSETTO:-0500
TZNAME:EST
DTSTART:20241103T060000
END:STANDARD
BEGIN:DAYLIGHT
TZOFFSETFROM:-0500
TZOFFSETTO:-0400
TZNAME:EDT
DTSTART:20250309T070000
END:DAYLIGHT
BEGIN:STANDARD
TZOFFSETFROM:-0400
TZOFFSETTO:-0500
TZNAME:EST
DTSTART:20251102T060000
END:STANDARD
BEGIN:DAYLIGHT
TZOFFSETFROM:-0500
TZOFFSETTO:-0400
TZNAME:EDT
DTSTART:20260308T070000
END:DAYLIGHT
BEGIN:STANDARD
TZOFFSETFROM:-0400
TZOFFSETTO:-0500
TZNAME:EST
DTSTART:20261101T060000
END:STANDARD
BEGIN:DAYLIGHT
TZOFFSETFROM:-0500
TZOFFSETTO:-0400
TZNAME:EDT
DTSTART:20270314T070000
END:DAYLIGHT
BEGIN:STANDARD
TZOFFSETFROM:-0400
TZOFFSETTO:-0500
TZNAME:EST
DTSTART:20271107T060000
END:STANDARD
END:VTIMEZONE
BEGIN:VEVENT
DTSTART;TZID=America/New_York:20251222T190000
DTEND;TZID=America/New_York:20251222T200000
DTSTAMP:20260419T221215
CREATED:20240507T032905Z
LAST-MODIFIED:20250825T133443Z
UID:10006488-1766430000-1766433600@templeisraelorlando.org
SUMMARY:Board of Directors
DESCRIPTION:
URL:https://templeisraelorlando.org/event/board-of-directors/2025-12-22/
CATEGORIES:Committee meeting
END:VEVENT
BEGIN:VEVENT
DTSTART;TZID=America/New_York:20251223T193000
DTEND;TZID=America/New_York:20251223T203000
DTSTAMP:20260419T221215
CREATED:20250630T172741Z
LAST-MODIFIED:20250825T133756Z
UID:10003119-1766518200-1766521800@templeisraelorlando.org
SUMMARY:Membership Committee Meeting
DESCRIPTION:
URL:https://templeisraelorlando.org/event/membership-committee-meeting-3/2025-12-23/
CATEGORIES:Committee meeting
END:VEVENT
BEGIN:VEVENT
DTSTART;TZID=America/New_York:20260111T100000
DTEND;TZID=America/New_York:20260111T110000
DTSTAMP:20260419T221215
CREATED:20251024T195317Z
LAST-MODIFIED:20251024T195318Z
UID:10006810-1768125600-1768129200@templeisraelorlando.org
SUMMARY:Men's Club Meeting
DESCRIPTION:
URL:https://templeisraelorlando.org/event/mens-club-meeting-2-2/2026-01-11/
CATEGORIES:Committee meeting
END:VEVENT
BEGIN:VEVENT
DTSTART;TZID=America/New_York:20260112T110000
DTEND;TZID=America/New_York:20260112T120000
DTSTAMP:20260419T221215
CREATED:20251208T182801Z
LAST-MODIFIED:20251208T182801Z
UID:10006853-1768215600-1768219200@templeisraelorlando.org
SUMMARY:MAGAL Committee
DESCRIPTION:
URL:https://templeisraelorlando.org/event/magal-committee-17/
CATEGORIES:Committee meeting
END:VEVENT
BEGIN:VEVENT
DTSTART;TZID=America/New_York:20260118T100000
DTEND;TZID=America/New_York:20260118T170000
DTSTAMP:20260419T221215
CREATED:20260112T200931Z
LAST-MODIFIED:20260112T200931Z
UID:10006876-1768730400-1768755600@templeisraelorlando.org
SUMMARY:TIMC Monthly Meeting
DESCRIPTION:
URL:https://templeisraelorlando.org/event/timc-monthly-meeting/
CATEGORIES:Committee meeting
END:VEVENT
BEGIN:VEVENT
DTSTART;TZID=America/New_York:20260126T190000
DTEND;TZID=America/New_York:20260126T200000
DTSTAMP:20260419T221215
CREATED:20240507T032905Z
LAST-MODIFIED:20250825T133443Z
UID:10006489-1769454000-1769457600@templeisraelorlando.org
SUMMARY:Board of Directors
DESCRIPTION:
URL:https://templeisraelorlando.org/event/board-of-directors/2026-01-26/
CATEGORIES:Committee meeting
END:VEVENT
BEGIN:VEVENT
DTSTART;TZID=America/New_York:20260127T193000
DTEND;TZID=America/New_York:20260127T203000
DTSTAMP:20260419T221215
CREATED:20250630T172741Z
LAST-MODIFIED:20250825T133756Z
UID:10003120-1769542200-1769545800@templeisraelorlando.org
SUMMARY:Membership Committee Meeting
DESCRIPTION:
URL:https://templeisraelorlando.org/event/membership-committee-meeting-3/2026-01-27/
CATEGORIES:Committee meeting
END:VEVENT
BEGIN:VEVENT
DTSTART;TZID=America/New_York:20260208T100000
DTEND;TZID=America/New_York:20260208T110000
DTSTAMP:20260419T221215
CREATED:20251024T195317Z
LAST-MODIFIED:20251024T195318Z
UID:10006811-1770544800-1770548400@templeisraelorlando.org
SUMMARY:Men's Club Meeting
DESCRIPTION:
URL:https://templeisraelorlando.org/event/mens-club-meeting-2-2/2026-02-08/
CATEGORIES:Committee meeting
END:VEVENT
BEGIN:VEVENT
DTSTART;TZID=America/New_York:20260209T110000
DTEND;TZID=America/New_York:20260209T120000
DTSTAMP:20260419T221215
CREATED:20260112T181944Z
LAST-MODIFIED:20260112T181944Z
UID:10006875-1770634800-1770638400@templeisraelorlando.org
SUMMARY:MAGAL Committee
DESCRIPTION:
URL:https://templeisraelorlando.org/event/magal-committee-18/
CATEGORIES:Committee meeting
END:VEVENT
BEGIN:VEVENT
DTSTART;TZID=America/New_York:20260210T193000
DTEND;TZID=America/New_York:20260210T203000
DTSTAMP:20260419T221215
CREATED:20260112T201103Z
LAST-MODIFIED:20260112T201338Z
UID:10006877-1770751800-1770755400@templeisraelorlando.org
SUMMARY:TIMC Monthly Meeting
DESCRIPTION:
URL:https://templeisraelorlando.org/event/timc-monthly-meeting-2/2026-02-10/
CATEGORIES:Committee meeting
END:VEVENT
BEGIN:VEVENT
DTSTART;TZID=America/New_York:20260223T190000
DTEND;TZID=America/New_York:20260223T200000
DTSTAMP:20260419T221215
CREATED:20240507T032905Z
LAST-MODIFIED:20250825T133443Z
UID:10006490-1771873200-1771876800@templeisraelorlando.org
SUMMARY:Board of Directors
DESCRIPTION:
URL:https://templeisraelorlando.org/event/board-of-directors/2026-02-23/
CATEGORIES:Committee meeting
END:VEVENT
BEGIN:VEVENT
DTSTART;TZID=America/New_York:20260224T193000
DTEND;TZID=America/New_York:20260224T203000
DTSTAMP:20260419T221215
CREATED:20250630T172741Z
LAST-MODIFIED:20250825T133756Z
UID:10003121-1771961400-1771965000@templeisraelorlando.org
SUMMARY:Membership Committee Meeting
DESCRIPTION:
URL:https://templeisraelorlando.org/event/membership-committee-meeting-3/2026-02-24/
CATEGORIES:Committee meeting
END:VEVENT
BEGIN:VEVENT
DTSTART;TZID=America/New_York:20260309T120000
DTEND;TZID=America/New_York:20260309T130000
DTSTAMP:20260419T221215
CREATED:20260209T181526Z
LAST-MODIFIED:20260209T181526Z
UID:10006900-1773057600-1773061200@templeisraelorlando.org
SUMMARY:MAGAL Committee
DESCRIPTION:
URL:https://templeisraelorlando.org/event/magal-committee-19/
CATEGORIES:Committee meeting
END:VEVENT
BEGIN:VEVENT
DTSTART;TZID=America/New_York:20260310T193000
DTEND;TZID=America/New_York:20260310T203000
DTSTAMP:20260419T221215
CREATED:20260112T201103Z
LAST-MODIFIED:20260112T201338Z
UID:10006879-1773171000-1773174600@templeisraelorlando.org
SUMMARY:TIMC Monthly Meeting
DESCRIPTION:
URL:https://templeisraelorlando.org/event/timc-monthly-meeting-2/2026-03-10/
CATEGORIES:Committee meeting
END:VEVENT
BEGIN:VEVENT
DTSTART;TZID=America/New_York:20260323T190000
DTEND;TZID=America/New_York:20260323T200000
DTSTAMP:20260419T221215
CREATED:20240507T032905Z
LAST-MODIFIED:20250825T133443Z
UID:10006491-1774292400-1774296000@templeisraelorlando.org
SUMMARY:Board of Directors
DESCRIPTION:
URL:https://templeisraelorlando.org/event/board-of-directors/2026-03-23/
CATEGORIES:Committee meeting
END:VEVENT
BEGIN:VEVENT
DTSTART;TZID=America/New_York:20260324T193000
DTEND;TZID=America/New_York:20260324T203000
DTSTAMP:20260419T221215
CREATED:20250630T172741Z
LAST-MODIFIED:20250825T133756Z
UID:10003122-1774380600-1774384200@templeisraelorlando.org
SUMMARY:Membership Committee Meeting
DESCRIPTION:
URL:https://templeisraelorlando.org/event/membership-committee-meeting-3/2026-03-24/
CATEGORIES:Committee meeting
END:VEVENT
BEGIN:VEVENT
DTSTART;TZID=America/New_York:20260326T191500
DTEND;TZID=America/New_York:20260326T201500
DTSTAMP:20260419T221215
CREATED:20260303T234723Z
LAST-MODIFIED:20260303T234723Z
UID:10007168-1774552500-1774556100@templeisraelorlando.org
SUMMARY:Ritual Committee
DESCRIPTION:
URL:https://templeisraelorlando.org/event/ritual-committee-5/
CATEGORIES:Committee meeting
END:VEVENT
BEGIN:VEVENT
DTSTART;TZID=America/New_York:20260416T193000
DTEND;TZID=America/New_York:20260416T203000
DTSTAMP:20260419T221215
CREATED:20260112T201153Z
LAST-MODIFIED:20260112T201153Z
UID:10006878-1776367800-1776371400@templeisraelorlando.org
SUMMARY:TIMC Monthly Meeting
DESCRIPTION:
URL:https://templeisraelorlando.org/event/timc-monthly-meeting-3/
CATEGORIES:Committee meeting
END:VEVENT
BEGIN:VEVENT
DTSTART;TZID=America/New_York:20260427T190000
DTEND;TZID=America/New_York:20260427T200000
DTSTAMP:20260419T221215
CREATED:20240507T032905Z
LAST-MODIFIED:20250825T133443Z
UID:10006492-1777316400-1777320000@templeisraelorlando.org
SUMMARY:Board of Directors
DESCRIPTION:
URL:https://templeisraelorlando.org/event/board-of-directors/2026-04-27/
CATEGORIES:Committee meeting
END:VEVENT
BEGIN:VEVENT
DTSTART;TZID=America/New_York:20260428T193000
DTEND;TZID=America/New_York:20260428T203000
DTSTAMP:20260419T221215
CREATED:20250630T172741Z
LAST-MODIFIED:20250825T133756Z
UID:10003123-1777404600-1777408200@templeisraelorlando.org
SUMMARY:Membership Committee Meeting
DESCRIPTION:
URL:https://templeisraelorlando.org/event/membership-committee-meeting-3/2026-04-28/
CATEGORIES:Committee meeting
END:VEVENT
BEGIN:VEVENT
DTSTART;TZID=America/New_York:20260504T120000
DTEND;TZID=America/New_York:20260504T130000
DTSTAMP:20260419T221215
CREATED:20260406T163300Z
LAST-MODIFIED:20260406T163300Z
UID:10007207-1777896000-1777899600@templeisraelorlando.org
SUMMARY:MAGAL Committee
DESCRIPTION:
URL:https://templeisraelorlando.org/event/magal-committee-20/
CATEGORIES:Committee meeting
END:VEVENT
BEGIN:VEVENT
DTSTART;TZID=America/New_York:20260525T190000
DTEND;TZID=America/New_York:20260525T200000
DTSTAMP:20260419T221215
CREATED:20240507T032905Z
LAST-MODIFIED:20250825T133443Z
UID:10006493-1779735600-1779739200@templeisraelorlando.org
SUMMARY:Board of Directors
DESCRIPTION:
URL:https://templeisraelorlando.org/event/board-of-directors/2026-05-25/
CATEGORIES:Committee meeting
END:VEVENT
BEGIN:VEVENT
DTSTART;TZID=America/New_York:20260526T193000
DTEND;TZID=America/New_York:20260526T203000
DTSTAMP:20260419T221215
CREATED:20250630T172741Z
LAST-MODIFIED:20250825T133756Z
UID:10003124-1779823800-1779827400@templeisraelorlando.org
SUMMARY:Membership Committee Meeting
DESCRIPTION:
URL:https://templeisraelorlando.org/event/membership-committee-meeting-3/2026-05-26/
CATEGORIES:Committee meeting
END:VEVENT
BEGIN:VEVENT
DTSTART;TZID=America/New_York:20260622T190000
DTEND;TZID=America/New_York:20260622T200000
DTSTAMP:20260419T221215
CREATED:20240507T032905Z
LAST-MODIFIED:20250825T133443Z
UID:10006494-1782154800-1782158400@templeisraelorlando.org
SUMMARY:Board of Directors
DESCRIPTION:
URL:https://templeisraelorlando.org/event/board-of-directors/2026-06-22/
CATEGORIES:Committee meeting
END:VEVENT
BEGIN:VEVENT
DTSTART;TZID=America/New_York:20260623T193000
DTEND;TZID=America/New_York:20260623T203000
DTSTAMP:20260419T221215
CREATED:20250630T172741Z
LAST-MODIFIED:20250825T133756Z
UID:10003125-1782243000-1782246600@templeisraelorlando.org
SUMMARY:Membership Committee Meeting
DESCRIPTION:
URL:https://templeisraelorlando.org/event/membership-committee-meeting-3/2026-06-23/
CATEGORIES:Committee meeting
END:VEVENT
BEGIN:VEVENT
DTSTART;TZID=America/New_York:20260727T190000
DTEND;TZID=America/New_York:20260727T200000
DTSTAMP:20260419T221215
CREATED:20240507T032905Z
LAST-MODIFIED:20250825T133443Z
UID:10006495-1785178800-1785182400@templeisraelorlando.org
SUMMARY:Board of Directors
DESCRIPTION:
URL:https://templeisraelorlando.org/event/board-of-directors/2026-07-27/
CATEGORIES:Committee meeting
END:VEVENT
BEGIN:VEVENT
DTSTART;TZID=America/New_York:20260728T193000
DTEND;TZID=America/New_York:20260728T203000
DTSTAMP:20260419T221215
CREATED:20250630T172741Z
LAST-MODIFIED:20250825T133756Z
UID:10003126-1785267000-1785270600@templeisraelorlando.org
SUMMARY:Membership Committee Meeting
DESCRIPTION:
URL:https://templeisraelorlando.org/event/membership-committee-meeting-3/2026-07-28/
CATEGORIES:Committee meeting
END:VEVENT
BEGIN:VEVENT
DTSTART;TZID=America/New_York:20260824T190000
DTEND;TZID=America/New_York:20260824T200000
DTSTAMP:20260419T221216
CREATED:20240507T032905Z
LAST-MODIFIED:20250825T133443Z
UID:10006496-1787598000-1787601600@templeisraelorlando.org
SUMMARY:Board of Directors
DESCRIPTION:
URL:https://templeisraelorlando.org/event/board-of-directors/2026-08-24/
CATEGORIES:Committee meeting
END:VEVENT
BEGIN:VEVENT
DTSTART;TZID=America/New_York:20260825T193000
DTEND;TZID=America/New_York:20260825T203000
DTSTAMP:20260419T221216
CREATED:20250630T172741Z
LAST-MODIFIED:20250825T133756Z
UID:10003127-1787686200-1787689800@templeisraelorlando.org
SUMMARY:Membership Committee Meeting
DESCRIPTION:
URL:https://templeisraelorlando.org/event/membership-committee-meeting-3/2026-08-25/
CATEGORIES:Committee meeting
END:VEVENT
BEGIN:VEVENT
DTSTART;TZID=America/New_York:20260922T193000
DTEND;TZID=America/New_York:20260922T203000
DTSTAMP:20260419T221216
CREATED:20250630T172741Z
LAST-MODIFIED:20250825T133756Z
UID:10003128-1790105400-1790109000@templeisraelorlando.org
SUMMARY:Membership Committee Meeting
DESCRIPTION:
URL:https://templeisraelorlando.org/event/membership-committee-meeting-3/2026-09-22/
CATEGORIES:Committee meeting
END:VEVENT
END:VCALENDAR