BEGIN:VCALENDAR
VERSION:2.0
PRODID:-//Temple Israel - ECPv6.15.17.1//NONSGML v1.0//EN
CALSCALE:GREGORIAN
METHOD:PUBLISH
X-ORIGINAL-URL:https://templeisraelorlando.org
X-WR-CALDESC:Events for Temple Israel
REFRESH-INTERVAL;VALUE=DURATION:PT1H
X-Robots-Tag:noindex
X-PUBLISHED-TTL:PT1H
BEGIN:VTIMEZONE
TZID:America/New_York
BEGIN:DAYLIGHT
TZOFFSETFROM:-0500
TZOFFSETTO:-0400
TZNAME:EDT
DTSTART:20250309T070000
END:DAYLIGHT
BEGIN:STANDARD
TZOFFSETFROM:-0400
TZOFFSETTO:-0500
TZNAME:EST
DTSTART:20251102T060000
END:STANDARD
BEGIN:DAYLIGHT
TZOFFSETFROM:-0500
TZOFFSETTO:-0400
TZNAME:EDT
DTSTART:20260308T070000
END:DAYLIGHT
BEGIN:STANDARD
TZOFFSETFROM:-0400
TZOFFSETTO:-0500
TZNAME:EST
DTSTART:20261101T060000
END:STANDARD
BEGIN:DAYLIGHT
TZOFFSETFROM:-0500
TZOFFSETTO:-0400
TZNAME:EDT
DTSTART:20270314T070000
END:DAYLIGHT
BEGIN:STANDARD
TZOFFSETFROM:-0400
TZOFFSETTO:-0500
TZNAME:EST
DTSTART:20271107T060000
END:STANDARD
BEGIN:DAYLIGHT
TZOFFSETFROM:-0500
TZOFFSETTO:-0400
TZNAME:EDT
DTSTART:20280312T070000
END:DAYLIGHT
BEGIN:STANDARD
TZOFFSETFROM:-0400
TZOFFSETTO:-0500
TZNAME:EST
DTSTART:20281105T060000
END:STANDARD
END:VTIMEZONE
BEGIN:VEVENT
DTSTART;TZID=America/New_York:20260922T193000
DTEND;TZID=America/New_York:20260922T203000
DTSTAMP:20260419T233917
CREATED:20250630T172741Z
LAST-MODIFIED:20250825T133756Z
UID:10003128-1790105400-1790109000@templeisraelorlando.org
SUMMARY:Membership Committee Meeting
DESCRIPTION:
URL:https://templeisraelorlando.org/event/membership-committee-meeting-3/2026-09-22/
CATEGORIES:Committee meeting
END:VEVENT
BEGIN:VEVENT
DTSTART;TZID=America/New_York:20260928T190000
DTEND;TZID=America/New_York:20260928T200000
DTSTAMP:20260419T233917
CREATED:20240507T032905Z
LAST-MODIFIED:20250825T133443Z
UID:10006497-1790622000-1790625600@templeisraelorlando.org
SUMMARY:Board of Directors
DESCRIPTION:
URL:https://templeisraelorlando.org/event/board-of-directors/2026-09-28/
CATEGORIES:Committee meeting
END:VEVENT
BEGIN:VEVENT
DTSTART;TZID=America/New_York:20261026T190000
DTEND;TZID=America/New_York:20261026T200000
DTSTAMP:20260419T233917
CREATED:20240507T032905Z
LAST-MODIFIED:20250825T133443Z
UID:10006498-1793041200-1793044800@templeisraelorlando.org
SUMMARY:Board of Directors
DESCRIPTION:
URL:https://templeisraelorlando.org/event/board-of-directors/2026-10-26/
CATEGORIES:Committee meeting
END:VEVENT
BEGIN:VEVENT
DTSTART;TZID=America/New_York:20261027T193000
DTEND;TZID=America/New_York:20261027T203000
DTSTAMP:20260419T233917
CREATED:20250630T172741Z
LAST-MODIFIED:20250825T133756Z
UID:10003129-1793129400-1793133000@templeisraelorlando.org
SUMMARY:Membership Committee Meeting
DESCRIPTION:
URL:https://templeisraelorlando.org/event/membership-committee-meeting-3/2026-10-27/
CATEGORIES:Committee meeting
END:VEVENT
BEGIN:VEVENT
DTSTART;TZID=America/New_York:20261123T190000
DTEND;TZID=America/New_York:20261123T200000
DTSTAMP:20260419T233917
CREATED:20240507T032905Z
LAST-MODIFIED:20250825T133443Z
UID:10006499-1795460400-1795464000@templeisraelorlando.org
SUMMARY:Board of Directors
DESCRIPTION:
URL:https://templeisraelorlando.org/event/board-of-directors/2026-11-23/
CATEGORIES:Committee meeting
END:VEVENT
BEGIN:VEVENT
DTSTART;TZID=America/New_York:20261124T193000
DTEND;TZID=America/New_York:20261124T203000
DTSTAMP:20260419T233917
CREATED:20250630T172741Z
LAST-MODIFIED:20250825T133756Z
UID:10003130-1795548600-1795552200@templeisraelorlando.org
SUMMARY:Membership Committee Meeting
DESCRIPTION:
URL:https://templeisraelorlando.org/event/membership-committee-meeting-3/2026-11-24/
CATEGORIES:Committee meeting
END:VEVENT
BEGIN:VEVENT
DTSTART;TZID=America/New_York:20261222T193000
DTEND;TZID=America/New_York:20261222T203000
DTSTAMP:20260419T233917
CREATED:20250630T172741Z
LAST-MODIFIED:20250825T133756Z
UID:10003131-1797967800-1797971400@templeisraelorlando.org
SUMMARY:Membership Committee Meeting
DESCRIPTION:
URL:https://templeisraelorlando.org/event/membership-committee-meeting-3/2026-12-22/
CATEGORIES:Committee meeting
END:VEVENT
BEGIN:VEVENT
DTSTART;TZID=America/New_York:20261228T190000
DTEND;TZID=America/New_York:20261228T200000
DTSTAMP:20260419T233917
CREATED:20240507T032905Z
LAST-MODIFIED:20250825T133443Z
UID:10006500-1798484400-1798488000@templeisraelorlando.org
SUMMARY:Board of Directors
DESCRIPTION:
URL:https://templeisraelorlando.org/event/board-of-directors/2026-12-28/
CATEGORIES:Committee meeting
END:VEVENT
BEGIN:VEVENT
DTSTART;TZID=America/New_York:20270125T190000
DTEND;TZID=America/New_York:20270125T200000
DTSTAMP:20260419T233917
CREATED:20240507T032905Z
LAST-MODIFIED:20250825T133443Z
UID:10006501-1800903600-1800907200@templeisraelorlando.org
SUMMARY:Board of Directors
DESCRIPTION:
URL:https://templeisraelorlando.org/event/board-of-directors/2027-01-25/
CATEGORIES:Committee meeting
END:VEVENT
BEGIN:VEVENT
DTSTART;TZID=America/New_York:20270126T193000
DTEND;TZID=America/New_York:20270126T203000
DTSTAMP:20260419T233917
CREATED:20250630T172741Z
LAST-MODIFIED:20250825T133756Z
UID:10003132-1800991800-1800995400@templeisraelorlando.org
SUMMARY:Membership Committee Meeting
DESCRIPTION:
URL:https://templeisraelorlando.org/event/membership-committee-meeting-3/2027-01-26/
CATEGORIES:Committee meeting
END:VEVENT
BEGIN:VEVENT
DTSTART;TZID=America/New_York:20270222T190000
DTEND;TZID=America/New_York:20270222T200000
DTSTAMP:20260419T233917
CREATED:20240507T032905Z
LAST-MODIFIED:20250825T133443Z
UID:10006502-1803322800-1803326400@templeisraelorlando.org
SUMMARY:Board of Directors
DESCRIPTION:
URL:https://templeisraelorlando.org/event/board-of-directors/2027-02-22/
CATEGORIES:Committee meeting
END:VEVENT
BEGIN:VEVENT
DTSTART;TZID=America/New_York:20270223T193000
DTEND;TZID=America/New_York:20270223T203000
DTSTAMP:20260419T233917
CREATED:20250630T172741Z
LAST-MODIFIED:20250825T133756Z
UID:10003133-1803411000-1803414600@templeisraelorlando.org
SUMMARY:Membership Committee Meeting
DESCRIPTION:
URL:https://templeisraelorlando.org/event/membership-committee-meeting-3/2027-02-23/
CATEGORIES:Committee meeting
END:VEVENT
BEGIN:VEVENT
DTSTART;TZID=America/New_York:20270322T190000
DTEND;TZID=America/New_York:20270322T200000
DTSTAMP:20260419T233917
CREATED:20240507T032905Z
LAST-MODIFIED:20250825T133443Z
UID:10006503-1805742000-1805745600@templeisraelorlando.org
SUMMARY:Board of Directors
DESCRIPTION:
URL:https://templeisraelorlando.org/event/board-of-directors/2027-03-22/
CATEGORIES:Committee meeting
END:VEVENT
BEGIN:VEVENT
DTSTART;TZID=America/New_York:20270323T193000
DTEND;TZID=America/New_York:20270323T203000
DTSTAMP:20260419T233917
CREATED:20250630T172741Z
LAST-MODIFIED:20250825T133756Z
UID:10003134-1805830200-1805833800@templeisraelorlando.org
SUMMARY:Membership Committee Meeting
DESCRIPTION:
URL:https://templeisraelorlando.org/event/membership-committee-meeting-3/2027-03-23/
CATEGORIES:Committee meeting
END:VEVENT
BEGIN:VEVENT
DTSTART;TZID=America/New_York:20270426T190000
DTEND;TZID=America/New_York:20270426T200000
DTSTAMP:20260419T233917
CREATED:20240507T032905Z
LAST-MODIFIED:20250825T133443Z
UID:10006504-1808766000-1808769600@templeisraelorlando.org
SUMMARY:Board of Directors
DESCRIPTION:
URL:https://templeisraelorlando.org/event/board-of-directors/2027-04-26/
CATEGORIES:Committee meeting
END:VEVENT
BEGIN:VEVENT
DTSTART;TZID=America/New_York:20270427T193000
DTEND;TZID=America/New_York:20270427T203000
DTSTAMP:20260419T233917
CREATED:20250630T172741Z
LAST-MODIFIED:20250825T133756Z
UID:10003135-1808854200-1808857800@templeisraelorlando.org
SUMMARY:Membership Committee Meeting
DESCRIPTION:
URL:https://templeisraelorlando.org/event/membership-committee-meeting-3/2027-04-27/
CATEGORIES:Committee meeting
END:VEVENT
BEGIN:VEVENT
DTSTART;TZID=America/New_York:20270524T190000
DTEND;TZID=America/New_York:20270524T200000
DTSTAMP:20260419T233917
CREATED:20240507T032905Z
LAST-MODIFIED:20250825T133443Z
UID:10006505-1811185200-1811188800@templeisraelorlando.org
SUMMARY:Board of Directors
DESCRIPTION:
URL:https://templeisraelorlando.org/event/board-of-directors/2027-05-24/
CATEGORIES:Committee meeting
END:VEVENT
BEGIN:VEVENT
DTSTART;TZID=America/New_York:20270525T193000
DTEND;TZID=America/New_York:20270525T203000
DTSTAMP:20260419T233917
CREATED:20250630T172741Z
LAST-MODIFIED:20250825T133756Z
UID:10003136-1811273400-1811277000@templeisraelorlando.org
SUMMARY:Membership Committee Meeting
DESCRIPTION:
URL:https://templeisraelorlando.org/event/membership-committee-meeting-3/2027-05-25/
CATEGORIES:Committee meeting
END:VEVENT
BEGIN:VEVENT
DTSTART;TZID=America/New_York:20270622T193000
DTEND;TZID=America/New_York:20270622T203000
DTSTAMP:20260419T233917
CREATED:20250630T172741Z
LAST-MODIFIED:20250825T133756Z
UID:10003137-1813692600-1813696200@templeisraelorlando.org
SUMMARY:Membership Committee Meeting
DESCRIPTION:
URL:https://templeisraelorlando.org/event/membership-committee-meeting-3/2027-06-22/
CATEGORIES:Committee meeting
END:VEVENT
BEGIN:VEVENT
DTSTART;TZID=America/New_York:20270628T190000
DTEND;TZID=America/New_York:20270628T200000
DTSTAMP:20260419T233917
CREATED:20240507T032905Z
LAST-MODIFIED:20250825T133443Z
UID:10006506-1814209200-1814212800@templeisraelorlando.org
SUMMARY:Board of Directors
DESCRIPTION:
URL:https://templeisraelorlando.org/event/board-of-directors/2027-06-28/
CATEGORIES:Committee meeting
END:VEVENT
BEGIN:VEVENT
DTSTART;TZID=America/New_York:20270726T190000
DTEND;TZID=America/New_York:20270726T200000
DTSTAMP:20260419T233917
CREATED:20240507T032905Z
LAST-MODIFIED:20250825T133443Z
UID:10006507-1816628400-1816632000@templeisraelorlando.org
SUMMARY:Board of Directors
DESCRIPTION:
URL:https://templeisraelorlando.org/event/board-of-directors/2027-07-26/
CATEGORIES:Committee meeting
END:VEVENT
BEGIN:VEVENT
DTSTART;TZID=America/New_York:20270727T193000
DTEND;TZID=America/New_York:20270727T203000
DTSTAMP:20260419T233917
CREATED:20250630T172741Z
LAST-MODIFIED:20250825T133756Z
UID:10003138-1816716600-1816720200@templeisraelorlando.org
SUMMARY:Membership Committee Meeting
DESCRIPTION:
URL:https://templeisraelorlando.org/event/membership-committee-meeting-3/2027-07-27/
CATEGORIES:Committee meeting
END:VEVENT
BEGIN:VEVENT
DTSTART;TZID=America/New_York:20270823T190000
DTEND;TZID=America/New_York:20270823T200000
DTSTAMP:20260419T233917
CREATED:20240507T032905Z
LAST-MODIFIED:20250825T133443Z
UID:10006508-1819047600-1819051200@templeisraelorlando.org
SUMMARY:Board of Directors
DESCRIPTION:
URL:https://templeisraelorlando.org/event/board-of-directors/2027-08-23/
CATEGORIES:Committee meeting
END:VEVENT
BEGIN:VEVENT
DTSTART;TZID=America/New_York:20270824T193000
DTEND;TZID=America/New_York:20270824T203000
DTSTAMP:20260419T233917
CREATED:20250630T172741Z
LAST-MODIFIED:20250825T133756Z
UID:10003139-1819135800-1819139400@templeisraelorlando.org
SUMMARY:Membership Committee Meeting
DESCRIPTION:
URL:https://templeisraelorlando.org/event/membership-committee-meeting-3/2027-08-24/
CATEGORIES:Committee meeting
END:VEVENT
BEGIN:VEVENT
DTSTART;TZID=America/New_York:20270927T190000
DTEND;TZID=America/New_York:20270927T200000
DTSTAMP:20260419T233917
CREATED:20240507T032905Z
LAST-MODIFIED:20250825T133443Z
UID:10006509-1822071600-1822075200@templeisraelorlando.org
SUMMARY:Board of Directors
DESCRIPTION:
URL:https://templeisraelorlando.org/event/board-of-directors/2027-09-27/
CATEGORIES:Committee meeting
END:VEVENT
BEGIN:VEVENT
DTSTART;TZID=America/New_York:20270928T193000
DTEND;TZID=America/New_York:20270928T203000
DTSTAMP:20260419T233917
CREATED:20250630T172741Z
LAST-MODIFIED:20250825T133756Z
UID:10003140-1822159800-1822163400@templeisraelorlando.org
SUMMARY:Membership Committee Meeting
DESCRIPTION:
URL:https://templeisraelorlando.org/event/membership-committee-meeting-3/2027-09-28/
CATEGORIES:Committee meeting
END:VEVENT
BEGIN:VEVENT
DTSTART;TZID=America/New_York:20271025T190000
DTEND;TZID=America/New_York:20271025T200000
DTSTAMP:20260419T233917
CREATED:20240507T032905Z
LAST-MODIFIED:20250825T133443Z
UID:10006510-1824490800-1824494400@templeisraelorlando.org
SUMMARY:Board of Directors
DESCRIPTION:
URL:https://templeisraelorlando.org/event/board-of-directors/2027-10-25/
CATEGORIES:Committee meeting
END:VEVENT
BEGIN:VEVENT
DTSTART;TZID=America/New_York:20271026T193000
DTEND;TZID=America/New_York:20271026T203000
DTSTAMP:20260419T233917
CREATED:20250630T172741Z
LAST-MODIFIED:20250825T133756Z
UID:10003141-1824579000-1824582600@templeisraelorlando.org
SUMMARY:Membership Committee Meeting
DESCRIPTION:
URL:https://templeisraelorlando.org/event/membership-committee-meeting-3/2027-10-26/
CATEGORIES:Committee meeting
END:VEVENT
BEGIN:VEVENT
DTSTART;TZID=America/New_York:20271122T190000
DTEND;TZID=America/New_York:20271122T200000
DTSTAMP:20260419T233917
CREATED:20240507T032905Z
LAST-MODIFIED:20250825T133443Z
UID:10006511-1826910000-1826913600@templeisraelorlando.org
SUMMARY:Board of Directors
DESCRIPTION:
URL:https://templeisraelorlando.org/event/board-of-directors/2027-11-22/
CATEGORIES:Committee meeting
END:VEVENT
BEGIN:VEVENT
DTSTART;TZID=America/New_York:20271123T193000
DTEND;TZID=America/New_York:20271123T203000
DTSTAMP:20260419T233917
CREATED:20250630T172741Z
LAST-MODIFIED:20250825T133756Z
UID:10003142-1826998200-1827001800@templeisraelorlando.org
SUMMARY:Membership Committee Meeting
DESCRIPTION:
URL:https://templeisraelorlando.org/event/membership-committee-meeting-3/2027-11-23/
CATEGORIES:Committee meeting
END:VEVENT
END:VCALENDAR