BEGIN:VCALENDAR
VERSION:2.0
PRODID:-//Temple Israel - ECPv6.15.17.1//NONSGML v1.0//EN
CALSCALE:GREGORIAN
METHOD:PUBLISH
X-ORIGINAL-URL:https://templeisraelorlando.org
X-WR-CALDESC:Events for Temple Israel
REFRESH-INTERVAL;VALUE=DURATION:PT1H
X-Robots-Tag:noindex
X-PUBLISHED-TTL:PT1H
BEGIN:VTIMEZONE
TZID:America/New_York
BEGIN:DAYLIGHT
TZOFFSETFROM:-0500
TZOFFSETTO:-0400
TZNAME:EDT
DTSTART:20270314T070000
END:DAYLIGHT
BEGIN:STANDARD
TZOFFSETFROM:-0400
TZOFFSETTO:-0500
TZNAME:EST
DTSTART:20271107T060000
END:STANDARD
BEGIN:DAYLIGHT
TZOFFSETFROM:-0500
TZOFFSETTO:-0400
TZNAME:EDT
DTSTART:20280312T070000
END:DAYLIGHT
BEGIN:STANDARD
TZOFFSETFROM:-0400
TZOFFSETTO:-0500
TZNAME:EST
DTSTART:20281105T060000
END:STANDARD
BEGIN:DAYLIGHT
TZOFFSETFROM:-0500
TZOFFSETTO:-0400
TZNAME:EDT
DTSTART:20290311T070000
END:DAYLIGHT
BEGIN:STANDARD
TZOFFSETFROM:-0400
TZOFFSETTO:-0500
TZNAME:EST
DTSTART:20291104T060000
END:STANDARD
BEGIN:DAYLIGHT
TZOFFSETFROM:-0500
TZOFFSETTO:-0400
TZNAME:EDT
DTSTART:20300310T070000
END:DAYLIGHT
BEGIN:STANDARD
TZOFFSETFROM:-0400
TZOFFSETTO:-0500
TZNAME:EST
DTSTART:20301103T060000
END:STANDARD
END:VTIMEZONE
BEGIN:VEVENT
DTSTART;TZID=America/New_York:20280828T190000
DTEND;TZID=America/New_York:20280828T200000
DTSTAMP:20260419T202636
CREATED:20240507T032905Z
LAST-MODIFIED:20250825T133443Z
UID:10006520-1851102000-1851105600@templeisraelorlando.org
SUMMARY:Board of Directors
DESCRIPTION:
URL:https://templeisraelorlando.org/event/board-of-directors/2028-08-28/
CATEGORIES:Committee meeting
END:VEVENT
BEGIN:VEVENT
DTSTART;TZID=America/New_York:20280925T190000
DTEND;TZID=America/New_York:20280925T200000
DTSTAMP:20260419T202636
CREATED:20240507T032905Z
LAST-MODIFIED:20250825T133443Z
UID:10006521-1853521200-1853524800@templeisraelorlando.org
SUMMARY:Board of Directors
DESCRIPTION:
URL:https://templeisraelorlando.org/event/board-of-directors/2028-09-25/
CATEGORIES:Committee meeting
END:VEVENT
BEGIN:VEVENT
DTSTART;TZID=America/New_York:20280926T193000
DTEND;TZID=America/New_York:20280926T203000
DTSTAMP:20260419T202636
CREATED:20250630T172741Z
LAST-MODIFIED:20250825T133756Z
UID:10003152-1853609400-1853613000@templeisraelorlando.org
SUMMARY:Membership Committee Meeting
DESCRIPTION:
URL:https://templeisraelorlando.org/event/membership-committee-meeting-3/2028-09-26/
CATEGORIES:Committee meeting
END:VEVENT
BEGIN:VEVENT
DTSTART;TZID=America/New_York:20281023T190000
DTEND;TZID=America/New_York:20281023T200000
DTSTAMP:20260419T202636
CREATED:20240507T032905Z
LAST-MODIFIED:20250825T133443Z
UID:10006522-1855940400-1855944000@templeisraelorlando.org
SUMMARY:Board of Directors
DESCRIPTION:
URL:https://templeisraelorlando.org/event/board-of-directors/2028-10-23/
CATEGORIES:Committee meeting
END:VEVENT
BEGIN:VEVENT
DTSTART;TZID=America/New_York:20281024T193000
DTEND;TZID=America/New_York:20281024T203000
DTSTAMP:20260419T202636
CREATED:20250630T172741Z
LAST-MODIFIED:20250825T133756Z
UID:10003153-1856028600-1856032200@templeisraelorlando.org
SUMMARY:Membership Committee Meeting
DESCRIPTION:
URL:https://templeisraelorlando.org/event/membership-committee-meeting-3/2028-10-24/
CATEGORIES:Committee meeting
END:VEVENT
BEGIN:VEVENT
DTSTART;TZID=America/New_York:20281127T190000
DTEND;TZID=America/New_York:20281127T200000
DTSTAMP:20260419T202636
CREATED:20240507T032905Z
LAST-MODIFIED:20250825T133443Z
UID:10006523-1858964400-1858968000@templeisraelorlando.org
SUMMARY:Board of Directors
DESCRIPTION:
URL:https://templeisraelorlando.org/event/board-of-directors/2028-11-27/
CATEGORIES:Committee meeting
END:VEVENT
BEGIN:VEVENT
DTSTART;TZID=America/New_York:20281128T193000
DTEND;TZID=America/New_York:20281128T203000
DTSTAMP:20260419T202636
CREATED:20250630T172741Z
LAST-MODIFIED:20250825T133756Z
UID:10003154-1859052600-1859056200@templeisraelorlando.org
SUMMARY:Membership Committee Meeting
DESCRIPTION:
URL:https://templeisraelorlando.org/event/membership-committee-meeting-3/2028-11-28/
CATEGORIES:Committee meeting
END:VEVENT
BEGIN:VEVENT
DTSTART;TZID=America/New_York:20281225T190000
DTEND;TZID=America/New_York:20281225T200000
DTSTAMP:20260419T202636
CREATED:20240507T032905Z
LAST-MODIFIED:20250825T133443Z
UID:10006524-1861383600-1861387200@templeisraelorlando.org
SUMMARY:Board of Directors
DESCRIPTION:
URL:https://templeisraelorlando.org/event/board-of-directors/2028-12-25/
CATEGORIES:Committee meeting
END:VEVENT
BEGIN:VEVENT
DTSTART;TZID=America/New_York:20281226T193000
DTEND;TZID=America/New_York:20281226T203000
DTSTAMP:20260419T202636
CREATED:20250630T172741Z
LAST-MODIFIED:20250825T133756Z
UID:10003155-1861471800-1861475400@templeisraelorlando.org
SUMMARY:Membership Committee Meeting
DESCRIPTION:
URL:https://templeisraelorlando.org/event/membership-committee-meeting-3/2028-12-26/
CATEGORIES:Committee meeting
END:VEVENT
BEGIN:VEVENT
DTSTART;TZID=America/New_York:20290122T190000
DTEND;TZID=America/New_York:20290122T200000
DTSTAMP:20260419T202636
CREATED:20240507T032905Z
LAST-MODIFIED:20250825T133443Z
UID:10006525-1863802800-1863806400@templeisraelorlando.org
SUMMARY:Board of Directors
DESCRIPTION:
URL:https://templeisraelorlando.org/event/board-of-directors/2029-01-22/
CATEGORIES:Committee meeting
END:VEVENT
BEGIN:VEVENT
DTSTART;TZID=America/New_York:20290123T193000
DTEND;TZID=America/New_York:20290123T203000
DTSTAMP:20260419T202636
CREATED:20250630T172741Z
LAST-MODIFIED:20250825T133756Z
UID:10003156-1863891000-1863894600@templeisraelorlando.org
SUMMARY:Membership Committee Meeting
DESCRIPTION:
URL:https://templeisraelorlando.org/event/membership-committee-meeting-3/2029-01-23/
CATEGORIES:Committee meeting
END:VEVENT
BEGIN:VEVENT
DTSTART;TZID=America/New_York:20290226T190000
DTEND;TZID=America/New_York:20290226T200000
DTSTAMP:20260419T202636
CREATED:20240507T032905Z
LAST-MODIFIED:20250825T133443Z
UID:10006526-1866826800-1866830400@templeisraelorlando.org
SUMMARY:Board of Directors
DESCRIPTION:
URL:https://templeisraelorlando.org/event/board-of-directors/2029-02-26/
CATEGORIES:Committee meeting
END:VEVENT
BEGIN:VEVENT
DTSTART;TZID=America/New_York:20290227T193000
DTEND;TZID=America/New_York:20290227T203000
DTSTAMP:20260419T202636
CREATED:20250630T172741Z
LAST-MODIFIED:20250825T133756Z
UID:10003157-1866915000-1866918600@templeisraelorlando.org
SUMMARY:Membership Committee Meeting
DESCRIPTION:
URL:https://templeisraelorlando.org/event/membership-committee-meeting-3/2029-02-27/
CATEGORIES:Committee meeting
END:VEVENT
BEGIN:VEVENT
DTSTART;TZID=America/New_York:20290326T190000
DTEND;TZID=America/New_York:20290326T200000
DTSTAMP:20260419T202636
CREATED:20240507T032905Z
LAST-MODIFIED:20250825T133443Z
UID:10006527-1869246000-1869249600@templeisraelorlando.org
SUMMARY:Board of Directors
DESCRIPTION:
URL:https://templeisraelorlando.org/event/board-of-directors/2029-03-26/
CATEGORIES:Committee meeting
END:VEVENT
BEGIN:VEVENT
DTSTART;TZID=America/New_York:20290327T193000
DTEND;TZID=America/New_York:20290327T203000
DTSTAMP:20260419T202636
CREATED:20250630T172741Z
LAST-MODIFIED:20250825T133756Z
UID:10003158-1869334200-1869337800@templeisraelorlando.org
SUMMARY:Membership Committee Meeting
DESCRIPTION:
URL:https://templeisraelorlando.org/event/membership-committee-meeting-3/2029-03-27/
CATEGORIES:Committee meeting
END:VEVENT
BEGIN:VEVENT
DTSTART;TZID=America/New_York:20290423T190000
DTEND;TZID=America/New_York:20290423T200000
DTSTAMP:20260419T202636
CREATED:20240507T032905Z
LAST-MODIFIED:20250825T133443Z
UID:10006528-1871665200-1871668800@templeisraelorlando.org
SUMMARY:Board of Directors
DESCRIPTION:
URL:https://templeisraelorlando.org/event/board-of-directors/2029-04-23/
CATEGORIES:Committee meeting
END:VEVENT
BEGIN:VEVENT
DTSTART;TZID=America/New_York:20290424T193000
DTEND;TZID=America/New_York:20290424T203000
DTSTAMP:20260419T202636
CREATED:20250630T172741Z
LAST-MODIFIED:20250825T133756Z
UID:10003159-1871753400-1871757000@templeisraelorlando.org
SUMMARY:Membership Committee Meeting
DESCRIPTION:
URL:https://templeisraelorlando.org/event/membership-committee-meeting-3/2029-04-24/
CATEGORIES:Committee meeting
END:VEVENT
BEGIN:VEVENT
DTSTART;TZID=America/New_York:20290522T193000
DTEND;TZID=America/New_York:20290522T203000
DTSTAMP:20260419T202636
CREATED:20250630T172741Z
LAST-MODIFIED:20250825T133756Z
UID:10003160-1874172600-1874176200@templeisraelorlando.org
SUMMARY:Membership Committee Meeting
DESCRIPTION:
URL:https://templeisraelorlando.org/event/membership-committee-meeting-3/2029-05-22/
CATEGORIES:Committee meeting
END:VEVENT
BEGIN:VEVENT
DTSTART;TZID=America/New_York:20290528T190000
DTEND;TZID=America/New_York:20290528T200000
DTSTAMP:20260419T202636
CREATED:20240507T032905Z
LAST-MODIFIED:20250825T133443Z
UID:10006529-1874689200-1874692800@templeisraelorlando.org
SUMMARY:Board of Directors
DESCRIPTION:
URL:https://templeisraelorlando.org/event/board-of-directors/2029-05-28/
CATEGORIES:Committee meeting
END:VEVENT
BEGIN:VEVENT
DTSTART;TZID=America/New_York:20290625T190000
DTEND;TZID=America/New_York:20290625T200000
DTSTAMP:20260419T202636
CREATED:20240507T032905Z
LAST-MODIFIED:20250825T133443Z
UID:10006530-1877108400-1877112000@templeisraelorlando.org
SUMMARY:Board of Directors
DESCRIPTION:
URL:https://templeisraelorlando.org/event/board-of-directors/2029-06-25/
CATEGORIES:Committee meeting
END:VEVENT
BEGIN:VEVENT
DTSTART;TZID=America/New_York:20290626T193000
DTEND;TZID=America/New_York:20290626T203000
DTSTAMP:20260419T202636
CREATED:20250630T172741Z
LAST-MODIFIED:20250825T133756Z
UID:10003161-1877196600-1877200200@templeisraelorlando.org
SUMMARY:Membership Committee Meeting
DESCRIPTION:
URL:https://templeisraelorlando.org/event/membership-committee-meeting-3/2029-06-26/
CATEGORIES:Committee meeting
END:VEVENT
BEGIN:VEVENT
DTSTART;TZID=America/New_York:20290723T190000
DTEND;TZID=America/New_York:20290723T200000
DTSTAMP:20260419T202636
CREATED:20240507T032905Z
LAST-MODIFIED:20250825T133443Z
UID:10006531-1879527600-1879531200@templeisraelorlando.org
SUMMARY:Board of Directors
DESCRIPTION:
URL:https://templeisraelorlando.org/event/board-of-directors/2029-07-23/
CATEGORIES:Committee meeting
END:VEVENT
BEGIN:VEVENT
DTSTART;TZID=America/New_York:20290724T193000
DTEND;TZID=America/New_York:20290724T203000
DTSTAMP:20260419T202636
CREATED:20250630T172741Z
LAST-MODIFIED:20250825T133756Z
UID:10003162-1879615800-1879619400@templeisraelorlando.org
SUMMARY:Membership Committee Meeting
DESCRIPTION:
URL:https://templeisraelorlando.org/event/membership-committee-meeting-3/2029-07-24/
CATEGORIES:Committee meeting
END:VEVENT
BEGIN:VEVENT
DTSTART;TZID=America/New_York:20290827T190000
DTEND;TZID=America/New_York:20290827T200000
DTSTAMP:20260419T202636
CREATED:20240507T032905Z
LAST-MODIFIED:20250825T133443Z
UID:10006532-1882551600-1882555200@templeisraelorlando.org
SUMMARY:Board of Directors
DESCRIPTION:
URL:https://templeisraelorlando.org/event/board-of-directors/2029-08-27/
CATEGORIES:Committee meeting
END:VEVENT
BEGIN:VEVENT
DTSTART;TZID=America/New_York:20290828T193000
DTEND;TZID=America/New_York:20290828T203000
DTSTAMP:20260419T202636
CREATED:20250630T172741Z
LAST-MODIFIED:20250825T133756Z
UID:10003163-1882639800-1882643400@templeisraelorlando.org
SUMMARY:Membership Committee Meeting
DESCRIPTION:
URL:https://templeisraelorlando.org/event/membership-committee-meeting-3/2029-08-28/
CATEGORIES:Committee meeting
END:VEVENT
BEGIN:VEVENT
DTSTART;TZID=America/New_York:20290924T190000
DTEND;TZID=America/New_York:20290924T200000
DTSTAMP:20260419T202636
CREATED:20240507T032905Z
LAST-MODIFIED:20250825T133443Z
UID:10006533-1884970800-1884974400@templeisraelorlando.org
SUMMARY:Board of Directors
DESCRIPTION:
URL:https://templeisraelorlando.org/event/board-of-directors/2029-09-24/
CATEGORIES:Committee meeting
END:VEVENT
BEGIN:VEVENT
DTSTART;TZID=America/New_York:20290925T193000
DTEND;TZID=America/New_York:20290925T203000
DTSTAMP:20260419T202636
CREATED:20250630T172741Z
LAST-MODIFIED:20250825T133756Z
UID:10003164-1885059000-1885062600@templeisraelorlando.org
SUMMARY:Membership Committee Meeting
DESCRIPTION:
URL:https://templeisraelorlando.org/event/membership-committee-meeting-3/2029-09-25/
CATEGORIES:Committee meeting
END:VEVENT
BEGIN:VEVENT
DTSTART;TZID=America/New_York:20291022T190000
DTEND;TZID=America/New_York:20291022T200000
DTSTAMP:20260419T202636
CREATED:20240507T032905Z
LAST-MODIFIED:20250825T133443Z
UID:10006534-1887390000-1887393600@templeisraelorlando.org
SUMMARY:Board of Directors
DESCRIPTION:
URL:https://templeisraelorlando.org/event/board-of-directors/2029-10-22/
CATEGORIES:Committee meeting
END:VEVENT
BEGIN:VEVENT
DTSTART;TZID=America/New_York:20291023T193000
DTEND;TZID=America/New_York:20291023T203000
DTSTAMP:20260419T202636
CREATED:20250630T172741Z
LAST-MODIFIED:20250825T133756Z
UID:10003165-1887478200-1887481800@templeisraelorlando.org
SUMMARY:Membership Committee Meeting
DESCRIPTION:
URL:https://templeisraelorlando.org/event/membership-committee-meeting-3/2029-10-23/
CATEGORIES:Committee meeting
END:VEVENT
BEGIN:VEVENT
DTSTART;TZID=America/New_York:20291126T190000
DTEND;TZID=America/New_York:20291126T200000
DTSTAMP:20260419T202636
CREATED:20240507T032905Z
LAST-MODIFIED:20250825T133443Z
UID:10006535-1890414000-1890417600@templeisraelorlando.org
SUMMARY:Board of Directors
DESCRIPTION:
URL:https://templeisraelorlando.org/event/board-of-directors/2029-11-26/
CATEGORIES:Committee meeting
END:VEVENT
END:VCALENDAR