BEGIN:VCALENDAR
VERSION:2.0
PRODID:-//Temple Israel - ECPv6.15.17.1//NONSGML v1.0//EN
CALSCALE:GREGORIAN
METHOD:PUBLISH
X-WR-CALNAME:Temple Israel
X-ORIGINAL-URL:https://templeisraelorlando.org
X-WR-CALDESC:Events for Temple Israel
REFRESH-INTERVAL;VALUE=DURATION:PT1H
X-Robots-Tag:noindex
X-PUBLISHED-TTL:PT1H
BEGIN:VTIMEZONE
TZID:America/New_York
BEGIN:DAYLIGHT
TZOFFSETFROM:-0500
TZOFFSETTO:-0400
TZNAME:EDT
DTSTART:20240310T070000
END:DAYLIGHT
BEGIN:STANDARD
TZOFFSETFROM:-0400
TZOFFSETTO:-0500
TZNAME:EST
DTSTART:20241103T060000
END:STANDARD
BEGIN:DAYLIGHT
TZOFFSETFROM:-0500
TZOFFSETTO:-0400
TZNAME:EDT
DTSTART:20250309T070000
END:DAYLIGHT
BEGIN:STANDARD
TZOFFSETFROM:-0400
TZOFFSETTO:-0500
TZNAME:EST
DTSTART:20251102T060000
END:STANDARD
BEGIN:DAYLIGHT
TZOFFSETFROM:-0500
TZOFFSETTO:-0400
TZNAME:EDT
DTSTART:20260308T070000
END:DAYLIGHT
BEGIN:STANDARD
TZOFFSETFROM:-0400
TZOFFSETTO:-0500
TZNAME:EST
DTSTART:20261101T060000
END:STANDARD
END:VTIMEZONE
BEGIN:VEVENT
DTSTART;TZID=America/New_York:20250103T100000
DTEND;TZID=America/New_York:20250103T110000
DTSTAMP:20260419T155756
CREATED:20240514T034609Z
LAST-MODIFIED:20250909T130745Z
UID:10006696-1735898400-1735902000@templeisraelorlando.org
SUMMARY:Men's Club Poker
DESCRIPTION:Join Temple Israel’s Men’s Club for a friendly game of poker and more! Everyone welcome!\n$10. Beer and snacks provided.\nContact Michael Danoff for more information and to RSVP at michael.danoff@gmail.com.
URL:https://templeisraelorlando.org/event/mens-club-poker/2025-01-03/
CATEGORIES:Event
END:VEVENT
BEGIN:VEVENT
DTSTART;TZID=America/New_York:20250112T100000
DTEND;TZID=America/New_York:20250112T110000
DTSTAMP:20260419T155756
CREATED:20240708T160626Z
LAST-MODIFIED:20240708T160917Z
UID:10001964-1736676000-1736679600@templeisraelorlando.org
SUMMARY:Women Making Moves - Sisterhood Zumba
DESCRIPTION:Sunday\, January 12th\n10:00am-10:45am\n$5 admission with Instructor Miritza Aguilar \nRegister to manager@tiflorida.org
URL:https://templeisraelorlando.org/event/women-making-moves-sisterhood-zumba/
CATEGORIES:Event
ATTACH;FMTTYPE=image/png:https://templeisraelorlando.org/wp-content/uploads/2024/07/Zumba.pdf.png
END:VEVENT
BEGIN:VEVENT
DTSTART;TZID=America/New_York:20250112T100000
DTEND;TZID=America/New_York:20250112T140000
DTSTAMP:20260419T155756
CREATED:20241119T164100Z
LAST-MODIFIED:20241119T164100Z
UID:10002559-1736676000-1736690400@templeisraelorlando.org
SUMMARY:FJMC Men’s Club & Brotherhood Meeting & Leadership Training
DESCRIPTION:
URL:https://templeisraelorlando.org/event/fjmc-mens-club-brotherhood-meeting-leadership-training/
CATEGORIES:Event
END:VEVENT
BEGIN:VEVENT
DTSTART;TZID=America/New_York:20250112T143000
DTEND;TZID=America/New_York:20250112T160000
DTSTAMP:20260419T155756
CREATED:20241104T164818Z
LAST-MODIFIED:20250101T151742Z
UID:10002501-1736692200-1736697600@templeisraelorlando.org
SUMMARY:USY Escape Room Event
DESCRIPTION:
URL:https://templeisraelorlando.org/event/usy-escape-room-event/
CATEGORIES:Event
END:VEVENT
BEGIN:VEVENT
DTSTART;TZID=America/New_York:20250114T130000
DTEND;TZID=America/New_York:20250114T170000
DTSTAMP:20260419T155756
CREATED:20250110T172935Z
LAST-MODIFIED:20250110T172935Z
UID:10002853-1736859600-1736874000@templeisraelorlando.org
SUMMARY:Memorial Service Linda Kwastel
DESCRIPTION:
URL:https://templeisraelorlando.org/event/memorial-service-linda-kwastel/
CATEGORIES:Event
END:VEVENT
BEGIN:VEVENT
DTSTART;TZID=America/New_York:20250118T080000
DTEND;TZID=America/New_York:20250118T170000
DTSTAMP:20260419T155756
CREATED:20250110T173324Z
LAST-MODIFIED:20250110T173324Z
UID:10002854-1737187200-1737219600@templeisraelorlando.org
SUMMARY:TSS B'nai Mitzvah Brooke Nielsen
DESCRIPTION:
URL:https://templeisraelorlando.org/event/tss-bnai-mitzvah-brooke-nielsen/
CATEGORIES:Event
END:VEVENT
BEGIN:VEVENT
DTSTART;TZID=America/New_York:20250126T090000
DTEND;TZID=America/New_York:20250126T100000
DTSTAMP:20260419T155756
CREATED:20241121T173502Z
LAST-MODIFIED:20241125T162640Z
UID:10002560-1737882000-1737885600@templeisraelorlando.org
SUMMARY:Sisterhood: Yoga
DESCRIPTION:
URL:https://templeisraelorlando.org/event/sisterhood-yoga/2025-01-26/
CATEGORIES:Event
ATTACH;FMTTYPE=image/png:https://templeisraelorlando.org/wp-content/uploads/2024/11/Sisterhood-Yoga-1.png
END:VEVENT
BEGIN:VEVENT
DTSTART;TZID=America/New_York:20250126T100000
DTEND;TZID=America/New_York:20250126T170000
DTSTAMP:20260419T155756
CREATED:20241106T173439Z
LAST-MODIFIED:20241106T173439Z
UID:10002509-1737885600-1737910800@templeisraelorlando.org
SUMMARY:Sisterhood: Painting Class with Yaela
DESCRIPTION:
URL:https://templeisraelorlando.org/event/sisterhood-painting-class-with-yaela/2025-01-26/
CATEGORIES:Event
ATTACH;FMTTYPE=image/png:https://templeisraelorlando.org/wp-content/uploads/2024/11/Paint-By-Numbers-with-Sisterhood-2025.pptx.png
END:VEVENT
BEGIN:VEVENT
DTSTART;TZID=America/New_York:20250126T120000
DTEND;TZID=America/New_York:20250126T130000
DTSTAMP:20260419T155756
CREATED:20241112T170223Z
LAST-MODIFIED:20241112T170223Z
UID:10002548-1737892800-1737896400@templeisraelorlando.org
SUMMARY:Sisterhood: Book Club
DESCRIPTION:
URL:https://templeisraelorlando.org/event/sisterhood-book-club-2/
CATEGORIES:Event
ATTACH;FMTTYPE=image/png:https://templeisraelorlando.org/wp-content/uploads/2024/11/Sisterhood-Book-Club.png
END:VEVENT
BEGIN:VEVENT
DTSTART;TZID=America/New_York:20250126T140000
DTEND;TZID=America/New_York:20250126T170000
DTSTAMP:20260419T155756
CREATED:20241104T164843Z
LAST-MODIFIED:20241104T164843Z
UID:10002502-1737900000-1737910800@templeisraelorlando.org
SUMMARY:Gesher Mini Golf Event
DESCRIPTION:
URL:https://templeisraelorlando.org/event/gesher-mini-golf-event/
CATEGORIES:Event
END:VEVENT
END:VCALENDAR