BEGIN:VCALENDAR
VERSION:2.0
PRODID:-//Temple Israel - ECPv6.15.17.1//NONSGML v1.0//EN
CALSCALE:GREGORIAN
METHOD:PUBLISH
X-ORIGINAL-URL:https://templeisraelorlando.org
X-WR-CALDESC:Events for Temple Israel
REFRESH-INTERVAL;VALUE=DURATION:PT1H
X-Robots-Tag:noindex
X-PUBLISHED-TTL:PT1H
BEGIN:VTIMEZONE
TZID:America/New_York
BEGIN:DAYLIGHT
TZOFFSETFROM:-0500
TZOFFSETTO:-0400
TZNAME:EDT
DTSTART:20240310T070000
END:DAYLIGHT
BEGIN:STANDARD
TZOFFSETFROM:-0400
TZOFFSETTO:-0500
TZNAME:EST
DTSTART:20241103T060000
END:STANDARD
BEGIN:DAYLIGHT
TZOFFSETFROM:-0500
TZOFFSETTO:-0400
TZNAME:EDT
DTSTART:20250309T070000
END:DAYLIGHT
BEGIN:STANDARD
TZOFFSETFROM:-0400
TZOFFSETTO:-0500
TZNAME:EST
DTSTART:20251102T060000
END:STANDARD
BEGIN:DAYLIGHT
TZOFFSETFROM:-0500
TZOFFSETTO:-0400
TZNAME:EDT
DTSTART:20260308T070000
END:DAYLIGHT
BEGIN:STANDARD
TZOFFSETFROM:-0400
TZOFFSETTO:-0500
TZNAME:EST
DTSTART:20261101T060000
END:STANDARD
END:VTIMEZONE
BEGIN:VEVENT
DTSTART;TZID=America/New_York:20250301T080000
DTEND;TZID=America/New_York:20250301T170000
DTSTAMP:20260419T080838
CREATED:20241230T165519Z
LAST-MODIFIED:20241230T165519Z
UID:10002829-1740816000-1740848400@templeisraelorlando.org
SUMMARY:Bob Kaplan Volunteer Shabbat
DESCRIPTION:
URL:https://templeisraelorlando.org/event/bob-kaplan-volunteer-shabbat/
CATEGORIES:Event
END:VEVENT
BEGIN:VEVENT
DTSTART;TZID=America/New_York:20250303T100000
DTEND;TZID=America/New_York:20250303T110000
DTSTAMP:20260419T080838
CREATED:20240514T034609Z
LAST-MODIFIED:20250909T130745Z
UID:10006698-1740996000-1740999600@templeisraelorlando.org
SUMMARY:Men's Club Poker
DESCRIPTION:Join Temple Israel’s Men’s Club for a friendly game of poker and more! Everyone welcome!\n$10. Beer and snacks provided.\nContact Michael Danoff for more information and to RSVP at michael.danoff@gmail.com.
URL:https://templeisraelorlando.org/event/mens-club-poker/2025-03-03/
CATEGORIES:Event
END:VEVENT
BEGIN:VEVENT
DTSTART;TZID=America/New_York:20250309T130000
DTEND;TZID=America/New_York:20250309T170000
DTSTAMP:20260419T080838
CREATED:20240909T171011Z
LAST-MODIFIED:20240918T200741Z
UID:10002202-1741525200-1741539600@templeisraelorlando.org
SUMMARY:Sisterhood: Glassblowing at the Orlando Glassblowing Center
DESCRIPTION:
URL:https://templeisraelorlando.org/event/sisterhood-glassblowing-at-the-orlando-glassblowing-center/
CATEGORIES:Event
ATTACH;FMTTYPE=image/png:https://templeisraelorlando.org/wp-content/uploads/2024/09/ilu.png
END:VEVENT
BEGIN:VEVENT
DTSTART;TZID=America/New_York:20250309T140000
DTEND;TZID=America/New_York:20250309T153000
DTSTAMP:20260419T080838
CREATED:20241104T164933Z
LAST-MODIFIED:20250209T145056Z
UID:10002504-1741528800-1741534200@templeisraelorlando.org
SUMMARY:Gesher Hike Event
DESCRIPTION:
URL:https://templeisraelorlando.org/event/gesher-event-tbd/
CATEGORIES:Event,Youth
END:VEVENT
BEGIN:VEVENT
DTSTART;TZID=America/New_York:20250313T080000
DTEND;TZID=America/New_York:20250313T170000
DTSTAMP:20260419T080838
CREATED:20250313T185645Z
LAST-MODIFIED:20250313T185645Z
UID:10002904-1741852800-1741885200@templeisraelorlando.org
SUMMARY:It's Vegas\, Baby! Casino Night
DESCRIPTION:
URL:https://templeisraelorlando.org/event/its-vegas-baby-casino-night/
CATEGORIES:Event
END:VEVENT
BEGIN:VEVENT
DTSTART;TZID=America/New_York:20250313T190000
DTEND;TZID=America/New_York:20250313T200000
DTSTAMP:20260419T080838
CREATED:20250304T165908Z
LAST-MODIFIED:20250304T165908Z
UID:10002900-1741892400-1741896000@templeisraelorlando.org
SUMMARY:Purim
DESCRIPTION:
URL:https://templeisraelorlando.org/event/purim/
CATEGORIES:Event
END:VEVENT
BEGIN:VEVENT
DTSTART;TZID=America/New_York:20250316T133000
DTEND;TZID=America/New_York:20250316T170000
DTSTAMP:20260419T080838
CREATED:20240924T182525Z
LAST-MODIFIED:20241112T170506Z
UID:10002487-1742131800-1742144400@templeisraelorlando.org
SUMMARY:Sisterhood: Pottery U Paint
DESCRIPTION:
URL:https://templeisraelorlando.org/event/sisterhood-pottery-u-paint/
CATEGORIES:Event
ATTACH;FMTTYPE=image/png:https://templeisraelorlando.org/wp-content/uploads/2024/09/ilu-3.png
END:VEVENT
BEGIN:VEVENT
DTSTART;VALUE=DATE:20250321
DTEND;VALUE=DATE:20250322
DTSTAMP:20260419T080838
CREATED:20240725T190405Z
LAST-MODIFIED:20240725T190405Z
UID:10001977-1742515200-1742601599@templeisraelorlando.org
SUMMARY:Bar Mitzvah of Alex Garcia
DESCRIPTION:
URL:https://templeisraelorlando.org/event/bar-mitzvah-of-alex-garcia/
CATEGORIES:Event
END:VEVENT
BEGIN:VEVENT
DTSTART;VALUE=DATE:20250322
DTEND;VALUE=DATE:20250323
DTSTAMP:20260419T080838
CREATED:20240725T190431Z
LAST-MODIFIED:20240725T190431Z
UID:10001978-1742601600-1742687999@templeisraelorlando.org
SUMMARY:Bar Mitzvah of Alex Garcia
DESCRIPTION:
URL:https://templeisraelorlando.org/event/bar-mitzvah-of-alex-garcia-2/
CATEGORIES:Event
END:VEVENT
BEGIN:VEVENT
DTSTART;TZID=America/New_York:20250329T080000
DTEND;TZID=America/New_York:20250329T170000
DTSTAMP:20260419T080838
CREATED:20250110T173446Z
LAST-MODIFIED:20250110T173446Z
UID:10002856-1743235200-1743267600@templeisraelorlando.org
SUMMARY:TSS B’nai Mitzvah Olivia Blair
DESCRIPTION:
URL:https://templeisraelorlando.org/event/tss-bnai-mitzvah-olivia-blair/
CATEGORIES:Event
END:VEVENT
BEGIN:VEVENT
DTSTART;TZID=America/New_York:20250330T090000
DTEND;TZID=America/New_York:20250330T100000
DTSTAMP:20260419T080838
CREATED:20241121T173502Z
LAST-MODIFIED:20241125T162640Z
UID:10002562-1743325200-1743328800@templeisraelorlando.org
SUMMARY:Sisterhood: Yoga
DESCRIPTION:
URL:https://templeisraelorlando.org/event/sisterhood-yoga/2025-03-30/
CATEGORIES:Event
ATTACH;FMTTYPE=image/png:https://templeisraelorlando.org/wp-content/uploads/2024/11/Sisterhood-Yoga-1.png
END:VEVENT
BEGIN:VEVENT
DTSTART;TZID=America/New_York:20250330T100000
DTEND;TZID=America/New_York:20250330T170000
DTSTAMP:20260419T080838
CREATED:20241106T173439Z
LAST-MODIFIED:20241106T173439Z
UID:10002511-1743328800-1743354000@templeisraelorlando.org
SUMMARY:Sisterhood: Painting Class with Yaela
DESCRIPTION:
URL:https://templeisraelorlando.org/event/sisterhood-painting-class-with-yaela/2025-03-30/
CATEGORIES:Event
ATTACH;FMTTYPE=image/png:https://templeisraelorlando.org/wp-content/uploads/2024/11/Paint-By-Numbers-with-Sisterhood-2025.pptx.png
END:VEVENT
END:VCALENDAR