BEGIN:VCALENDAR
VERSION:2.0
PRODID:-//Temple Israel - ECPv6.15.17.1//NONSGML v1.0//EN
CALSCALE:GREGORIAN
METHOD:PUBLISH
X-WR-CALNAME:Temple Israel
X-ORIGINAL-URL:https://templeisraelorlando.org
X-WR-CALDESC:Events for Temple Israel
REFRESH-INTERVAL;VALUE=DURATION:PT1H
X-Robots-Tag:noindex
X-PUBLISHED-TTL:PT1H
BEGIN:VTIMEZONE
TZID:UTC
BEGIN:STANDARD
TZOFFSETFROM:+0000
TZOFFSETTO:+0000
TZNAME:UTC
DTSTART:20230101T000000
END:STANDARD
END:VTIMEZONE
BEGIN:VEVENT
DTSTART;VALUE=DATE:20240601
DTEND;VALUE=DATE:20240602
DTSTAMP:20260420T140747
CREATED:20240507T033130Z
LAST-MODIFIED:20240507T033130Z
UID:10001498-1717200000-1717286399@templeisraelorlando.org
SUMMARY:Bat Mitzvah of Eden Marks
DESCRIPTION:
URL:https://templeisraelorlando.org/event/bat-mitzvah-of-eden-marks-2/
CATEGORIES:Event
END:VEVENT
END:VCALENDAR