BEGIN:VCALENDAR
VERSION:2.0
PRODID:-//Temple Israel - ECPv6.15.17.1//NONSGML v1.0//EN
CALSCALE:GREGORIAN
METHOD:PUBLISH
X-WR-CALNAME:Temple Israel
X-ORIGINAL-URL:https://templeisraelorlando.org
X-WR-CALDESC:Events for Temple Israel
REFRESH-INTERVAL;VALUE=DURATION:PT1H
X-Robots-Tag:noindex
X-PUBLISHED-TTL:PT1H
BEGIN:VTIMEZONE
TZID:America/New_York
BEGIN:DAYLIGHT
TZOFFSETFROM:-0500
TZOFFSETTO:-0400
TZNAME:EDT
DTSTART:20250309T070000
END:DAYLIGHT
BEGIN:STANDARD
TZOFFSETFROM:-0400
TZOFFSETTO:-0500
TZNAME:EST
DTSTART:20251102T060000
END:STANDARD
BEGIN:DAYLIGHT
TZOFFSETFROM:-0500
TZOFFSETTO:-0400
TZNAME:EDT
DTSTART:20260308T070000
END:DAYLIGHT
BEGIN:STANDARD
TZOFFSETFROM:-0400
TZOFFSETTO:-0500
TZNAME:EST
DTSTART:20261101T060000
END:STANDARD
BEGIN:DAYLIGHT
TZOFFSETFROM:-0500
TZOFFSETTO:-0400
TZNAME:EDT
DTSTART:20270314T070000
END:DAYLIGHT
BEGIN:STANDARD
TZOFFSETFROM:-0400
TZOFFSETTO:-0500
TZNAME:EST
DTSTART:20271107T060000
END:STANDARD
END:VTIMEZONE
BEGIN:VEVENT
DTSTART;TZID=America/New_York:20260301T123000
DTEND;TZID=America/New_York:20260301T143000
DTSTAMP:20260423T174013
CREATED:20260301T142343Z
LAST-MODIFIED:20260301T142343Z
UID:10007166-1772368200-1772375400@templeisraelorlando.org
SUMMARY:Sisterhood Hamentaschen Bake
DESCRIPTION:
URL:https://templeisraelorlando.org/event/sisterhood-hamentaschen-bake/
CATEGORIES:Event,Family
END:VEVENT
BEGIN:VEVENT
DTSTART;TZID=America/New_York:20260308T130000
DTEND;TZID=America/New_York:20260308T170000
DTSTAMP:20260423T174013
CREATED:20260202T143524Z
LAST-MODIFIED:20260202T143534Z
UID:10006893-1772974800-1772989200@templeisraelorlando.org
SUMMARY:Sisterhood: Pottery Painting at Color Me Mine
DESCRIPTION:
URL:https://templeisraelorlando.org/event/sisterhood-pottery-painting-at-color-me-mine/
CATEGORIES:Event
ATTACH;FMTTYPE=image/png:https://templeisraelorlando.org/wp-content/uploads/2026/02/ilu-1-scaled.png
END:VEVENT
BEGIN:VEVENT
DTSTART;TZID=America/New_York:20260402T170000
DTEND;TZID=America/New_York:20260402T210000
DTSTAMP:20260423T174013
CREATED:20260301T035336Z
LAST-MODIFIED:20260301T035336Z
UID:10007162-1775149200-1775163600@templeisraelorlando.org
SUMMARY:Community 2nd night seder
DESCRIPTION:
URL:https://templeisraelorlando.org/event/community-2nd-night-seder/
CATEGORIES:Event,Holiday
END:VEVENT
BEGIN:VEVENT
DTSTART;TZID=America/New_York:20260423T190000
DTEND;TZID=America/New_York:20260423T203000
DTSTAMP:20260423T174013
CREATED:20260412T165154Z
LAST-MODIFIED:20260412T165154Z
UID:10007273-1776970800-1776976200@templeisraelorlando.org
SUMMARY:TI Men's Club Monthly Social @ The Back Porch
DESCRIPTION:Join Men’s Club on the 4th Thursday of each month @ 7 PM at The Back Porch\, 145 Wekiva Springs Rd #161\, Longwood.
URL:https://templeisraelorlando.org/event/ti-mens-club-monthly-social-the-back-porch/2026-04-23/
CATEGORIES:Event
END:VEVENT
BEGIN:VEVENT
DTSTART;TZID=America/New_York:20260425T080000
DTEND;TZID=America/New_York:20260425T170000
DTSTAMP:20260423T174013
CREATED:20250407T143959Z
LAST-MODIFIED:20260405T114640Z
UID:10002947-1777104000-1777136400@templeisraelorlando.org
SUMMARY:Jonah Katz Bar Mitzvah
DESCRIPTION:
URL:https://templeisraelorlando.org/event/jonah-katz-bnai-mitzvah/
CATEGORIES:Event
END:VEVENT
BEGIN:VEVENT
DTSTART;TZID=America/New_York:20260426T130000
DTEND;TZID=America/New_York:20260426T140000
DTSTAMP:20260423T174013
CREATED:20260423T123249Z
LAST-MODIFIED:20260423T123305Z
UID:10007402-1777208400-1777212000@templeisraelorlando.org
SUMMARY:Sisterhood Kosher lunch Meet-up at Sabbaba Market
DESCRIPTION:Enjoy a delicious kosher meat lunch! No need to register. Just meet at 1 pm and pay Sabbaba directly.
URL:https://templeisraelorlando.org/event/sisterhood-meet-up-at-sabbaba-market/
CATEGORIES:Event
END:VEVENT
BEGIN:VEVENT
DTSTART;TZID=America/New_York:20260502T080000
DTEND;TZID=America/New_York:20260502T170000
DTSTAMP:20260423T174013
CREATED:20250110T174259Z
LAST-MODIFIED:20250302T160115Z
UID:10002860-1777708800-1777741200@templeisraelorlando.org
SUMMARY:Emma Kauffman Bat Mitzvah
DESCRIPTION:
URL:https://templeisraelorlando.org/event/emma-kauffman-bnai-mitzvah/
CATEGORIES:Event
END:VEVENT
BEGIN:VEVENT
DTSTART;TZID=America/New_York:20260503T100000
DTEND;TZID=America/New_York:20260503T110000
DTSTAMP:20260423T174013
CREATED:20260423T140231Z
LAST-MODIFIED:20260423T140231Z
UID:10007403-1777802400-1777806000@templeisraelorlando.org
SUMMARY:Sisterhood Book Club
DESCRIPTION:
URL:https://templeisraelorlando.org/event/sisterhood-book-club-6/
CATEGORIES:Event
END:VEVENT
BEGIN:VEVENT
DTSTART;TZID=America/New_York:20260508T170000
DTEND;TZID=America/New_York:20260508T183000
DTSTAMP:20260423T174013
CREATED:20260412T164837Z
LAST-MODIFIED:20260412T165527Z
UID:10007213-1778259600-1778265000@templeisraelorlando.org
SUMMARY:TI Men's Club Warm-Up Dinner @ Corfu Restaurant
DESCRIPTION:Join Men’s Club for dinner on the 2nd Friday of each month at Corfu Restaurant\, 124 W SR 434\, Winter Springs.
URL:https://templeisraelorlando.org/event/ti-mens-club-warm-up-dinner/2026-05-08/
CATEGORIES:Event
END:VEVENT
BEGIN:VEVENT
DTSTART;VALUE=DATE:20260509
DTEND;VALUE=DATE:20260510
DTSTAMP:20260423T174013
CREATED:20250425T200712Z
LAST-MODIFIED:20260203T205851Z
UID:10002955-1778284800-1778371199@templeisraelorlando.org
SUMMARY:AJ Wood Bar Mitzvah
DESCRIPTION:
URL:https://templeisraelorlando.org/event/aj-wood-bar-mitzvah/
CATEGORIES:Event
END:VEVENT
BEGIN:VEVENT
DTSTART;TZID=America/New_York:20260517T144500
DTEND;TZID=America/New_York:20260517T170000
DTSTAMP:20260423T174013
CREATED:20260423T140456Z
LAST-MODIFIED:20260423T140456Z
UID:10007404-1779029100-1779037200@templeisraelorlando.org
SUMMARY:Special Event: Mark Stone\, Mentalist
DESCRIPTION:Sunday\, May 17th @ 3:45 PM\, schmoozing starts @ 2:45 PM\nJoin us for this jaw-dropping ESP and mind-reading show!\nGet your tickets at templeisraelevents.com.
URL:https://templeisraelorlando.org/event/special-event-mark-stone-mentalist/
CATEGORIES:Event,Family
END:VEVENT
BEGIN:VEVENT
DTSTART;TZID=America/New_York:20260521T190000
DTEND;TZID=America/New_York:20260521T210000
DTSTAMP:20260423T174013
CREATED:20260413T210053Z
LAST-MODIFIED:20260413T210053Z
UID:10007334-1779390000-1779397200@templeisraelorlando.org
SUMMARY:Tikkun Leil Shavuot
DESCRIPTION:
URL:https://templeisraelorlando.org/event/tikkun-leil-shavuot-2/
CATEGORIES:Event,Holiday
END:VEVENT
BEGIN:VEVENT
DTSTART;TZID=America/New_York:20260524T094500
DTEND;TZID=America/New_York:20260524T123000
DTSTAMP:20260423T174013
CREATED:20260413T234644Z
LAST-MODIFIED:20260413T234644Z
UID:10007397-1779615900-1779625800@templeisraelorlando.org
SUMMARY:Men's Club: Annual Orchid Show
DESCRIPTION:Join TI Men’s Club on Sunday\, May 24th\, caravan will leave TI @ 9:45 AM\nAnnual Orchid Show of the Central Florida Orchid Society @ FL National Armory\, 2809 South Ferncreek Avenue\, Orlando\, FL 32806. RSVP to manager@tiflorida.org. Everyone welcome!
URL:https://templeisraelorlando.org/event/mens-club-annual-orchid-show/
CATEGORIES:Event,Family
END:VEVENT
BEGIN:VEVENT
DTSTART;TZID=America/New_York:20260528T190000
DTEND;TZID=America/New_York:20260528T203000
DTSTAMP:20260423T174013
CREATED:20260412T165154Z
LAST-MODIFIED:20260412T165154Z
UID:10007274-1779994800-1780000200@templeisraelorlando.org
SUMMARY:TI Men's Club Monthly Social @ The Back Porch
DESCRIPTION:Join Men’s Club on the 4th Thursday of each month @ 7 PM at The Back Porch\, 145 Wekiva Springs Rd #161\, Longwood.
URL:https://templeisraelorlando.org/event/ti-mens-club-monthly-social-the-back-porch/2026-05-28/
CATEGORIES:Event
END:VEVENT
BEGIN:VEVENT
DTSTART;TZID=America/New_York:20260531T100000
DTEND;TZID=America/New_York:20260531T120000
DTSTAMP:20260423T174013
CREATED:20260423T175433Z
LAST-MODIFIED:20260423T175433Z
UID:10007405-1780221600-1780228800@templeisraelorlando.org
SUMMARY:Sisterhood: Making Beaded Kippot\, Again!
DESCRIPTION:Sisterhood members $20\, non-members $25. \nAll materials included. RSVP at templeisraelevents.com.
URL:https://templeisraelorlando.org/event/sisterhood-making-beaded-kippot-again/
CATEGORIES:Event,Family
END:VEVENT
BEGIN:VEVENT
DTSTART;TZID=America/New_York:20260606T093000
DTEND;TZID=America/New_York:20260606T123000
DTSTAMP:20260423T174013
CREATED:20260422T174554Z
LAST-MODIFIED:20260422T174554Z
UID:10007401-1780738200-1780749000@templeisraelorlando.org
SUMMARY:Installation & Bob Kaplan Volunteer Shabbat
DESCRIPTION:
URL:https://templeisraelorlando.org/event/installation-bob-kaplan-volunteer-shabbat/
CATEGORIES:Event,Services
END:VEVENT
BEGIN:VEVENT
DTSTART;TZID=America/New_York:20260607T130000
DTEND;TZID=America/New_York:20260607T170000
DTSTAMP:20260423T174013
CREATED:20260202T143813Z
LAST-MODIFIED:20260202T143825Z
UID:10006894-1780837200-1780851600@templeisraelorlando.org
SUMMARY:Sisterhood: Bowling at Airport Lanes
DESCRIPTION:RSVP here!
URL:https://templeisraelorlando.org/event/sisterhood-bowling-at-airport-lanes/
CATEGORIES:Event
ATTACH;FMTTYPE=image/png:https://templeisraelorlando.org/wp-content/uploads/2026/02/Bowling.png
END:VEVENT
BEGIN:VEVENT
DTSTART;TZID=America/New_York:20260612T170000
DTEND;TZID=America/New_York:20260612T183000
DTSTAMP:20260423T174013
CREATED:20260412T164837Z
LAST-MODIFIED:20260412T165527Z
UID:10007214-1781283600-1781289000@templeisraelorlando.org
SUMMARY:TI Men's Club Warm-Up Dinner @ Corfu Restaurant
DESCRIPTION:Join Men’s Club for dinner on the 2nd Friday of each month at Corfu Restaurant\, 124 W SR 434\, Winter Springs.
URL:https://templeisraelorlando.org/event/ti-mens-club-warm-up-dinner/2026-06-12/
CATEGORIES:Event
END:VEVENT
BEGIN:VEVENT
DTSTART;TZID=America/New_York:20260625T190000
DTEND;TZID=America/New_York:20260625T203000
DTSTAMP:20260423T174013
CREATED:20260412T165154Z
LAST-MODIFIED:20260412T165154Z
UID:10007275-1782414000-1782419400@templeisraelorlando.org
SUMMARY:TI Men's Club Monthly Social @ The Back Porch
DESCRIPTION:Join Men’s Club on the 4th Thursday of each month @ 7 PM at The Back Porch\, 145 Wekiva Springs Rd #161\, Longwood.
URL:https://templeisraelorlando.org/event/ti-mens-club-monthly-social-the-back-porch/2026-06-25/
CATEGORIES:Event
END:VEVENT
BEGIN:VEVENT
DTSTART;TZID=America/New_York:20260710T170000
DTEND;TZID=America/New_York:20260710T183000
DTSTAMP:20260423T174013
CREATED:20260412T164837Z
LAST-MODIFIED:20260412T165527Z
UID:10007215-1783702800-1783708200@templeisraelorlando.org
SUMMARY:TI Men's Club Warm-Up Dinner @ Corfu Restaurant
DESCRIPTION:Join Men’s Club for dinner on the 2nd Friday of each month at Corfu Restaurant\, 124 W SR 434\, Winter Springs.
URL:https://templeisraelorlando.org/event/ti-mens-club-warm-up-dinner/2026-07-10/
CATEGORIES:Event
END:VEVENT
BEGIN:VEVENT
DTSTART;TZID=America/New_York:20260723T190000
DTEND;TZID=America/New_York:20260723T203000
DTSTAMP:20260423T174013
CREATED:20260412T165154Z
LAST-MODIFIED:20260412T165154Z
UID:10007276-1784833200-1784838600@templeisraelorlando.org
SUMMARY:TI Men's Club Monthly Social @ The Back Porch
DESCRIPTION:Join Men’s Club on the 4th Thursday of each month @ 7 PM at The Back Porch\, 145 Wekiva Springs Rd #161\, Longwood.
URL:https://templeisraelorlando.org/event/ti-mens-club-monthly-social-the-back-porch/2026-07-23/
CATEGORIES:Event
END:VEVENT
BEGIN:VEVENT
DTSTART;TZID=America/New_York:20260814T170000
DTEND;TZID=America/New_York:20260814T183000
DTSTAMP:20260423T174013
CREATED:20260412T164837Z
LAST-MODIFIED:20260412T165527Z
UID:10007216-1786726800-1786732200@templeisraelorlando.org
SUMMARY:TI Men's Club Warm-Up Dinner @ Corfu Restaurant
DESCRIPTION:Join Men’s Club for dinner on the 2nd Friday of each month at Corfu Restaurant\, 124 W SR 434\, Winter Springs.
URL:https://templeisraelorlando.org/event/ti-mens-club-warm-up-dinner/2026-08-14/
CATEGORIES:Event
END:VEVENT
BEGIN:VEVENT
DTSTART;TZID=America/New_York:20260816T124500
DTEND;TZID=America/New_York:20260816T133000
DTSTAMP:20260423T174013
CREATED:20260420T122819Z
LAST-MODIFIED:20260420T122819Z
UID:10007398-1786884300-1786887000@templeisraelorlando.org
SUMMARY:TI Youth: Jeremiah's Meet up
DESCRIPTION:Get cool for back to school! \nFor all our TI youth and their families at Jeremiah’s\, 1000 Willa Springs Dr\, Winter Springs\, FL 32708. Please RSVP to Jessica Wolf at 407-222-4312.
URL:https://templeisraelorlando.org/event/ti-youth-jeremiahs-meet-up/
CATEGORIES:Event,Family,Youth
END:VEVENT
BEGIN:VEVENT
DTSTART;TZID=America/New_York:20260827T190000
DTEND;TZID=America/New_York:20260827T203000
DTSTAMP:20260423T174013
CREATED:20260412T165154Z
LAST-MODIFIED:20260412T165154Z
UID:10007277-1787857200-1787862600@templeisraelorlando.org
SUMMARY:TI Men's Club Monthly Social @ The Back Porch
DESCRIPTION:Join Men’s Club on the 4th Thursday of each month @ 7 PM at The Back Porch\, 145 Wekiva Springs Rd #161\, Longwood.
URL:https://templeisraelorlando.org/event/ti-mens-club-monthly-social-the-back-porch/2026-08-27/
CATEGORIES:Event
END:VEVENT
BEGIN:VEVENT
DTSTART;TZID=America/New_York:20260829T080000
DTEND;TZID=America/New_York:20260829T170000
DTSTAMP:20260423T174013
CREATED:20250110T174334Z
LAST-MODIFIED:20250302T160057Z
UID:10002861-1787990400-1788022800@templeisraelorlando.org
SUMMARY:Adam Raij Bar Mitzvah
DESCRIPTION:
URL:https://templeisraelorlando.org/event/adam-raij-bnai-mitzvah/
CATEGORIES:Event
END:VEVENT
BEGIN:VEVENT
DTSTART;TZID=America/New_York:20260911T170000
DTEND;TZID=America/New_York:20260911T183000
DTSTAMP:20260423T174013
CREATED:20260412T164837Z
LAST-MODIFIED:20260412T165527Z
UID:10007217-1789146000-1789151400@templeisraelorlando.org
SUMMARY:TI Men's Club Warm-Up Dinner @ Corfu Restaurant
DESCRIPTION:Join Men’s Club for dinner on the 2nd Friday of each month at Corfu Restaurant\, 124 W SR 434\, Winter Springs.
URL:https://templeisraelorlando.org/event/ti-mens-club-warm-up-dinner/2026-09-11/
CATEGORIES:Event
END:VEVENT
BEGIN:VEVENT
DTSTART;TZID=America/New_York:20260924T190000
DTEND;TZID=America/New_York:20260924T203000
DTSTAMP:20260423T174013
CREATED:20260412T165154Z
LAST-MODIFIED:20260412T165154Z
UID:10007278-1790276400-1790281800@templeisraelorlando.org
SUMMARY:TI Men's Club Monthly Social @ The Back Porch
DESCRIPTION:Join Men’s Club on the 4th Thursday of each month @ 7 PM at The Back Porch\, 145 Wekiva Springs Rd #161\, Longwood.
URL:https://templeisraelorlando.org/event/ti-mens-club-monthly-social-the-back-porch/2026-09-24/
CATEGORIES:Event
END:VEVENT
BEGIN:VEVENT
DTSTART;TZID=America/New_York:20261009T170000
DTEND;TZID=America/New_York:20261009T183000
DTSTAMP:20260423T174013
CREATED:20260412T164837Z
LAST-MODIFIED:20260412T165527Z
UID:10007218-1791565200-1791570600@templeisraelorlando.org
SUMMARY:TI Men's Club Warm-Up Dinner @ Corfu Restaurant
DESCRIPTION:Join Men’s Club for dinner on the 2nd Friday of each month at Corfu Restaurant\, 124 W SR 434\, Winter Springs.
URL:https://templeisraelorlando.org/event/ti-mens-club-warm-up-dinner/2026-10-09/
CATEGORIES:Event
END:VEVENT
BEGIN:VEVENT
DTSTART;TZID=America/New_York:20261022T190000
DTEND;TZID=America/New_York:20261022T203000
DTSTAMP:20260423T174013
CREATED:20260412T165154Z
LAST-MODIFIED:20260412T165154Z
UID:10007279-1792695600-1792701000@templeisraelorlando.org
SUMMARY:TI Men's Club Monthly Social @ The Back Porch
DESCRIPTION:Join Men’s Club on the 4th Thursday of each month @ 7 PM at The Back Porch\, 145 Wekiva Springs Rd #161\, Longwood.
URL:https://templeisraelorlando.org/event/ti-mens-club-monthly-social-the-back-porch/2026-10-22/
CATEGORIES:Event
END:VEVENT
BEGIN:VEVENT
DTSTART;TZID=America/New_York:20261113T170000
DTEND;TZID=America/New_York:20261113T183000
DTSTAMP:20260423T174013
CREATED:20260412T164837Z
LAST-MODIFIED:20260412T165527Z
UID:10007219-1794589200-1794594600@templeisraelorlando.org
SUMMARY:TI Men's Club Warm-Up Dinner @ Corfu Restaurant
DESCRIPTION:Join Men’s Club for dinner on the 2nd Friday of each month at Corfu Restaurant\, 124 W SR 434\, Winter Springs.
URL:https://templeisraelorlando.org/event/ti-mens-club-warm-up-dinner/2026-11-13/
CATEGORIES:Event
END:VEVENT
END:VCALENDAR