BEGIN:VCALENDAR
VERSION:2.0
PRODID:-//Temple Israel - ECPv6.15.17.1//NONSGML v1.0//EN
CALSCALE:GREGORIAN
METHOD:PUBLISH
X-ORIGINAL-URL:https://templeisraelorlando.org
X-WR-CALDESC:Events for Temple Israel
REFRESH-INTERVAL;VALUE=DURATION:PT1H
X-Robots-Tag:noindex
X-PUBLISHED-TTL:PT1H
BEGIN:VTIMEZONE
TZID:America/New_York
BEGIN:DAYLIGHT
TZOFFSETFROM:-0500
TZOFFSETTO:-0400
TZNAME:EDT
DTSTART:20240310T070000
END:DAYLIGHT
BEGIN:STANDARD
TZOFFSETFROM:-0400
TZOFFSETTO:-0500
TZNAME:EST
DTSTART:20241103T060000
END:STANDARD
BEGIN:DAYLIGHT
TZOFFSETFROM:-0500
TZOFFSETTO:-0400
TZNAME:EDT
DTSTART:20250309T070000
END:DAYLIGHT
BEGIN:STANDARD
TZOFFSETFROM:-0400
TZOFFSETTO:-0500
TZNAME:EST
DTSTART:20251102T060000
END:STANDARD
BEGIN:DAYLIGHT
TZOFFSETFROM:-0500
TZOFFSETTO:-0400
TZNAME:EDT
DTSTART:20260308T070000
END:DAYLIGHT
BEGIN:STANDARD
TZOFFSETFROM:-0400
TZOFFSETTO:-0500
TZNAME:EST
DTSTART:20261101T060000
END:STANDARD
BEGIN:DAYLIGHT
TZOFFSETFROM:-0500
TZOFFSETTO:-0400
TZNAME:EDT
DTSTART:20270314T070000
END:DAYLIGHT
BEGIN:STANDARD
TZOFFSETFROM:-0400
TZOFFSETTO:-0500
TZNAME:EST
DTSTART:20271107T060000
END:STANDARD
BEGIN:DAYLIGHT
TZOFFSETFROM:-0500
TZOFFSETTO:-0400
TZNAME:EDT
DTSTART:20280312T070000
END:DAYLIGHT
BEGIN:STANDARD
TZOFFSETFROM:-0400
TZOFFSETTO:-0500
TZNAME:EST
DTSTART:20281105T060000
END:STANDARD
END:VTIMEZONE
BEGIN:VEVENT
DTSTART;TZID=America/New_York:20251005T123000
DTEND;TZID=America/New_York:20251005T131500
DTSTAMP:20260420T235210
CREATED:20250928T173003Z
LAST-MODIFIED:20250928T173003Z
UID:10006768-1759667400-1759670100@templeisraelorlando.org
SUMMARY:Zumba! with Miritza Aguilar
DESCRIPTION:Free and open to everyone aged 8 and above!
URL:https://templeisraelorlando.org/event/zumba-with-miritza-aguilar/
LOCATION:FL
CATEGORIES:Classes,Family
END:VEVENT
BEGIN:VEVENT
DTSTART;TZID=America/New_York:20251018T110000
DTEND;TZID=America/New_York:20251018T114500
DTSTAMP:20260420T235210
CREATED:20251016T130128Z
LAST-MODIFIED:20251016T130129Z
UID:10006359-1760785200-1760787900@templeisraelorlando.org
SUMMARY:Tot Shabbat
DESCRIPTION:
URL:https://templeisraelorlando.org/event/tot-shabbat-5/
LOCATION:FL
CATEGORIES:Family
END:VEVENT
BEGIN:VEVENT
DTSTART;TZID=America/New_York:20251122T110000
DTEND;TZID=America/New_York:20251122T114500
DTSTAMP:20260420T235210
CREATED:20250302T155928Z
LAST-MODIFIED:20250302T155928Z
UID:10002899-1763809200-1763811900@templeisraelorlando.org
SUMMARY:Tot Shabbat
DESCRIPTION:
URL:https://templeisraelorlando.org/event/tot-shabbat-3/
LOCATION:FL
CATEGORIES:Family
END:VEVENT
BEGIN:VEVENT
DTSTART;TZID=America/New_York:20251219T190000
DTEND;TZID=America/New_York:20251219T203000
DTSTAMP:20260420T235210
CREATED:20251116T203626Z
LAST-MODIFIED:20251116T203626Z
UID:10006840-1766170800-1766176200@templeisraelorlando.org
SUMMARY:TI Supper Club
DESCRIPTION:TI Supper Club – Latkes and Laughter \nSign up at templeisraelevents.com.
URL:https://templeisraelorlando.org/event/ti-supper-club-3/
LOCATION:FL
CATEGORIES:Event,Family
END:VEVENT
BEGIN:VEVENT
DTSTART;TZID=America/New_York:20251220T110000
DTEND;TZID=America/New_York:20251220T234500
DTSTAMP:20260420T235210
CREATED:20240507T033334Z
LAST-MODIFIED:20250715T172956Z
UID:10006360-1766228400-1766274300@templeisraelorlando.org
SUMMARY:Tot Shabbat
DESCRIPTION:
URL:https://templeisraelorlando.org/event/tot-shabbat/2025-12-20/
LOCATION:FL
CATEGORIES:Family
END:VEVENT
BEGIN:VEVENT
DTSTART;TZID=America/New_York:20260102T180000
DTEND;TZID=America/New_York:20260102T190000
DTSTAMP:20260420T235211
CREATED:20251210T140556Z
LAST-MODIFIED:20251210T140556Z
UID:10006854-1767376800-1767380400@templeisraelorlando.org
SUMMARY:PJ & Cocoa Shabbat
DESCRIPTION:Everyone is invited to join us for a cup of hot cocoa during Friday night services!
URL:https://templeisraelorlando.org/event/pj-cocoa-shabbat/
LOCATION:FL
CATEGORIES:Family,Services
END:VEVENT
BEGIN:VEVENT
DTSTART;TZID=America/New_York:20260117T110000
DTEND;TZID=America/New_York:20260117T234500
DTSTAMP:20260420T235211
CREATED:20240507T033334Z
LAST-MODIFIED:20250715T172956Z
UID:10006361-1768647600-1768693500@templeisraelorlando.org
SUMMARY:Tot Shabbat
DESCRIPTION:
URL:https://templeisraelorlando.org/event/tot-shabbat/2026-01-17/
LOCATION:FL
CATEGORIES:Family
END:VEVENT
BEGIN:VEVENT
DTSTART;TZID=America/New_York:20260221T110000
DTEND;TZID=America/New_York:20260221T234500
DTSTAMP:20260420T235211
CREATED:20240507T033334Z
LAST-MODIFIED:20250715T172956Z
UID:10006362-1771671600-1771717500@templeisraelorlando.org
SUMMARY:Tot Shabbat
DESCRIPTION:
URL:https://templeisraelorlando.org/event/tot-shabbat/2026-02-21/
LOCATION:FL
CATEGORIES:Family
END:VEVENT
BEGIN:VEVENT
DTSTART;TZID=America/New_York:20260301T123000
DTEND;TZID=America/New_York:20260301T143000
DTSTAMP:20260420T235211
CREATED:20260301T142343Z
LAST-MODIFIED:20260301T142343Z
UID:10007166-1772368200-1772375400@templeisraelorlando.org
SUMMARY:Sisterhood Hamentaschen Bake
DESCRIPTION:
URL:https://templeisraelorlando.org/event/sisterhood-hamentaschen-bake/
LOCATION:FL
CATEGORIES:Event,Family
END:VEVENT
BEGIN:VEVENT
DTSTART;TZID=America/New_York:20260321T110000
DTEND;TZID=America/New_York:20260321T234500
DTSTAMP:20260420T235211
CREATED:20240507T033334Z
LAST-MODIFIED:20250715T172956Z
UID:10006363-1774090800-1774136700@templeisraelorlando.org
SUMMARY:Tot Shabbat
DESCRIPTION:
URL:https://templeisraelorlando.org/event/tot-shabbat/2026-03-21/
LOCATION:FL
CATEGORIES:Family
END:VEVENT
BEGIN:VEVENT
DTSTART;TZID=America/New_York:20260418T110000
DTEND;TZID=America/New_York:20260418T234500
DTSTAMP:20260420T235211
CREATED:20240507T033334Z
LAST-MODIFIED:20250715T172956Z
UID:10006364-1776510000-1776555900@templeisraelorlando.org
SUMMARY:Tot Shabbat
DESCRIPTION:
URL:https://templeisraelorlando.org/event/tot-shabbat/2026-04-18/
LOCATION:FL
CATEGORIES:Family
END:VEVENT
BEGIN:VEVENT
DTSTART;TZID=America/New_York:20260516T110000
DTEND;TZID=America/New_York:20260516T234500
DTSTAMP:20260420T235211
CREATED:20240507T033334Z
LAST-MODIFIED:20250715T172956Z
UID:10006365-1778929200-1778975100@templeisraelorlando.org
SUMMARY:Tot Shabbat
DESCRIPTION:
URL:https://templeisraelorlando.org/event/tot-shabbat/2026-05-16/
LOCATION:FL
CATEGORIES:Family
END:VEVENT
BEGIN:VEVENT
DTSTART;TZID=America/New_York:20260524T094500
DTEND;TZID=America/New_York:20260524T123000
DTSTAMP:20260420T235211
CREATED:20260413T234644Z
LAST-MODIFIED:20260413T234644Z
UID:10007397-1779615900-1779625800@templeisraelorlando.org
SUMMARY:Men's Club: Annual Orchid Show
DESCRIPTION:Join TI Men’s Club on Sunday\, May 24th\, caravan will leave TI @ 9:45 AM\nAnnual Orchid Show of the Central Florida Orchid Society @ FL National Armory\, 2809 South Ferncreek Avenue\, Orlando\, FL 32806. RSVP to manager@tiflorida.org. Everyone welcome!
URL:https://templeisraelorlando.org/event/mens-club-annual-orchid-show/
LOCATION:FL
CATEGORIES:Event,Family
END:VEVENT
BEGIN:VEVENT
DTSTART;TZID=America/New_York:20260620T110000
DTEND;TZID=America/New_York:20260620T234500
DTSTAMP:20260420T235211
CREATED:20240507T033334Z
LAST-MODIFIED:20250715T172956Z
UID:10006366-1781953200-1781999100@templeisraelorlando.org
SUMMARY:Tot Shabbat
DESCRIPTION:
URL:https://templeisraelorlando.org/event/tot-shabbat/2026-06-20/
LOCATION:FL
CATEGORIES:Family
END:VEVENT
BEGIN:VEVENT
DTSTART;TZID=America/New_York:20260718T110000
DTEND;TZID=America/New_York:20260718T234500
DTSTAMP:20260420T235211
CREATED:20240507T033334Z
LAST-MODIFIED:20250715T172956Z
UID:10006367-1784372400-1784418300@templeisraelorlando.org
SUMMARY:Tot Shabbat
DESCRIPTION:
URL:https://templeisraelorlando.org/event/tot-shabbat/2026-07-18/
LOCATION:FL
CATEGORIES:Family
END:VEVENT
BEGIN:VEVENT
DTSTART;TZID=America/New_York:20260815T110000
DTEND;TZID=America/New_York:20260815T234500
DTSTAMP:20260420T235211
CREATED:20240507T033334Z
LAST-MODIFIED:20250715T172956Z
UID:10006368-1786791600-1786837500@templeisraelorlando.org
SUMMARY:Tot Shabbat
DESCRIPTION:
URL:https://templeisraelorlando.org/event/tot-shabbat/2026-08-15/
LOCATION:FL
CATEGORIES:Family
END:VEVENT
BEGIN:VEVENT
DTSTART;TZID=America/New_York:20260816T124500
DTEND;TZID=America/New_York:20260816T133000
DTSTAMP:20260420T235211
CREATED:20260420T122819Z
LAST-MODIFIED:20260420T122819Z
UID:10007398-1786884300-1786887000@templeisraelorlando.org
SUMMARY:TI Youth: Jeremiah's Meet up
DESCRIPTION:Get cool for back to school! \nFor all our TI youth and their families at Jeremiah’s\, 1000 Willa Springs Dr\, Winter Springs\, FL 32708. Please RSVP to Jessica Wolf at 407-222-4312.
URL:https://templeisraelorlando.org/event/ti-youth-jeremiahs-meet-up/
LOCATION:FL
CATEGORIES:Event,Family,Youth
END:VEVENT
BEGIN:VEVENT
DTSTART;TZID=America/New_York:20260919T110000
DTEND;TZID=America/New_York:20260919T234500
DTSTAMP:20260420T235211
CREATED:20240507T033334Z
LAST-MODIFIED:20250715T172956Z
UID:10006369-1789815600-1789861500@templeisraelorlando.org
SUMMARY:Tot Shabbat
DESCRIPTION:
URL:https://templeisraelorlando.org/event/tot-shabbat/2026-09-19/
LOCATION:FL
CATEGORIES:Family
END:VEVENT
BEGIN:VEVENT
DTSTART;TZID=America/New_York:20261017T110000
DTEND;TZID=America/New_York:20261017T234500
DTSTAMP:20260420T235211
CREATED:20240507T033334Z
LAST-MODIFIED:20250715T172956Z
UID:10006370-1792234800-1792280700@templeisraelorlando.org
SUMMARY:Tot Shabbat
DESCRIPTION:
URL:https://templeisraelorlando.org/event/tot-shabbat/2026-10-17/
LOCATION:FL
CATEGORIES:Family
END:VEVENT
BEGIN:VEVENT
DTSTART;TZID=America/New_York:20261121T110000
DTEND;TZID=America/New_York:20261121T234500
DTSTAMP:20260420T235211
CREATED:20240507T033334Z
LAST-MODIFIED:20250715T172956Z
UID:10006371-1795258800-1795304700@templeisraelorlando.org
SUMMARY:Tot Shabbat
DESCRIPTION:
URL:https://templeisraelorlando.org/event/tot-shabbat/2026-11-21/
LOCATION:FL
CATEGORIES:Family
END:VEVENT
BEGIN:VEVENT
DTSTART;TZID=America/New_York:20261219T110000
DTEND;TZID=America/New_York:20261219T234500
DTSTAMP:20260420T235211
CREATED:20240507T033334Z
LAST-MODIFIED:20250715T172956Z
UID:10006372-1797678000-1797723900@templeisraelorlando.org
SUMMARY:Tot Shabbat
DESCRIPTION:
URL:https://templeisraelorlando.org/event/tot-shabbat/2026-12-19/
LOCATION:FL
CATEGORIES:Family
END:VEVENT
BEGIN:VEVENT
DTSTART;TZID=America/New_York:20270116T110000
DTEND;TZID=America/New_York:20270116T234500
DTSTAMP:20260420T235211
CREATED:20240507T033334Z
LAST-MODIFIED:20250715T172956Z
UID:10006373-1800097200-1800143100@templeisraelorlando.org
SUMMARY:Tot Shabbat
DESCRIPTION:
URL:https://templeisraelorlando.org/event/tot-shabbat/2027-01-16/
LOCATION:FL
CATEGORIES:Family
END:VEVENT
BEGIN:VEVENT
DTSTART;TZID=America/New_York:20270220T110000
DTEND;TZID=America/New_York:20270220T234500
DTSTAMP:20260420T235211
CREATED:20240507T033334Z
LAST-MODIFIED:20250715T172956Z
UID:10006374-1803121200-1803167100@templeisraelorlando.org
SUMMARY:Tot Shabbat
DESCRIPTION:
URL:https://templeisraelorlando.org/event/tot-shabbat/2027-02-20/
LOCATION:FL
CATEGORIES:Family
END:VEVENT
BEGIN:VEVENT
DTSTART;TZID=America/New_York:20270320T110000
DTEND;TZID=America/New_York:20270320T234500
DTSTAMP:20260420T235211
CREATED:20240507T033334Z
LAST-MODIFIED:20250715T172956Z
UID:10006375-1805540400-1805586300@templeisraelorlando.org
SUMMARY:Tot Shabbat
DESCRIPTION:
URL:https://templeisraelorlando.org/event/tot-shabbat/2027-03-20/
LOCATION:FL
CATEGORIES:Family
END:VEVENT
BEGIN:VEVENT
DTSTART;TZID=America/New_York:20270417T110000
DTEND;TZID=America/New_York:20270417T234500
DTSTAMP:20260420T235211
CREATED:20240507T033334Z
LAST-MODIFIED:20250715T172956Z
UID:10006376-1807959600-1808005500@templeisraelorlando.org
SUMMARY:Tot Shabbat
DESCRIPTION:
URL:https://templeisraelorlando.org/event/tot-shabbat/2027-04-17/
LOCATION:FL
CATEGORIES:Family
END:VEVENT
BEGIN:VEVENT
DTSTART;TZID=America/New_York:20270515T110000
DTEND;TZID=America/New_York:20270515T234500
DTSTAMP:20260420T235211
CREATED:20240507T033334Z
LAST-MODIFIED:20250715T172956Z
UID:10006377-1810378800-1810424700@templeisraelorlando.org
SUMMARY:Tot Shabbat
DESCRIPTION:
URL:https://templeisraelorlando.org/event/tot-shabbat/2027-05-15/
LOCATION:FL
CATEGORIES:Family
END:VEVENT
BEGIN:VEVENT
DTSTART;TZID=America/New_York:20270619T110000
DTEND;TZID=America/New_York:20270619T234500
DTSTAMP:20260420T235211
CREATED:20240507T033334Z
LAST-MODIFIED:20250715T172956Z
UID:10006378-1813402800-1813448700@templeisraelorlando.org
SUMMARY:Tot Shabbat
DESCRIPTION:
URL:https://templeisraelorlando.org/event/tot-shabbat/2027-06-19/
LOCATION:FL
CATEGORIES:Family
END:VEVENT
BEGIN:VEVENT
DTSTART;TZID=America/New_York:20270717T110000
DTEND;TZID=America/New_York:20270717T234500
DTSTAMP:20260420T235211
CREATED:20240507T033334Z
LAST-MODIFIED:20250715T172956Z
UID:10006379-1815822000-1815867900@templeisraelorlando.org
SUMMARY:Tot Shabbat
DESCRIPTION:
URL:https://templeisraelorlando.org/event/tot-shabbat/2027-07-17/
LOCATION:FL
CATEGORIES:Family
END:VEVENT
BEGIN:VEVENT
DTSTART;TZID=America/New_York:20270821T110000
DTEND;TZID=America/New_York:20270821T234500
DTSTAMP:20260420T235211
CREATED:20240507T033334Z
LAST-MODIFIED:20250715T172956Z
UID:10006380-1818846000-1818891900@templeisraelorlando.org
SUMMARY:Tot Shabbat
DESCRIPTION:
URL:https://templeisraelorlando.org/event/tot-shabbat/2027-08-21/
LOCATION:FL
CATEGORIES:Family
END:VEVENT
BEGIN:VEVENT
DTSTART;TZID=America/New_York:20270918T110000
DTEND;TZID=America/New_York:20270918T234500
DTSTAMP:20260420T235211
CREATED:20240507T033334Z
LAST-MODIFIED:20250715T172956Z
UID:10006381-1821265200-1821311100@templeisraelorlando.org
SUMMARY:Tot Shabbat
DESCRIPTION:
URL:https://templeisraelorlando.org/event/tot-shabbat/2027-09-18/
LOCATION:FL
CATEGORIES:Family
END:VEVENT
END:VCALENDAR