BEGIN:VCALENDAR
VERSION:2.0
PRODID:-//Temple Israel - ECPv6.15.17.1//NONSGML v1.0//EN
CALSCALE:GREGORIAN
METHOD:PUBLISH
X-ORIGINAL-URL:https://templeisraelorlando.org
X-WR-CALDESC:Events for Temple Israel
REFRESH-INTERVAL;VALUE=DURATION:PT1H
X-Robots-Tag:noindex
X-PUBLISHED-TTL:PT1H
BEGIN:VTIMEZONE
TZID:America/New_York
BEGIN:DAYLIGHT
TZOFFSETFROM:-0500
TZOFFSETTO:-0400
TZNAME:EDT
DTSTART:20250309T070000
END:DAYLIGHT
BEGIN:STANDARD
TZOFFSETFROM:-0400
TZOFFSETTO:-0500
TZNAME:EST
DTSTART:20251102T060000
END:STANDARD
BEGIN:DAYLIGHT
TZOFFSETFROM:-0500
TZOFFSETTO:-0400
TZNAME:EDT
DTSTART:20260308T070000
END:DAYLIGHT
BEGIN:STANDARD
TZOFFSETFROM:-0400
TZOFFSETTO:-0500
TZNAME:EST
DTSTART:20261101T060000
END:STANDARD
BEGIN:DAYLIGHT
TZOFFSETFROM:-0500
TZOFFSETTO:-0400
TZNAME:EDT
DTSTART:20270314T070000
END:DAYLIGHT
BEGIN:STANDARD
TZOFFSETFROM:-0400
TZOFFSETTO:-0500
TZNAME:EST
DTSTART:20271107T060000
END:STANDARD
BEGIN:DAYLIGHT
TZOFFSETFROM:-0500
TZOFFSETTO:-0400
TZNAME:EDT
DTSTART:20280312T070000
END:DAYLIGHT
BEGIN:STANDARD
TZOFFSETFROM:-0400
TZOFFSETTO:-0500
TZNAME:EST
DTSTART:20281105T060000
END:STANDARD
BEGIN:DAYLIGHT
TZOFFSETFROM:-0500
TZOFFSETTO:-0400
TZNAME:EDT
DTSTART:20290311T070000
END:DAYLIGHT
BEGIN:STANDARD
TZOFFSETFROM:-0400
TZOFFSETTO:-0500
TZNAME:EST
DTSTART:20291104T060000
END:STANDARD
BEGIN:DAYLIGHT
TZOFFSETFROM:-0500
TZOFFSETTO:-0400
TZNAME:EDT
DTSTART:20300310T070000
END:DAYLIGHT
BEGIN:STANDARD
TZOFFSETFROM:-0400
TZOFFSETTO:-0500
TZNAME:EST
DTSTART:20301103T060000
END:STANDARD
END:VTIMEZONE
BEGIN:VEVENT
DTSTART;TZID=America/New_York:20260816T124500
DTEND;TZID=America/New_York:20260816T133000
DTSTAMP:20260420T100758
CREATED:20260420T122819Z
LAST-MODIFIED:20260420T122819Z
UID:10007398-1786884300-1786887000@templeisraelorlando.org
SUMMARY:TI Youth: Jeremiah's Meet up
DESCRIPTION:Get cool for back to school! \nFor all our TI youth and their families at Jeremiah’s\, 1000 Willa Springs Dr\, Winter Springs\, FL 32708. Please RSVP to Jessica Wolf at 407-222-4312.
URL:https://templeisraelorlando.org/event/ti-youth-jeremiahs-meet-up/
CATEGORIES:Event,Family,Youth
END:VEVENT
BEGIN:VEVENT
DTSTART;TZID=America/New_York:20260919T110000
DTEND;TZID=America/New_York:20260919T234500
DTSTAMP:20260420T100758
CREATED:20240507T033334Z
LAST-MODIFIED:20250715T172956Z
UID:10006369-1789815600-1789861500@templeisraelorlando.org
SUMMARY:Tot Shabbat
DESCRIPTION:
URL:https://templeisraelorlando.org/event/tot-shabbat/2026-09-19/
CATEGORIES:Family
END:VEVENT
BEGIN:VEVENT
DTSTART;TZID=America/New_York:20261017T110000
DTEND;TZID=America/New_York:20261017T234500
DTSTAMP:20260420T100758
CREATED:20240507T033334Z
LAST-MODIFIED:20250715T172956Z
UID:10006370-1792234800-1792280700@templeisraelorlando.org
SUMMARY:Tot Shabbat
DESCRIPTION:
URL:https://templeisraelorlando.org/event/tot-shabbat/2026-10-17/
CATEGORIES:Family
END:VEVENT
BEGIN:VEVENT
DTSTART;TZID=America/New_York:20261121T110000
DTEND;TZID=America/New_York:20261121T234500
DTSTAMP:20260420T100758
CREATED:20240507T033334Z
LAST-MODIFIED:20250715T172956Z
UID:10006371-1795258800-1795304700@templeisraelorlando.org
SUMMARY:Tot Shabbat
DESCRIPTION:
URL:https://templeisraelorlando.org/event/tot-shabbat/2026-11-21/
CATEGORIES:Family
END:VEVENT
BEGIN:VEVENT
DTSTART;TZID=America/New_York:20261219T110000
DTEND;TZID=America/New_York:20261219T234500
DTSTAMP:20260420T100758
CREATED:20240507T033334Z
LAST-MODIFIED:20250715T172956Z
UID:10006372-1797678000-1797723900@templeisraelorlando.org
SUMMARY:Tot Shabbat
DESCRIPTION:
URL:https://templeisraelorlando.org/event/tot-shabbat/2026-12-19/
CATEGORIES:Family
END:VEVENT
BEGIN:VEVENT
DTSTART;TZID=America/New_York:20270116T110000
DTEND;TZID=America/New_York:20270116T234500
DTSTAMP:20260420T100758
CREATED:20240507T033334Z
LAST-MODIFIED:20250715T172956Z
UID:10006373-1800097200-1800143100@templeisraelorlando.org
SUMMARY:Tot Shabbat
DESCRIPTION:
URL:https://templeisraelorlando.org/event/tot-shabbat/2027-01-16/
CATEGORIES:Family
END:VEVENT
BEGIN:VEVENT
DTSTART;TZID=America/New_York:20270220T110000
DTEND;TZID=America/New_York:20270220T234500
DTSTAMP:20260420T100759
CREATED:20240507T033334Z
LAST-MODIFIED:20250715T172956Z
UID:10006374-1803121200-1803167100@templeisraelorlando.org
SUMMARY:Tot Shabbat
DESCRIPTION:
URL:https://templeisraelorlando.org/event/tot-shabbat/2027-02-20/
CATEGORIES:Family
END:VEVENT
BEGIN:VEVENT
DTSTART;TZID=America/New_York:20270320T110000
DTEND;TZID=America/New_York:20270320T234500
DTSTAMP:20260420T100759
CREATED:20240507T033334Z
LAST-MODIFIED:20250715T172956Z
UID:10006375-1805540400-1805586300@templeisraelorlando.org
SUMMARY:Tot Shabbat
DESCRIPTION:
URL:https://templeisraelorlando.org/event/tot-shabbat/2027-03-20/
CATEGORIES:Family
END:VEVENT
BEGIN:VEVENT
DTSTART;TZID=America/New_York:20270417T110000
DTEND;TZID=America/New_York:20270417T234500
DTSTAMP:20260420T100759
CREATED:20240507T033334Z
LAST-MODIFIED:20250715T172956Z
UID:10006376-1807959600-1808005500@templeisraelorlando.org
SUMMARY:Tot Shabbat
DESCRIPTION:
URL:https://templeisraelorlando.org/event/tot-shabbat/2027-04-17/
CATEGORIES:Family
END:VEVENT
BEGIN:VEVENT
DTSTART;TZID=America/New_York:20270515T110000
DTEND;TZID=America/New_York:20270515T234500
DTSTAMP:20260420T100759
CREATED:20240507T033334Z
LAST-MODIFIED:20250715T172956Z
UID:10006377-1810378800-1810424700@templeisraelorlando.org
SUMMARY:Tot Shabbat
DESCRIPTION:
URL:https://templeisraelorlando.org/event/tot-shabbat/2027-05-15/
CATEGORIES:Family
END:VEVENT
BEGIN:VEVENT
DTSTART;TZID=America/New_York:20270619T110000
DTEND;TZID=America/New_York:20270619T234500
DTSTAMP:20260420T100759
CREATED:20240507T033334Z
LAST-MODIFIED:20250715T172956Z
UID:10006378-1813402800-1813448700@templeisraelorlando.org
SUMMARY:Tot Shabbat
DESCRIPTION:
URL:https://templeisraelorlando.org/event/tot-shabbat/2027-06-19/
CATEGORIES:Family
END:VEVENT
BEGIN:VEVENT
DTSTART;TZID=America/New_York:20270717T110000
DTEND;TZID=America/New_York:20270717T234500
DTSTAMP:20260420T100759
CREATED:20240507T033334Z
LAST-MODIFIED:20250715T172956Z
UID:10006379-1815822000-1815867900@templeisraelorlando.org
SUMMARY:Tot Shabbat
DESCRIPTION:
URL:https://templeisraelorlando.org/event/tot-shabbat/2027-07-17/
CATEGORIES:Family
END:VEVENT
BEGIN:VEVENT
DTSTART;TZID=America/New_York:20270821T110000
DTEND;TZID=America/New_York:20270821T234500
DTSTAMP:20260420T100759
CREATED:20240507T033334Z
LAST-MODIFIED:20250715T172956Z
UID:10006380-1818846000-1818891900@templeisraelorlando.org
SUMMARY:Tot Shabbat
DESCRIPTION:
URL:https://templeisraelorlando.org/event/tot-shabbat/2027-08-21/
CATEGORIES:Family
END:VEVENT
BEGIN:VEVENT
DTSTART;TZID=America/New_York:20270918T110000
DTEND;TZID=America/New_York:20270918T234500
DTSTAMP:20260420T100759
CREATED:20240507T033334Z
LAST-MODIFIED:20250715T172956Z
UID:10006381-1821265200-1821311100@templeisraelorlando.org
SUMMARY:Tot Shabbat
DESCRIPTION:
URL:https://templeisraelorlando.org/event/tot-shabbat/2027-09-18/
CATEGORIES:Family
END:VEVENT
BEGIN:VEVENT
DTSTART;TZID=America/New_York:20271016T110000
DTEND;TZID=America/New_York:20271016T234500
DTSTAMP:20260420T100759
CREATED:20240507T033334Z
LAST-MODIFIED:20250715T172956Z
UID:10006382-1823684400-1823730300@templeisraelorlando.org
SUMMARY:Tot Shabbat
DESCRIPTION:
URL:https://templeisraelorlando.org/event/tot-shabbat/2027-10-16/
CATEGORIES:Family
END:VEVENT
BEGIN:VEVENT
DTSTART;TZID=America/New_York:20271120T110000
DTEND;TZID=America/New_York:20271120T234500
DTSTAMP:20260420T100759
CREATED:20240507T033334Z
LAST-MODIFIED:20250715T172956Z
UID:10006383-1826708400-1826754300@templeisraelorlando.org
SUMMARY:Tot Shabbat
DESCRIPTION:
URL:https://templeisraelorlando.org/event/tot-shabbat/2027-11-20/
CATEGORIES:Family
END:VEVENT
BEGIN:VEVENT
DTSTART;TZID=America/New_York:20271218T110000
DTEND;TZID=America/New_York:20271218T234500
DTSTAMP:20260420T100759
CREATED:20240507T033334Z
LAST-MODIFIED:20250715T172956Z
UID:10006384-1829127600-1829173500@templeisraelorlando.org
SUMMARY:Tot Shabbat
DESCRIPTION:
URL:https://templeisraelorlando.org/event/tot-shabbat/2027-12-18/
CATEGORIES:Family
END:VEVENT
BEGIN:VEVENT
DTSTART;TZID=America/New_York:20280115T110000
DTEND;TZID=America/New_York:20280115T234500
DTSTAMP:20260420T100759
CREATED:20240507T033334Z
LAST-MODIFIED:20250715T172956Z
UID:10006385-1831546800-1831592700@templeisraelorlando.org
SUMMARY:Tot Shabbat
DESCRIPTION:
URL:https://templeisraelorlando.org/event/tot-shabbat/2028-01-15/
CATEGORIES:Family
END:VEVENT
BEGIN:VEVENT
DTSTART;TZID=America/New_York:20280219T110000
DTEND;TZID=America/New_York:20280219T234500
DTSTAMP:20260420T100759
CREATED:20240507T033334Z
LAST-MODIFIED:20250715T172956Z
UID:10006386-1834570800-1834616700@templeisraelorlando.org
SUMMARY:Tot Shabbat
DESCRIPTION:
URL:https://templeisraelorlando.org/event/tot-shabbat/2028-02-19/
CATEGORIES:Family
END:VEVENT
BEGIN:VEVENT
DTSTART;TZID=America/New_York:20280318T110000
DTEND;TZID=America/New_York:20280318T234500
DTSTAMP:20260420T100759
CREATED:20240507T033334Z
LAST-MODIFIED:20250715T172956Z
UID:10006387-1836990000-1837035900@templeisraelorlando.org
SUMMARY:Tot Shabbat
DESCRIPTION:
URL:https://templeisraelorlando.org/event/tot-shabbat/2028-03-18/
CATEGORIES:Family
END:VEVENT
BEGIN:VEVENT
DTSTART;TZID=America/New_York:20280415T110000
DTEND;TZID=America/New_York:20280415T234500
DTSTAMP:20260420T100759
CREATED:20240507T033334Z
LAST-MODIFIED:20250715T172956Z
UID:10006388-1839409200-1839455100@templeisraelorlando.org
SUMMARY:Tot Shabbat
DESCRIPTION:
URL:https://templeisraelorlando.org/event/tot-shabbat/2028-04-15/
CATEGORIES:Family
END:VEVENT
BEGIN:VEVENT
DTSTART;TZID=America/New_York:20280520T110000
DTEND;TZID=America/New_York:20280520T234500
DTSTAMP:20260420T100759
CREATED:20240507T033334Z
LAST-MODIFIED:20250715T172956Z
UID:10006389-1842433200-1842479100@templeisraelorlando.org
SUMMARY:Tot Shabbat
DESCRIPTION:
URL:https://templeisraelorlando.org/event/tot-shabbat/2028-05-20/
CATEGORIES:Family
END:VEVENT
BEGIN:VEVENT
DTSTART;TZID=America/New_York:20280617T110000
DTEND;TZID=America/New_York:20280617T234500
DTSTAMP:20260420T100759
CREATED:20240507T033334Z
LAST-MODIFIED:20250715T172956Z
UID:10006390-1844852400-1844898300@templeisraelorlando.org
SUMMARY:Tot Shabbat
DESCRIPTION:
URL:https://templeisraelorlando.org/event/tot-shabbat/2028-06-17/
CATEGORIES:Family
END:VEVENT
BEGIN:VEVENT
DTSTART;TZID=America/New_York:20280715T110000
DTEND;TZID=America/New_York:20280715T234500
DTSTAMP:20260420T100759
CREATED:20240507T033334Z
LAST-MODIFIED:20250715T172956Z
UID:10006391-1847271600-1847317500@templeisraelorlando.org
SUMMARY:Tot Shabbat
DESCRIPTION:
URL:https://templeisraelorlando.org/event/tot-shabbat/2028-07-15/
CATEGORIES:Family
END:VEVENT
BEGIN:VEVENT
DTSTART;TZID=America/New_York:20280819T110000
DTEND;TZID=America/New_York:20280819T234500
DTSTAMP:20260420T100759
CREATED:20240507T033334Z
LAST-MODIFIED:20250715T172956Z
UID:10006392-1850295600-1850341500@templeisraelorlando.org
SUMMARY:Tot Shabbat
DESCRIPTION:
URL:https://templeisraelorlando.org/event/tot-shabbat/2028-08-19/
CATEGORIES:Family
END:VEVENT
BEGIN:VEVENT
DTSTART;TZID=America/New_York:20280916T110000
DTEND;TZID=America/New_York:20280916T234500
DTSTAMP:20260420T100759
CREATED:20240507T033334Z
LAST-MODIFIED:20250715T172956Z
UID:10006393-1852714800-1852760700@templeisraelorlando.org
SUMMARY:Tot Shabbat
DESCRIPTION:
URL:https://templeisraelorlando.org/event/tot-shabbat/2028-09-16/
CATEGORIES:Family
END:VEVENT
BEGIN:VEVENT
DTSTART;TZID=America/New_York:20281021T110000
DTEND;TZID=America/New_York:20281021T234500
DTSTAMP:20260420T100759
CREATED:20240507T033334Z
LAST-MODIFIED:20250715T172956Z
UID:10006394-1855738800-1855784700@templeisraelorlando.org
SUMMARY:Tot Shabbat
DESCRIPTION:
URL:https://templeisraelorlando.org/event/tot-shabbat/2028-10-21/
CATEGORIES:Family
END:VEVENT
BEGIN:VEVENT
DTSTART;TZID=America/New_York:20281118T110000
DTEND;TZID=America/New_York:20281118T234500
DTSTAMP:20260420T100759
CREATED:20240507T033334Z
LAST-MODIFIED:20250715T172956Z
UID:10006395-1858158000-1858203900@templeisraelorlando.org
SUMMARY:Tot Shabbat
DESCRIPTION:
URL:https://templeisraelorlando.org/event/tot-shabbat/2028-11-18/
CATEGORIES:Family
END:VEVENT
BEGIN:VEVENT
DTSTART;TZID=America/New_York:20281216T110000
DTEND;TZID=America/New_York:20281216T234500
DTSTAMP:20260420T100759
CREATED:20240507T033334Z
LAST-MODIFIED:20250715T172956Z
UID:10006396-1860577200-1860623100@templeisraelorlando.org
SUMMARY:Tot Shabbat
DESCRIPTION:
URL:https://templeisraelorlando.org/event/tot-shabbat/2028-12-16/
CATEGORIES:Family
END:VEVENT
BEGIN:VEVENT
DTSTART;TZID=America/New_York:20290120T110000
DTEND;TZID=America/New_York:20290120T234500
DTSTAMP:20260420T100759
CREATED:20240507T033334Z
LAST-MODIFIED:20250715T172956Z
UID:10006397-1863601200-1863647100@templeisraelorlando.org
SUMMARY:Tot Shabbat
DESCRIPTION:
URL:https://templeisraelorlando.org/event/tot-shabbat/2029-01-20/
CATEGORIES:Family
END:VEVENT
END:VCALENDAR