BEGIN:VCALENDAR
VERSION:2.0
PRODID:-//Temple Israel - ECPv6.15.17.1//NONSGML v1.0//EN
CALSCALE:GREGORIAN
METHOD:PUBLISH
X-WR-CALNAME:Temple Israel
X-ORIGINAL-URL:https://templeisraelorlando.org
X-WR-CALDESC:Events for Temple Israel
REFRESH-INTERVAL;VALUE=DURATION:PT1H
X-Robots-Tag:noindex
X-PUBLISHED-TTL:PT1H
BEGIN:VTIMEZONE
TZID:UTC
BEGIN:STANDARD
TZOFFSETFROM:+0000
TZOFFSETTO:+0000
TZNAME:UTC
DTSTART:20230101T000000
END:STANDARD
END:VTIMEZONE
BEGIN:VEVENT
DTSTART;TZID=UTC:20240602T180000
DTEND;TZID=UTC:20240602T200000
DTSTAMP:20260421T052714
CREATED:20240502T232252Z
LAST-MODIFIED:20240502T232252Z
UID:10000010-1717351200-1717358400@templeisraelorlando.org
SUMMARY:Men's Club Decision Tactical
DESCRIPTION:Sunday\, June 2 at 6pm \n$30 Club Member Pricing\n$36 for Non-Club Members \nIncluding the following:\n– 1 Dog Tag\n– ⁠1 Gun Range Entry with up to 60 rounds\n– ⁠Competition Course Run as Duos\n– ⁠A combination of appetizers (Cauliflower\, House Salad\, French Fries\, ETC.)\nDrinks are not included. \nDecision Tactical\n430 Towne Center Cir Suite A\nSanford\, FL 32771 \nRSVP and registration due Friday 5/31.\nThis program is only for men\, sorry ladies.\nRSVP to Natan Brener at 407-435-8613
URL:https://templeisraelorlando.org/event/mens-club-decision-tactical/
LOCATION:Decision Tactical\, 430 Towne Center Cir\, Suite A\, Sanford\, FL\, 32771\, United States
CATEGORIES:Featured
ATTACH;FMTTYPE=image/png:https://templeisraelorlando.org/wp-content/uploads/2024/05/Mens-Club-Decision-Tatical.png
END:VEVENT
BEGIN:VEVENT
DTSTART;TZID=UTC:20240609T100000
DTEND;TZID=UTC:20240609T120000
DTSTAMP:20260421T052714
CREATED:20211004T184611Z
LAST-MODIFIED:20240507T022325Z
UID:10000006-1717927200-1717934400@templeisraelorlando.org
SUMMARY:Cookie Decorating Class w/ Purple Tulip
DESCRIPTION:Learn how to decorate cookies with Amanda Hoffman and Holly Kluger from Purple Tulip Artisan Cookies! \nCost: $36 per person\nRegistration deadline:\nSunday\, June 2nd. \nPlease register via the Google form at: http://tinyurl.com/363syw4b and an invoice for payment will be sent to you.
URL:https://templeisraelorlando.org/event/event-2/
LOCATION:Social Hall\, 50 S Moss Rd\, Winter Springs\, FL\, 32708\, United States
CATEGORIES:Featured
ATTACH;FMTTYPE=image/png:https://templeisraelorlando.org/wp-content/uploads/2021/10/Sisterhood-Cookie-Decorating-Event-June-2024-1-1-1.png
END:VEVENT
END:VCALENDAR