BEGIN:VCALENDAR
VERSION:2.0
PRODID:-//Temple Israel - ECPv6.15.17.1//NONSGML v1.0//EN
CALSCALE:GREGORIAN
METHOD:PUBLISH
X-ORIGINAL-URL:https://templeisraelorlando.org
X-WR-CALDESC:Events for Temple Israel
REFRESH-INTERVAL;VALUE=DURATION:PT1H
X-Robots-Tag:noindex
X-PUBLISHED-TTL:PT1H
BEGIN:VTIMEZONE
TZID:UTC
BEGIN:STANDARD
TZOFFSETFROM:+0000
TZOFFSETTO:+0000
TZNAME:UTC
DTSTART:20230101T000000
END:STANDARD
END:VTIMEZONE
BEGIN:VEVENT
DTSTART;TZID=UTC:20240825T123000
DTEND;TZID=UTC:20240825T133000
DTSTAMP:20260421T011159
CREATED:20240509T202144Z
LAST-MODIFIED:20240510T035528Z
UID:10001623-1724589000-1724592600@templeisraelorlando.org
SUMMARY:TI Youth Open House
DESCRIPTION:Sunday\, August 25 at 12:30pm \nAn open house for all of our youth groups! \nLocated in the Temple Social Hall!
URL:https://templeisraelorlando.org/event/ti-youth-open-house/
CATEGORIES:Featured
END:VEVENT
END:VCALENDAR