BEGIN:VCALENDAR
VERSION:2.0
PRODID:-//Temple Israel - ECPv6.15.17.1//NONSGML v1.0//EN
CALSCALE:GREGORIAN
METHOD:PUBLISH
X-WR-CALNAME:Temple Israel
X-ORIGINAL-URL:https://templeisraelorlando.org
X-WR-CALDESC:Events for Temple Israel
REFRESH-INTERVAL;VALUE=DURATION:PT1H
X-Robots-Tag:noindex
X-PUBLISHED-TTL:PT1H
BEGIN:VTIMEZONE
TZID:America/New_York
BEGIN:DAYLIGHT
TZOFFSETFROM:-0500
TZOFFSETTO:-0400
TZNAME:EDT
DTSTART:20230312T070000
END:DAYLIGHT
BEGIN:STANDARD
TZOFFSETFROM:-0400
TZOFFSETTO:-0500
TZNAME:EST
DTSTART:20231105T060000
END:STANDARD
BEGIN:DAYLIGHT
TZOFFSETFROM:-0500
TZOFFSETTO:-0400
TZNAME:EDT
DTSTART:20240310T070000
END:DAYLIGHT
BEGIN:STANDARD
TZOFFSETFROM:-0400
TZOFFSETTO:-0500
TZNAME:EST
DTSTART:20241103T060000
END:STANDARD
BEGIN:DAYLIGHT
TZOFFSETFROM:-0500
TZOFFSETTO:-0400
TZNAME:EDT
DTSTART:20250309T070000
END:DAYLIGHT
BEGIN:STANDARD
TZOFFSETFROM:-0400
TZOFFSETTO:-0500
TZNAME:EST
DTSTART:20251102T060000
END:STANDARD
END:VTIMEZONE
BEGIN:VEVENT
DTSTART;VALUE=DATE:20241105
DTEND;VALUE=DATE:20241106
DTSTAMP:20260420T095657
CREATED:20240514T190341Z
LAST-MODIFIED:20240514T190341Z
UID:10001765-1730764800-1730851199@templeisraelorlando.org
SUMMARY:Election Day
DESCRIPTION:
URL:https://templeisraelorlando.org/event/election-day/
CATEGORIES:Holiday
END:VEVENT
BEGIN:VEVENT
DTSTART;VALUE=DATE:20241111
DTEND;VALUE=DATE:20241112
DTSTAMP:20260420T095657
CREATED:20240514T190402Z
LAST-MODIFIED:20240514T190402Z
UID:10001766-1731283200-1731369599@templeisraelorlando.org
SUMMARY:Veterans Day
DESCRIPTION:
URL:https://templeisraelorlando.org/event/veterans-day/
CATEGORIES:Holiday
END:VEVENT
BEGIN:VEVENT
DTSTART;VALUE=DATE:20241128
DTEND;VALUE=DATE:20241129
DTSTAMP:20260420T095657
CREATED:20240514T190427Z
LAST-MODIFIED:20240514T190427Z
UID:10001767-1732752000-1732838399@templeisraelorlando.org
SUMMARY:Thanksgiving Day
DESCRIPTION:
URL:https://templeisraelorlando.org/event/thanksgiving-day/
CATEGORIES:Holiday
END:VEVENT
BEGIN:VEVENT
DTSTART;VALUE=DATE:20241129
DTEND;VALUE=DATE:20241130
DTSTAMP:20260420T095657
CREATED:20240514T190451Z
LAST-MODIFIED:20240514T190451Z
UID:10001768-1732838400-1732924799@templeisraelorlando.org
SUMMARY:Native American Heritage Day
DESCRIPTION:
URL:https://templeisraelorlando.org/event/native-american-heritage-day/
CATEGORIES:Holiday
END:VEVENT
END:VCALENDAR