BEGIN:VCALENDAR
VERSION:2.0
PRODID:-//Temple Israel - ECPv6.15.17.1//NONSGML v1.0//EN
CALSCALE:GREGORIAN
METHOD:PUBLISH
X-ORIGINAL-URL:https://templeisraelorlando.org
X-WR-CALDESC:Events for Temple Israel
REFRESH-INTERVAL;VALUE=DURATION:PT1H
X-Robots-Tag:noindex
X-PUBLISHED-TTL:PT1H
BEGIN:VTIMEZONE
TZID:America/New_York
BEGIN:DAYLIGHT
TZOFFSETFROM:-0500
TZOFFSETTO:-0400
TZNAME:EDT
DTSTART:20230312T070000
END:DAYLIGHT
BEGIN:STANDARD
TZOFFSETFROM:-0400
TZOFFSETTO:-0500
TZNAME:EST
DTSTART:20231105T060000
END:STANDARD
BEGIN:DAYLIGHT
TZOFFSETFROM:-0500
TZOFFSETTO:-0400
TZNAME:EDT
DTSTART:20240310T070000
END:DAYLIGHT
BEGIN:STANDARD
TZOFFSETFROM:-0400
TZOFFSETTO:-0500
TZNAME:EST
DTSTART:20241103T060000
END:STANDARD
BEGIN:DAYLIGHT
TZOFFSETFROM:-0500
TZOFFSETTO:-0400
TZNAME:EDT
DTSTART:20250309T070000
END:DAYLIGHT
BEGIN:STANDARD
TZOFFSETFROM:-0400
TZOFFSETTO:-0500
TZNAME:EST
DTSTART:20251102T060000
END:STANDARD
END:VTIMEZONE
BEGIN:VEVENT
DTSTART;VALUE=DATE:20241224
DTEND;VALUE=DATE:20241225
DTSTAMP:20260420T053344
CREATED:20240514T190536Z
LAST-MODIFIED:20240514T190536Z
UID:10001769-1734998400-1735084799@templeisraelorlando.org
SUMMARY:Christmas Eve
DESCRIPTION:
URL:https://templeisraelorlando.org/event/christmas-eve/
CATEGORIES:Holiday
END:VEVENT
BEGIN:VEVENT
DTSTART;VALUE=DATE:20241225
DTEND;VALUE=DATE:20241226
DTSTAMP:20260420T053344
CREATED:20240514T190601Z
LAST-MODIFIED:20240514T190601Z
UID:10001770-1735084800-1735171199@templeisraelorlando.org
SUMMARY:Christmas Day
DESCRIPTION:
URL:https://templeisraelorlando.org/event/christmas-day/
CATEGORIES:Holiday
END:VEVENT
BEGIN:VEVENT
DTSTART;VALUE=DATE:20241225
DTEND;VALUE=DATE:20241226
DTSTAMP:20260420T053344
CREATED:20240514T192738Z
LAST-MODIFIED:20240514T192738Z
UID:10001793-1735084800-1735171199@templeisraelorlando.org
SUMMARY:Chanukah: 1 Candle
DESCRIPTION:
URL:https://templeisraelorlando.org/event/chanukah-1-candle/
CATEGORIES:Holiday
END:VEVENT
BEGIN:VEVENT
DTSTART;VALUE=DATE:20241226
DTEND;VALUE=DATE:20241227
DTSTAMP:20260420T053344
CREATED:20240514T192756Z
LAST-MODIFIED:20240514T192756Z
UID:10001794-1735171200-1735257599@templeisraelorlando.org
SUMMARY:Chanukah: 2 Candles
DESCRIPTION:
URL:https://templeisraelorlando.org/event/chanukah-2-candles/
CATEGORIES:Holiday
END:VEVENT
BEGIN:VEVENT
DTSTART;VALUE=DATE:20241227
DTEND;VALUE=DATE:20241228
DTSTAMP:20260420T053344
CREATED:20240514T192817Z
LAST-MODIFIED:20240514T192817Z
UID:10001795-1735257600-1735343999@templeisraelorlando.org
SUMMARY:Chanukah: 3 Candles
DESCRIPTION:
URL:https://templeisraelorlando.org/event/chanukah-3-candles/
CATEGORIES:Holiday
END:VEVENT
BEGIN:VEVENT
DTSTART;VALUE=DATE:20241228
DTEND;VALUE=DATE:20241229
DTSTAMP:20260420T053344
CREATED:20240514T192836Z
LAST-MODIFIED:20240514T192836Z
UID:10001796-1735344000-1735430399@templeisraelorlando.org
SUMMARY:Chanukah: 4 Candles
DESCRIPTION:
URL:https://templeisraelorlando.org/event/chanukah-4-candles/
CATEGORIES:Holiday
END:VEVENT
BEGIN:VEVENT
DTSTART;VALUE=DATE:20241229
DTEND;VALUE=DATE:20241230
DTSTAMP:20260420T053344
CREATED:20240514T192855Z
LAST-MODIFIED:20240514T192855Z
UID:10001797-1735430400-1735516799@templeisraelorlando.org
SUMMARY:Chanukah: 5 Candles
DESCRIPTION:
URL:https://templeisraelorlando.org/event/chanukah-5-candles/
CATEGORIES:Holiday
END:VEVENT
BEGIN:VEVENT
DTSTART;VALUE=DATE:20241230
DTEND;VALUE=DATE:20241231
DTSTAMP:20260420T053344
CREATED:20240514T192916Z
LAST-MODIFIED:20240514T192916Z
UID:10001798-1735516800-1735603199@templeisraelorlando.org
SUMMARY:Chanukah: 6 Candles
DESCRIPTION:
URL:https://templeisraelorlando.org/event/chanukah-6-candles/
CATEGORIES:Holiday
END:VEVENT
BEGIN:VEVENT
DTSTART;VALUE=DATE:20241231
DTEND;VALUE=DATE:20250101
DTSTAMP:20260420T053344
CREATED:20240514T190625Z
LAST-MODIFIED:20240514T190625Z
UID:10001771-1735603200-1735689599@templeisraelorlando.org
SUMMARY:New Year's Eve
DESCRIPTION:
URL:https://templeisraelorlando.org/event/new-years-eve/
CATEGORIES:Holiday
END:VEVENT
BEGIN:VEVENT
DTSTART;VALUE=DATE:20241231
DTEND;VALUE=DATE:20250101
DTSTAMP:20260420T053344
CREATED:20240514T193001Z
LAST-MODIFIED:20240514T193001Z
UID:10001799-1735603200-1735689599@templeisraelorlando.org
SUMMARY:Chanukah: 7 Candles
DESCRIPTION:
URL:https://templeisraelorlando.org/event/chanukah-7-candles/
CATEGORIES:Holiday
END:VEVENT
END:VCALENDAR