BEGIN:VCALENDAR
VERSION:2.0
PRODID:-//Temple Israel - ECPv6.15.17.1//NONSGML v1.0//EN
CALSCALE:GREGORIAN
METHOD:PUBLISH
X-WR-CALNAME:Temple Israel
X-ORIGINAL-URL:https://templeisraelorlando.org
X-WR-CALDESC:Events for Temple Israel
REFRESH-INTERVAL;VALUE=DURATION:PT1H
X-Robots-Tag:noindex
X-PUBLISHED-TTL:PT1H
BEGIN:VTIMEZONE
TZID:America/New_York
BEGIN:DAYLIGHT
TZOFFSETFROM:-0500
TZOFFSETTO:-0400
TZNAME:EDT
DTSTART:20250309T070000
END:DAYLIGHT
BEGIN:STANDARD
TZOFFSETFROM:-0400
TZOFFSETTO:-0500
TZNAME:EST
DTSTART:20251102T060000
END:STANDARD
BEGIN:DAYLIGHT
TZOFFSETFROM:-0500
TZOFFSETTO:-0400
TZNAME:EDT
DTSTART:20260308T070000
END:DAYLIGHT
BEGIN:STANDARD
TZOFFSETFROM:-0400
TZOFFSETTO:-0500
TZNAME:EST
DTSTART:20261101T060000
END:STANDARD
BEGIN:DAYLIGHT
TZOFFSETFROM:-0500
TZOFFSETTO:-0400
TZNAME:EDT
DTSTART:20270314T070000
END:DAYLIGHT
BEGIN:STANDARD
TZOFFSETFROM:-0400
TZOFFSETTO:-0500
TZNAME:EST
DTSTART:20271107T060000
END:STANDARD
END:VTIMEZONE
BEGIN:VEVENT
DTSTART;TZID=America/New_York:20260424T190000
DTEND;TZID=America/New_York:20260424T200000
DTSTAMP:20260424T224053
CREATED:20240507T020417Z
LAST-MODIFIED:20260108T191902Z
UID:10004749-1777057200-1777060800@templeisraelorlando.org
SUMMARY:Kabbalat Shabbat
DESCRIPTION:
URL:https://templeisraelorlando.org/event/kabbalat-shabbat/2026-04-24/
CATEGORIES:Services
END:VEVENT
BEGIN:VEVENT
DTSTART;TZID=America/New_York:20260419T090000
DTEND;TZID=America/New_York:20260419T093000
DTSTAMP:20260424T224053
CREATED:20240507T021438Z
LAST-MODIFIED:20250715T172314Z
UID:10005425-1776589200-1776591000@templeisraelorlando.org
SUMMARY:Sunday Minyan
DESCRIPTION:Our minyan starts at 9:00am in person and on zoom. \nhttps://us02web.zoom.us/j/83885789313?pwd=UkdrN25yMGRpTUIzNlRwejd1UWpjQT09 \nMeeting ID: 838 8578 9313\nPasscode: 165936
URL:https://templeisraelorlando.org/event/sunday-minyan/2026-04-19/
LOCATION:Temple Israel\, 50 S Moss Road\, Winter Springs\, FL\, 32708\, United States
CATEGORIES:Services
END:VEVENT
BEGIN:VEVENT
DTSTART;TZID=America/New_York:20260418T093000
DTEND;TZID=America/New_York:20260418T120000
DTSTAMP:20260424T224053
CREATED:20250715T172155Z
LAST-MODIFIED:20250715T172816Z
UID:10006124-1776504600-1776513600@templeisraelorlando.org
SUMMARY:Shabbat Services
DESCRIPTION:
URL:https://templeisraelorlando.org/event/shabbat-services-2/2026-04-18/
LOCATION:Temple Israel\, 50 S Moss Road\, Winter Springs\, FL\, 32708\, United States
CATEGORIES:Services
END:VEVENT
BEGIN:VEVENT
DTSTART;TZID=America/New_York:20260417T190000
DTEND;TZID=America/New_York:20260417T200000
DTSTAMP:20260424T224053
CREATED:20240507T020417Z
LAST-MODIFIED:20260108T191902Z
UID:10004748-1776452400-1776456000@templeisraelorlando.org
SUMMARY:Kabbalat Shabbat
DESCRIPTION:
URL:https://templeisraelorlando.org/event/kabbalat-shabbat/2026-04-17/
CATEGORIES:Services
END:VEVENT
BEGIN:VEVENT
DTSTART;TZID=America/New_York:20260412T090000
DTEND;TZID=America/New_York:20260412T093000
DTSTAMP:20260424T224053
CREATED:20240507T021438Z
LAST-MODIFIED:20250715T172314Z
UID:10005424-1775984400-1775986200@templeisraelorlando.org
SUMMARY:Sunday Minyan
DESCRIPTION:Our minyan starts at 9:00am in person and on zoom. \nhttps://us02web.zoom.us/j/83885789313?pwd=UkdrN25yMGRpTUIzNlRwejd1UWpjQT09 \nMeeting ID: 838 8578 9313\nPasscode: 165936
URL:https://templeisraelorlando.org/event/sunday-minyan/2026-04-12/
LOCATION:Temple Israel\, 50 S Moss Road\, Winter Springs\, FL\, 32708\, United States
CATEGORIES:Services
END:VEVENT
BEGIN:VEVENT
DTSTART;TZID=America/New_York:20260411T093000
DTEND;TZID=America/New_York:20260411T120000
DTSTAMP:20260424T224053
CREATED:20250715T172155Z
LAST-MODIFIED:20250715T172816Z
UID:10006123-1775899800-1775908800@templeisraelorlando.org
SUMMARY:Shabbat Services
DESCRIPTION:
URL:https://templeisraelorlando.org/event/shabbat-services-2/2026-04-11/
LOCATION:Temple Israel\, 50 S Moss Road\, Winter Springs\, FL\, 32708\, United States
CATEGORIES:Services
END:VEVENT
BEGIN:VEVENT
DTSTART;TZID=America/New_York:20260410T190000
DTEND;TZID=America/New_York:20260410T200000
DTSTAMP:20260424T224053
CREATED:20240507T020417Z
LAST-MODIFIED:20260108T191902Z
UID:10004747-1775847600-1775851200@templeisraelorlando.org
SUMMARY:Kabbalat Shabbat
DESCRIPTION:
URL:https://templeisraelorlando.org/event/kabbalat-shabbat/2026-04-10/
CATEGORIES:Services
END:VEVENT
BEGIN:VEVENT
DTSTART;TZID=America/New_York:20260409T093000
DTEND;TZID=America/New_York:20260409T113000
DTSTAMP:20260424T224053
CREATED:20260318T180106Z
LAST-MODIFIED:20260405T125633Z
UID:10007205-1775727000-1775734200@templeisraelorlando.org
SUMMARY:Passover Day 8 services (Yizkor)
DESCRIPTION:
URL:https://templeisraelorlando.org/event/passover-day-8-services/
CATEGORIES:Holiday,Services
END:VEVENT
BEGIN:VEVENT
DTSTART;TZID=America/New_York:20260408T093000
DTEND;TZID=America/New_York:20260408T113000
DTSTAMP:20260424T224053
CREATED:20260318T180032Z
LAST-MODIFIED:20260318T180032Z
UID:10007204-1775640600-1775647800@templeisraelorlando.org
SUMMARY:Passover Day 7 services
DESCRIPTION:
URL:https://templeisraelorlando.org/event/passover-day-7-services/
CATEGORIES:Holiday,Services
END:VEVENT
BEGIN:VEVENT
DTSTART;TZID=America/New_York:20260405T090000
DTEND;TZID=America/New_York:20260405T093000
DTSTAMP:20260424T224053
CREATED:20240507T021438Z
LAST-MODIFIED:20250715T172314Z
UID:10005423-1775379600-1775381400@templeisraelorlando.org
SUMMARY:Sunday Minyan
DESCRIPTION:Our minyan starts at 9:00am in person and on zoom. \nhttps://us02web.zoom.us/j/83885789313?pwd=UkdrN25yMGRpTUIzNlRwejd1UWpjQT09 \nMeeting ID: 838 8578 9313\nPasscode: 165936
URL:https://templeisraelorlando.org/event/sunday-minyan/2026-04-05/
LOCATION:Temple Israel\, 50 S Moss Road\, Winter Springs\, FL\, 32708\, United States
CATEGORIES:Services
END:VEVENT
BEGIN:VEVENT
DTSTART;TZID=America/New_York:20260404T093000
DTEND;TZID=America/New_York:20260404T120000
DTSTAMP:20260424T224053
CREATED:20260306T213227Z
LAST-MODIFIED:20260306T213227Z
UID:10007203-1775295000-1775304000@templeisraelorlando.org
SUMMARY:Refugee Shabbat
DESCRIPTION:
URL:https://templeisraelorlando.org/event/refugee-shabbat/
CATEGORIES:Services
END:VEVENT
BEGIN:VEVENT
DTSTART;TZID=America/New_York:20260404T093000
DTEND;TZID=America/New_York:20260404T120000
DTSTAMP:20260424T224053
CREATED:20260306T212956Z
LAST-MODIFIED:20260306T213056Z
UID:10006122-1775295000-1775304000@templeisraelorlando.org
SUMMARY:Shabbat Services - Refugee Shabbat
DESCRIPTION:
URL:https://templeisraelorlando.org/event/shabbat-services-2-2/
LOCATION:Temple Israel\, 50 S Moss Road\, Winter Springs\, FL\, 32708\, United States
CATEGORIES:Services
END:VEVENT
BEGIN:VEVENT
DTSTART;TZID=America/New_York:20260403T180000
DTEND;TZID=America/New_York:20260403T190000
DTSTAMP:20260424T224053
CREATED:20250724T120311Z
LAST-MODIFIED:20260406T182700Z
UID:10006615-1775239200-1775242800@templeisraelorlando.org
SUMMARY:Kabbalat Shabbat
DESCRIPTION:
URL:https://templeisraelorlando.org/event/kabbalat-shabbat-2-2/2026-04-03/
LOCATION:Temple Israel\, 50 S Moss Road\, Winter Springs\, FL\, 32708\, United States
CATEGORIES:Services
END:VEVENT
BEGIN:VEVENT
DTSTART;TZID=America/New_York:20260403T093000
DTEND;TZID=America/New_York:20260403T113000
DTSTAMP:20260424T224053
CREATED:20260301T035441Z
LAST-MODIFIED:20260313T183721Z
UID:10007164-1775208600-1775215800@templeisraelorlando.org
SUMMARY:Passover Day 2 services
DESCRIPTION:
URL:https://templeisraelorlando.org/event/passover-day-2-services/
CATEGORIES:Holiday,Services
END:VEVENT
BEGIN:VEVENT
DTSTART;TZID=America/New_York:20260402T093000
DTEND;TZID=America/New_York:20260402T113000
DTSTAMP:20260424T224053
CREATED:20260301T035412Z
LAST-MODIFIED:20260313T183655Z
UID:10007163-1775122200-1775129400@templeisraelorlando.org
SUMMARY:Passover Day 1 services
DESCRIPTION:
URL:https://templeisraelorlando.org/event/passover-day-1-services/
CATEGORIES:Holiday,Services
END:VEVENT
BEGIN:VEVENT
DTSTART;TZID=America/New_York:20260329T090000
DTEND;TZID=America/New_York:20260329T093000
DTSTAMP:20260424T224053
CREATED:20240507T021438Z
LAST-MODIFIED:20250715T172314Z
UID:10005422-1774774800-1774776600@templeisraelorlando.org
SUMMARY:Sunday Minyan
DESCRIPTION:Our minyan starts at 9:00am in person and on zoom. \nhttps://us02web.zoom.us/j/83885789313?pwd=UkdrN25yMGRpTUIzNlRwejd1UWpjQT09 \nMeeting ID: 838 8578 9313\nPasscode: 165936
URL:https://templeisraelorlando.org/event/sunday-minyan/2026-03-29/
LOCATION:Temple Israel\, 50 S Moss Road\, Winter Springs\, FL\, 32708\, United States
CATEGORIES:Services
END:VEVENT
BEGIN:VEVENT
DTSTART;TZID=America/New_York:20260328T093000
DTEND;TZID=America/New_York:20260328T120000
DTSTAMP:20260424T224053
CREATED:20250715T172155Z
LAST-MODIFIED:20250715T172816Z
UID:10006121-1774690200-1774699200@templeisraelorlando.org
SUMMARY:Shabbat Services
DESCRIPTION:
URL:https://templeisraelorlando.org/event/shabbat-services-2/2026-03-28/
LOCATION:Temple Israel\, 50 S Moss Road\, Winter Springs\, FL\, 32708\, United States
CATEGORIES:Services
END:VEVENT
BEGIN:VEVENT
DTSTART;TZID=America/New_York:20260327T190000
DTEND;TZID=America/New_York:20260327T200000
DTSTAMP:20260424T224053
CREATED:20240507T020417Z
LAST-MODIFIED:20260108T191902Z
UID:10004746-1774638000-1774641600@templeisraelorlando.org
SUMMARY:Kabbalat Shabbat
DESCRIPTION:
URL:https://templeisraelorlando.org/event/kabbalat-shabbat/2026-03-27/
CATEGORIES:Services
END:VEVENT
BEGIN:VEVENT
DTSTART;TZID=America/New_York:20260322T090000
DTEND;TZID=America/New_York:20260322T093000
DTSTAMP:20260424T224053
CREATED:20240507T021438Z
LAST-MODIFIED:20250715T172314Z
UID:10005421-1774170000-1774171800@templeisraelorlando.org
SUMMARY:Sunday Minyan
DESCRIPTION:Our minyan starts at 9:00am in person and on zoom. \nhttps://us02web.zoom.us/j/83885789313?pwd=UkdrN25yMGRpTUIzNlRwejd1UWpjQT09 \nMeeting ID: 838 8578 9313\nPasscode: 165936
URL:https://templeisraelorlando.org/event/sunday-minyan/2026-03-22/
LOCATION:Temple Israel\, 50 S Moss Road\, Winter Springs\, FL\, 32708\, United States
CATEGORIES:Services
END:VEVENT
BEGIN:VEVENT
DTSTART;TZID=America/New_York:20260321T093000
DTEND;TZID=America/New_York:20260321T120000
DTSTAMP:20260424T224053
CREATED:20250715T172155Z
LAST-MODIFIED:20250715T172816Z
UID:10006120-1774085400-1774094400@templeisraelorlando.org
SUMMARY:Shabbat Services
DESCRIPTION:
URL:https://templeisraelorlando.org/event/shabbat-services-2/2026-03-21/
LOCATION:Temple Israel\, 50 S Moss Road\, Winter Springs\, FL\, 32708\, United States
CATEGORIES:Services
END:VEVENT
BEGIN:VEVENT
DTSTART;TZID=America/New_York:20260320T190000
DTEND;TZID=America/New_York:20260320T200000
DTSTAMP:20260424T224053
CREATED:20240507T020417Z
LAST-MODIFIED:20260108T191902Z
UID:10004745-1774033200-1774036800@templeisraelorlando.org
SUMMARY:Kabbalat Shabbat
DESCRIPTION:
URL:https://templeisraelorlando.org/event/kabbalat-shabbat/2026-03-20/
CATEGORIES:Services
END:VEVENT
BEGIN:VEVENT
DTSTART;TZID=America/New_York:20260315T090000
DTEND;TZID=America/New_York:20260315T093000
DTSTAMP:20260424T224053
CREATED:20240507T021438Z
LAST-MODIFIED:20250715T172314Z
UID:10005420-1773565200-1773567000@templeisraelorlando.org
SUMMARY:Sunday Minyan
DESCRIPTION:Our minyan starts at 9:00am in person and on zoom. \nhttps://us02web.zoom.us/j/83885789313?pwd=UkdrN25yMGRpTUIzNlRwejd1UWpjQT09 \nMeeting ID: 838 8578 9313\nPasscode: 165936
URL:https://templeisraelorlando.org/event/sunday-minyan/2026-03-15/
LOCATION:Temple Israel\, 50 S Moss Road\, Winter Springs\, FL\, 32708\, United States
CATEGORIES:Services
END:VEVENT
BEGIN:VEVENT
DTSTART;TZID=America/New_York:20260314T093000
DTEND;TZID=America/New_York:20260314T120000
DTSTAMP:20260424T224053
CREATED:20250715T172155Z
LAST-MODIFIED:20250715T172816Z
UID:10006119-1773480600-1773489600@templeisraelorlando.org
SUMMARY:Shabbat Services
DESCRIPTION:
URL:https://templeisraelorlando.org/event/shabbat-services-2/2026-03-14/
LOCATION:Temple Israel\, 50 S Moss Road\, Winter Springs\, FL\, 32708\, United States
CATEGORIES:Services
END:VEVENT
BEGIN:VEVENT
DTSTART;TZID=America/New_York:20260313T190000
DTEND;TZID=America/New_York:20260313T200000
DTSTAMP:20260424T224053
CREATED:20240507T020417Z
LAST-MODIFIED:20260108T191902Z
UID:10004744-1773428400-1773432000@templeisraelorlando.org
SUMMARY:Kabbalat Shabbat
DESCRIPTION:
URL:https://templeisraelorlando.org/event/kabbalat-shabbat/2026-03-13/
CATEGORIES:Services
END:VEVENT
BEGIN:VEVENT
DTSTART;TZID=America/New_York:20260308T090000
DTEND;TZID=America/New_York:20260308T093000
DTSTAMP:20260424T224053
CREATED:20240507T021438Z
LAST-MODIFIED:20250715T172314Z
UID:10005419-1772960400-1772962200@templeisraelorlando.org
SUMMARY:Sunday Minyan
DESCRIPTION:Our minyan starts at 9:00am in person and on zoom. \nhttps://us02web.zoom.us/j/83885789313?pwd=UkdrN25yMGRpTUIzNlRwejd1UWpjQT09 \nMeeting ID: 838 8578 9313\nPasscode: 165936
URL:https://templeisraelorlando.org/event/sunday-minyan/2026-03-08/
LOCATION:Temple Israel\, 50 S Moss Road\, Winter Springs\, FL\, 32708\, United States
CATEGORIES:Services
END:VEVENT
BEGIN:VEVENT
DTSTART;TZID=America/New_York:20260307T093000
DTEND;TZID=America/New_York:20260307T120000
DTSTAMP:20260424T224053
CREATED:20250715T172155Z
LAST-MODIFIED:20250715T172816Z
UID:10006118-1772875800-1772884800@templeisraelorlando.org
SUMMARY:Shabbat Services
DESCRIPTION:
URL:https://templeisraelorlando.org/event/shabbat-services-2/2026-03-07/
LOCATION:Temple Israel\, 50 S Moss Road\, Winter Springs\, FL\, 32708\, United States
CATEGORIES:Services
END:VEVENT
BEGIN:VEVENT
DTSTART;TZID=America/New_York:20260306T180000
DTEND;TZID=America/New_York:20260306T190000
DTSTAMP:20260424T224054
CREATED:20250724T120311Z
LAST-MODIFIED:20260406T182700Z
UID:10006614-1772820000-1772823600@templeisraelorlando.org
SUMMARY:Kabbalat Shabbat
DESCRIPTION:
URL:https://templeisraelorlando.org/event/kabbalat-shabbat-2-2/2026-03-06/
LOCATION:Temple Israel\, 50 S Moss Road\, Winter Springs\, FL\, 32708\, United States
CATEGORIES:Services
END:VEVENT
BEGIN:VEVENT
DTSTART;TZID=America/New_York:20260301T090000
DTEND;TZID=America/New_York:20260301T093000
DTSTAMP:20260424T224054
CREATED:20240507T021438Z
LAST-MODIFIED:20250715T172314Z
UID:10005418-1772355600-1772357400@templeisraelorlando.org
SUMMARY:Sunday Minyan
DESCRIPTION:Our minyan starts at 9:00am in person and on zoom. \nhttps://us02web.zoom.us/j/83885789313?pwd=UkdrN25yMGRpTUIzNlRwejd1UWpjQT09 \nMeeting ID: 838 8578 9313\nPasscode: 165936
URL:https://templeisraelorlando.org/event/sunday-minyan/2026-03-01/
LOCATION:Temple Israel\, 50 S Moss Road\, Winter Springs\, FL\, 32708\, United States
CATEGORIES:Services
END:VEVENT
BEGIN:VEVENT
DTSTART;TZID=America/New_York:20260228T093000
DTEND;TZID=America/New_York:20260228T120000
DTSTAMP:20260424T224054
CREATED:20250715T172155Z
LAST-MODIFIED:20250715T172816Z
UID:10006117-1772271000-1772280000@templeisraelorlando.org
SUMMARY:Shabbat Services
DESCRIPTION:
URL:https://templeisraelorlando.org/event/shabbat-services-2/2026-02-28/
LOCATION:Temple Israel\, 50 S Moss Road\, Winter Springs\, FL\, 32708\, United States
CATEGORIES:Services
END:VEVENT
BEGIN:VEVENT
DTSTART;TZID=America/New_York:20260227T190000
DTEND;TZID=America/New_York:20260227T200000
DTSTAMP:20260424T224054
CREATED:20240507T020417Z
LAST-MODIFIED:20260108T191902Z
UID:10004743-1772218800-1772222400@templeisraelorlando.org
SUMMARY:Kabbalat Shabbat
DESCRIPTION:
URL:https://templeisraelorlando.org/event/kabbalat-shabbat/2026-02-27/
CATEGORIES:Services
END:VEVENT
END:VCALENDAR