BEGIN:VCALENDAR
VERSION:2.0
PRODID:-//Temple Israel - ECPv6.15.17.1//NONSGML v1.0//EN
CALSCALE:GREGORIAN
METHOD:PUBLISH
X-WR-CALNAME:Temple Israel
X-ORIGINAL-URL:https://templeisraelorlando.org
X-WR-CALDESC:Events for Temple Israel
REFRESH-INTERVAL;VALUE=DURATION:PT1H
X-Robots-Tag:noindex
X-PUBLISHED-TTL:PT1H
BEGIN:VTIMEZONE
TZID:America/New_York
BEGIN:DAYLIGHT
TZOFFSETFROM:-0500
TZOFFSETTO:-0400
TZNAME:EDT
DTSTART:20240310T070000
END:DAYLIGHT
BEGIN:STANDARD
TZOFFSETFROM:-0400
TZOFFSETTO:-0500
TZNAME:EST
DTSTART:20241103T060000
END:STANDARD
BEGIN:DAYLIGHT
TZOFFSETFROM:-0500
TZOFFSETTO:-0400
TZNAME:EDT
DTSTART:20250309T070000
END:DAYLIGHT
BEGIN:STANDARD
TZOFFSETFROM:-0400
TZOFFSETTO:-0500
TZNAME:EST
DTSTART:20251102T060000
END:STANDARD
BEGIN:DAYLIGHT
TZOFFSETFROM:-0500
TZOFFSETTO:-0400
TZNAME:EDT
DTSTART:20260308T070000
END:DAYLIGHT
BEGIN:STANDARD
TZOFFSETFROM:-0400
TZOFFSETTO:-0500
TZNAME:EST
DTSTART:20261101T060000
END:STANDARD
BEGIN:DAYLIGHT
TZOFFSETFROM:-0500
TZOFFSETTO:-0400
TZNAME:EDT
DTSTART:20270314T070000
END:DAYLIGHT
BEGIN:STANDARD
TZOFFSETFROM:-0400
TZOFFSETTO:-0500
TZNAME:EST
DTSTART:20271107T060000
END:STANDARD
END:VTIMEZONE
BEGIN:VEVENT
DTSTART;TZID=America/New_York:20250810T130000
DTEND;TZID=America/New_York:20250810T150000
DTSTAMP:20260420T124330
CREATED:20250604T192253Z
LAST-MODIFIED:20250808T004033Z
UID:10003095-1754830800-1754838000@templeisraelorlando.org
SUMMARY:Temple Israel Youth Welcome Back Event
DESCRIPTION:
URL:https://templeisraelorlando.org/event/temple-israel-youth-welcome-back-event/
CATEGORIES:Event,Family,Youth
ATTACH;FMTTYPE=image/png:https://templeisraelorlando.org/wp-content/uploads/2025/06/cd2c8829-3d52-a270-45b5-b3f11fff937c.png
END:VEVENT
BEGIN:VEVENT
DTSTART;TZID=America/New_York:20260125T123000
DTEND;TZID=America/New_York:20260125T133000
DTSTAMP:20260420T124330
CREATED:20251221T014547Z
LAST-MODIFIED:20260113T204042Z
UID:10006864-1769344200-1769347800@templeisraelorlando.org
SUMMARY:L'Dor v'Dor: Explore Tu B'Shevat
DESCRIPTION:For 2nd-5th grade.
URL:https://templeisraelorlando.org/event/ldor-vdor-explore-tu-bshevat/
CATEGORIES:Youth
ATTACH;FMTTYPE=image/jpeg:https://templeisraelorlando.org/wp-content/uploads/2025/12/206a9921-0098-1bba-437c-40263ab2b0c3.jpeg
END:VEVENT
BEGIN:VEVENT
DTSTART;TZID=America/New_York:20260222T123000
DTEND;TZID=America/New_York:20260222T133000
DTSTAMP:20260420T124330
CREATED:20251221T014953Z
LAST-MODIFIED:20251221T014953Z
UID:10006866-1771763400-1771767000@templeisraelorlando.org
SUMMARY:L'Dor v'Dor: Party for Purim
DESCRIPTION:For 2nd-5th grade.
URL:https://templeisraelorlando.org/event/ldor-vdor-party-for-purim/
CATEGORIES:Youth
END:VEVENT
BEGIN:VEVENT
DTSTART;TZID=America/New_York:20260329T123000
DTEND;TZID=America/New_York:20260329T133000
DTSTAMP:20260420T124330
CREATED:20251221T015122Z
LAST-MODIFIED:20251221T015122Z
UID:10006867-1774787400-1774791000@templeisraelorlando.org
SUMMARY:L'Dor v'Dor: Passover Playtime
DESCRIPTION:For 2nd-5th grade.
URL:https://templeisraelorlando.org/event/ldor-vdor-passover-playtime/
CATEGORIES:Youth
END:VEVENT
BEGIN:VEVENT
DTSTART;TZID=America/New_York:20260426T123000
DTEND;TZID=America/New_York:20260426T133000
DTSTAMP:20260420T124330
CREATED:20251221T015252Z
LAST-MODIFIED:20251221T015252Z
UID:10006868-1777206600-1777210200@templeisraelorlando.org
SUMMARY:L'Dor v'Dor: End of year scavenger hunt
DESCRIPTION:For 2nd-5th grade.
URL:https://templeisraelorlando.org/event/ldor-vdor-end-of-year-scavenger-hunt/
CATEGORIES:Youth
END:VEVENT
BEGIN:VEVENT
DTSTART;TZID=America/New_York:20260816T124500
DTEND;TZID=America/New_York:20260816T133000
DTSTAMP:20260420T124330
CREATED:20260420T122819Z
LAST-MODIFIED:20260420T122819Z
UID:10007398-1786884300-1786887000@templeisraelorlando.org
SUMMARY:TI Youth: Jeremiah's Meet up
DESCRIPTION:Get cool for back to school! \nFor all our TI youth and their families at Jeremiah’s\, 1000 Willa Springs Dr\, Winter Springs\, FL 32708. Please RSVP to Jessica Wolf at 407-222-4312.
URL:https://templeisraelorlando.org/event/ti-youth-jeremiahs-meet-up/
CATEGORIES:Event,Family,Youth
END:VEVENT
END:VCALENDAR