BEGIN:VCALENDAR
VERSION:2.0
PRODID:-//Temple Israel - ECPv6.15.17.1//NONSGML v1.0//EN
CALSCALE:GREGORIAN
METHOD:PUBLISH
X-WR-CALNAME:Temple Israel
X-ORIGINAL-URL:https://templeisraelorlando.org
X-WR-CALDESC:Events for Temple Israel
REFRESH-INTERVAL;VALUE=DURATION:PT1H
X-Robots-Tag:noindex
X-PUBLISHED-TTL:PT1H
BEGIN:VTIMEZONE
TZID:America/New_York
BEGIN:DAYLIGHT
TZOFFSETFROM:-0500
TZOFFSETTO:-0400
TZNAME:EDT
DTSTART:20230312T070000
END:DAYLIGHT
BEGIN:STANDARD
TZOFFSETFROM:-0400
TZOFFSETTO:-0500
TZNAME:EST
DTSTART:20231105T060000
END:STANDARD
BEGIN:DAYLIGHT
TZOFFSETFROM:-0500
TZOFFSETTO:-0400
TZNAME:EDT
DTSTART:20240310T070000
END:DAYLIGHT
BEGIN:STANDARD
TZOFFSETFROM:-0400
TZOFFSETTO:-0500
TZNAME:EST
DTSTART:20241103T060000
END:STANDARD
BEGIN:DAYLIGHT
TZOFFSETFROM:-0500
TZOFFSETTO:-0400
TZNAME:EDT
DTSTART:20250309T070000
END:DAYLIGHT
BEGIN:STANDARD
TZOFFSETFROM:-0400
TZOFFSETTO:-0500
TZNAME:EST
DTSTART:20251102T060000
END:STANDARD
END:VTIMEZONE
BEGIN:VTIMEZONE
TZID:UTC
BEGIN:STANDARD
TZOFFSETFROM:+0000
TZOFFSETTO:+0000
TZNAME:UTC
DTSTART:20230101T000000
END:STANDARD
END:VTIMEZONE
BEGIN:VEVENT
DTSTART;TZID=America/New_York:20240812T193000
DTEND;TZID=America/New_York:20240812T210000
DTSTAMP:20260420T022644
CREATED:20240804T210348Z
LAST-MODIFIED:20240804T210348Z
UID:10002044-1723491000-1723496400@templeisraelorlando.org
SUMMARY:Tisha B'Av Community event
DESCRIPTION:
URL:https://templeisraelorlando.org/event/tisha-bav-community-event/
LOCATION:Temple Israel\, 50 S Moss Road\, Winter Springs\, FL\, 32708\, United States
CATEGORIES:Services
END:VEVENT
BEGIN:VEVENT
DTSTART;TZID=America/New_York:20240811T090000
DTEND;TZID=America/New_York:20240811T123000
DTSTAMP:20260420T022644
CREATED:20240729T175816Z
LAST-MODIFIED:20240729T175816Z
UID:10001984-1723366800-1723379400@templeisraelorlando.org
SUMMARY:First Day of MAGAL Religious School
DESCRIPTION:
URL:https://templeisraelorlando.org/event/first-day-of-magal-religious-school/
CATEGORIES:MAGAL Religious School
END:VEVENT
BEGIN:VEVENT
DTSTART;TZID=America/New_York:20240811T090000
DTEND;TZID=America/New_York:20240811T093000
DTSTAMP:20260420T022644
CREATED:20240507T021438Z
LAST-MODIFIED:20250715T172314Z
UID:10005339-1723366800-1723368600@templeisraelorlando.org
SUMMARY:Sunday Minyan
DESCRIPTION:Our minyan starts at 9:00am in person and on zoom. \nhttps://us02web.zoom.us/j/83885789313?pwd=UkdrN25yMGRpTUIzNlRwejd1UWpjQT09 \nMeeting ID: 838 8578 9313\nPasscode: 165936
URL:https://templeisraelorlando.org/event/sunday-minyan/2024-08-11/
LOCATION:Temple Israel\, 50 S Moss Road\, Winter Springs\, FL\, 32708\, United States
CATEGORIES:Services
END:VEVENT
BEGIN:VEVENT
DTSTART;TZID=America/New_York:20240810T133000
DTEND;TZID=America/New_York:20240810T160000
DTSTAMP:20260420T022644
CREATED:20240507T020909Z
LAST-MODIFIED:20250715T170210Z
UID:10003764-1723296600-1723305600@templeisraelorlando.org
SUMMARY:Shabbat Services
DESCRIPTION:
URL:https://templeisraelorlando.org/event/shabbat-services/2024-08-10/
LOCATION:Temple Israel\, 50 S Moss Road\, Winter Springs\, FL\, 32708\, United States
CATEGORIES:Services
END:VEVENT
BEGIN:VEVENT
DTSTART;TZID=America/New_York:20240809T190000
DTEND;TZID=America/New_York:20240809T200000
DTSTAMP:20260420T022644
CREATED:20240507T020417Z
LAST-MODIFIED:20260108T191902Z
UID:10004681-1723230000-1723233600@templeisraelorlando.org
SUMMARY:Kabbalat Shabbat
DESCRIPTION:
URL:https://templeisraelorlando.org/event/kabbalat-shabbat/2024-08-09/
CATEGORIES:Services
END:VEVENT
BEGIN:VEVENT
DTSTART;TZID=UTC:20240807T190000
DTEND;TZID=UTC:20240807T200000
DTSTAMP:20260420T022644
CREATED:20240507T021723Z
LAST-MODIFIED:20240906T205159Z
UID:10001068-1723057200-1723060800@templeisraelorlando.org
SUMMARY:Anyone Can Pray!
DESCRIPTION:Meeting ID: 845 7204 8175 \nPasscode: 259681
URL:https://templeisraelorlando.org/event/anyone-can-pray/2024-08-07/
LOCATION:Temple Israel\, 50 S Moss Road\, Winter Springs\, FL\, 32708\, United States
CATEGORIES:Classes
END:VEVENT
BEGIN:VEVENT
DTSTART;TZID=America/New_York:20240807T120000
DTEND;TZID=America/New_York:20240807T130000
DTSTAMP:20260420T022644
CREATED:20240507T021624Z
LAST-MODIFIED:20250903T193916Z
UID:10005654-1723032000-1723035600@templeisraelorlando.org
SUMMARY:Torah Class with Rabbi Neely
DESCRIPTION:https://us02web.zoom.us/j/779592739?pwd=QnhwTDZlUTZMR0RoVFJManJNV0hIQT09 \nMeeting ID: 779 592 739\nPasscode: 856939
URL:https://templeisraelorlando.org/event/torah-class-with-rabbi-neely/2024-08-07/
CATEGORIES:Classes
END:VEVENT
BEGIN:VEVENT
DTSTART;TZID=America/New_York:20240806T193000
DTEND;TZID=America/New_York:20240806T203000
DTSTAMP:20260420T022644
CREATED:20240514T200940Z
LAST-MODIFIED:20240524T204606Z
UID:10001804-1722972600-1722976200@templeisraelorlando.org
SUMMARY:Ways and Means Committee
DESCRIPTION:
URL:https://templeisraelorlando.org/event/ways-and-means-committee-3/2024-08-06/
CATEGORIES:Committee meeting
END:VEVENT
BEGIN:VEVENT
DTSTART;TZID=America/New_York:20240804T100000
DTEND;TZID=America/New_York:20240804T113000
DTSTAMP:20260420T022644
CREATED:20240515T192119Z
LAST-MODIFIED:20240515T192119Z
UID:10001812-1722765600-1722771000@templeisraelorlando.org
SUMMARY:Men's Club Committee
DESCRIPTION:
URL:https://templeisraelorlando.org/event/mens-club-committee/2024-08-04/
CATEGORIES:Committee meeting
END:VEVENT
BEGIN:VEVENT
DTSTART;TZID=America/New_York:20240804T090000
DTEND;TZID=America/New_York:20240804T093000
DTSTAMP:20260420T022644
CREATED:20240507T021438Z
LAST-MODIFIED:20250715T172314Z
UID:10005338-1722762000-1722763800@templeisraelorlando.org
SUMMARY:Sunday Minyan
DESCRIPTION:Our minyan starts at 9:00am in person and on zoom. \nhttps://us02web.zoom.us/j/83885789313?pwd=UkdrN25yMGRpTUIzNlRwejd1UWpjQT09 \nMeeting ID: 838 8578 9313\nPasscode: 165936
URL:https://templeisraelorlando.org/event/sunday-minyan/2024-08-04/
LOCATION:Temple Israel\, 50 S Moss Road\, Winter Springs\, FL\, 32708\, United States
CATEGORIES:Services
END:VEVENT
BEGIN:VEVENT
DTSTART;TZID=America/New_York:20240803T133000
DTEND;TZID=America/New_York:20240803T160000
DTSTAMP:20260420T022644
CREATED:20240507T020909Z
LAST-MODIFIED:20250715T170210Z
UID:10003763-1722691800-1722700800@templeisraelorlando.org
SUMMARY:Shabbat Services
DESCRIPTION:
URL:https://templeisraelorlando.org/event/shabbat-services/2024-08-03/
LOCATION:Temple Israel\, 50 S Moss Road\, Winter Springs\, FL\, 32708\, United States
CATEGORIES:Services
END:VEVENT
BEGIN:VEVENT
DTSTART;TZID=America/New_York:20240803T100000
DTEND;TZID=America/New_York:20240803T110000
DTSTAMP:20260420T022644
CREATED:20240514T034609Z
LAST-MODIFIED:20250909T130745Z
UID:10006692-1722679200-1722682800@templeisraelorlando.org
SUMMARY:Men's Club Poker
DESCRIPTION:Join Temple Israel’s Men’s Club for a friendly game of poker and more! Everyone welcome!\n$10. Beer and snacks provided.\nContact Michael Danoff for more information and to RSVP at michael.danoff@gmail.com.
URL:https://templeisraelorlando.org/event/mens-club-poker/2024-08-03/
CATEGORIES:Event
END:VEVENT
BEGIN:VEVENT
DTSTART;TZID=America/New_York:20240802T190000
DTEND;TZID=America/New_York:20240802T210000
DTSTAMP:20260420T022644
CREATED:20240626T191056Z
LAST-MODIFIED:20240715T172040Z
UID:10001961-1722625200-1722632400@templeisraelorlando.org
SUMMARY:Summer Fiesta
DESCRIPTION:Friday August 2 | 7:00 PM \nHave Shabbat dinner with old and new Temple Israel friends \nSign up at templeisraelevents.com \nPotential new members Free Admission!
URL:https://templeisraelorlando.org/event/summer-fiesta/
CATEGORIES:Event
ATTACH;FMTTYPE=image/png:https://templeisraelorlando.org/wp-content/uploads/2024/06/Summer-Fiesta.png
END:VEVENT
BEGIN:VEVENT
DTSTART;TZID=America/New_York:20240802T190000
DTEND;TZID=America/New_York:20240802T200000
DTSTAMP:20260420T022644
CREATED:20240507T020708Z
LAST-MODIFIED:20250715T171954Z
UID:10004995-1722625200-1722628800@templeisraelorlando.org
SUMMARY:Kabbalat Shabbat
DESCRIPTION:
URL:https://templeisraelorlando.org/event/kabbalat-shabbat-2/2024-08-02/
LOCATION:Temple Israel\, 50 S Moss Road\, Winter Springs\, FL\, 32708\, United States
CATEGORIES:Services
END:VEVENT
BEGIN:VEVENT
DTSTART;TZID=UTC:20240731T190000
DTEND;TZID=UTC:20240731T200000
DTSTAMP:20260420T022644
CREATED:20240507T021723Z
LAST-MODIFIED:20240906T205159Z
UID:10001067-1722452400-1722456000@templeisraelorlando.org
SUMMARY:Anyone Can Pray!
DESCRIPTION:Meeting ID: 845 7204 8175 \nPasscode: 259681
URL:https://templeisraelorlando.org/event/anyone-can-pray/2024-07-31/
LOCATION:Temple Israel\, 50 S Moss Road\, Winter Springs\, FL\, 32708\, United States
CATEGORIES:Classes
END:VEVENT
BEGIN:VEVENT
DTSTART;TZID=America/New_York:20240731T120000
DTEND;TZID=America/New_York:20240731T130000
DTSTAMP:20260420T022644
CREATED:20240507T021624Z
LAST-MODIFIED:20250903T193916Z
UID:10005653-1722427200-1722430800@templeisraelorlando.org
SUMMARY:Torah Class with Rabbi Neely
DESCRIPTION:https://us02web.zoom.us/j/779592739?pwd=QnhwTDZlUTZMR0RoVFJManJNV0hIQT09 \nMeeting ID: 779 592 739\nPasscode: 856939
URL:https://templeisraelorlando.org/event/torah-class-with-rabbi-neely/2024-07-31/
CATEGORIES:Classes
END:VEVENT
BEGIN:VEVENT
DTSTART;TZID=America/New_York:20240729T113000
DTEND;TZID=America/New_York:20240729T123000
DTSTAMP:20260420T022644
CREATED:20240610T180021Z
LAST-MODIFIED:20240610T180021Z
UID:10001953-1722252600-1722256200@templeisraelorlando.org
SUMMARY:MAGAL Committee
DESCRIPTION:
URL:https://templeisraelorlando.org/event/magal-committee-4/
CATEGORIES:Committee meeting
END:VEVENT
BEGIN:VEVENT
DTSTART;TZID=America/New_York:20240728T090000
DTEND;TZID=America/New_York:20240728T093000
DTSTAMP:20260420T022644
CREATED:20240507T021438Z
LAST-MODIFIED:20250715T172314Z
UID:10005337-1722157200-1722159000@templeisraelorlando.org
SUMMARY:Sunday Minyan
DESCRIPTION:Our minyan starts at 9:00am in person and on zoom. \nhttps://us02web.zoom.us/j/83885789313?pwd=UkdrN25yMGRpTUIzNlRwejd1UWpjQT09 \nMeeting ID: 838 8578 9313\nPasscode: 165936
URL:https://templeisraelorlando.org/event/sunday-minyan/2024-07-28/
LOCATION:Temple Israel\, 50 S Moss Road\, Winter Springs\, FL\, 32708\, United States
CATEGORIES:Services
END:VEVENT
BEGIN:VEVENT
DTSTART;TZID=America/New_York:20240727T133000
DTEND;TZID=America/New_York:20240727T160000
DTSTAMP:20260420T022644
CREATED:20240507T020909Z
LAST-MODIFIED:20250715T170210Z
UID:10003762-1722087000-1722096000@templeisraelorlando.org
SUMMARY:Shabbat Services
DESCRIPTION:
URL:https://templeisraelorlando.org/event/shabbat-services/2024-07-27/
LOCATION:Temple Israel\, 50 S Moss Road\, Winter Springs\, FL\, 32708\, United States
CATEGORIES:Services
END:VEVENT
BEGIN:VEVENT
DTSTART;TZID=America/New_York:20240726T190000
DTEND;TZID=America/New_York:20240726T200000
DTSTAMP:20260420T022644
CREATED:20240507T020417Z
LAST-MODIFIED:20260108T191902Z
UID:10004680-1722020400-1722024000@templeisraelorlando.org
SUMMARY:Kabbalat Shabbat
DESCRIPTION:
URL:https://templeisraelorlando.org/event/kabbalat-shabbat/2024-07-26/
CATEGORIES:Services
END:VEVENT
BEGIN:VEVENT
DTSTART;TZID=UTC:20240724T190000
DTEND;TZID=UTC:20240724T200000
DTSTAMP:20260420T022644
CREATED:20240507T021723Z
LAST-MODIFIED:20240906T205159Z
UID:10001066-1721847600-1721851200@templeisraelorlando.org
SUMMARY:Anyone Can Pray!
DESCRIPTION:Meeting ID: 845 7204 8175 \nPasscode: 259681
URL:https://templeisraelorlando.org/event/anyone-can-pray/2024-07-24/
LOCATION:Temple Israel\, 50 S Moss Road\, Winter Springs\, FL\, 32708\, United States
CATEGORIES:Classes
END:VEVENT
BEGIN:VEVENT
DTSTART;TZID=America/New_York:20240724T120000
DTEND;TZID=America/New_York:20240724T130000
DTSTAMP:20260420T022644
CREATED:20240507T021624Z
LAST-MODIFIED:20250903T193916Z
UID:10005652-1721822400-1721826000@templeisraelorlando.org
SUMMARY:Torah Class with Rabbi Neely
DESCRIPTION:https://us02web.zoom.us/j/779592739?pwd=QnhwTDZlUTZMR0RoVFJManJNV0hIQT09 \nMeeting ID: 779 592 739\nPasscode: 856939
URL:https://templeisraelorlando.org/event/torah-class-with-rabbi-neely/2024-07-24/
CATEGORIES:Classes
END:VEVENT
BEGIN:VEVENT
DTSTART;TZID=America/New_York:20240722T193000
DTEND;TZID=America/New_York:20240722T210000
DTSTAMP:20260420T022644
CREATED:20240524T010900Z
LAST-MODIFIED:20240605T215903Z
UID:10001937-1721676600-1721682000@templeisraelorlando.org
SUMMARY:Strategic Planning Committee
DESCRIPTION:
URL:https://templeisraelorlando.org/event/strategic-planning-committee-2/
CATEGORIES:Committee meeting
END:VEVENT
BEGIN:VEVENT
DTSTART;TZID=America/New_York:20240721T100000
DTEND;TZID=America/New_York:20240721T170000
DTSTAMP:20260420T022644
CREATED:20240605T163857Z
LAST-MODIFIED:20240605T163857Z
UID:10001944-1721556000-1721581200@templeisraelorlando.org
SUMMARY:Budget and Finance Committee
DESCRIPTION:
URL:https://templeisraelorlando.org/event/budget-and-finance-committee-2/
CATEGORIES:Committee meeting
END:VEVENT
BEGIN:VEVENT
DTSTART;TZID=America/New_York:20240721T090000
DTEND;TZID=America/New_York:20240721T093000
DTSTAMP:20260420T022644
CREATED:20240507T021438Z
LAST-MODIFIED:20250715T172314Z
UID:10005336-1721552400-1721554200@templeisraelorlando.org
SUMMARY:Sunday Minyan
DESCRIPTION:Our minyan starts at 9:00am in person and on zoom. \nhttps://us02web.zoom.us/j/83885789313?pwd=UkdrN25yMGRpTUIzNlRwejd1UWpjQT09 \nMeeting ID: 838 8578 9313\nPasscode: 165936
URL:https://templeisraelorlando.org/event/sunday-minyan/2024-07-21/
LOCATION:Temple Israel\, 50 S Moss Road\, Winter Springs\, FL\, 32708\, United States
CATEGORIES:Services
END:VEVENT
BEGIN:VEVENT
DTSTART;TZID=America/New_York:20240720T133000
DTEND;TZID=America/New_York:20240720T160000
DTSTAMP:20260420T022644
CREATED:20240507T020909Z
LAST-MODIFIED:20250715T170210Z
UID:10003761-1721482200-1721491200@templeisraelorlando.org
SUMMARY:Shabbat Services
DESCRIPTION:
URL:https://templeisraelorlando.org/event/shabbat-services/2024-07-20/
LOCATION:Temple Israel\, 50 S Moss Road\, Winter Springs\, FL\, 32708\, United States
CATEGORIES:Services
END:VEVENT
BEGIN:VEVENT
DTSTART;TZID=America/New_York:20240720T110000
DTEND;TZID=America/New_York:20240720T234500
DTSTAMP:20260420T022644
CREATED:20240507T033334Z
LAST-MODIFIED:20250715T172956Z
UID:10006347-1721473200-1721519100@templeisraelorlando.org
SUMMARY:Tot Shabbat
DESCRIPTION:
URL:https://templeisraelorlando.org/event/tot-shabbat/2024-07-20/
CATEGORIES:Family
END:VEVENT
BEGIN:VEVENT
DTSTART;TZID=America/New_York:20240719T190000
DTEND;TZID=America/New_York:20240719T200000
DTSTAMP:20260420T022644
CREATED:20240507T020417Z
LAST-MODIFIED:20260108T191902Z
UID:10004679-1721415600-1721419200@templeisraelorlando.org
SUMMARY:Kabbalat Shabbat
DESCRIPTION:
URL:https://templeisraelorlando.org/event/kabbalat-shabbat/2024-07-19/
CATEGORIES:Services
END:VEVENT
BEGIN:VEVENT
DTSTART;TZID=UTC:20240718T190000
DTEND;TZID=UTC:20240718T210000
DTSTAMP:20260420T022644
CREATED:20240510T003225Z
LAST-MODIFIED:20240510T221128Z
UID:10001624-1721329200-1721336400@templeisraelorlando.org
SUMMARY:Men's Club - Fourth Amendment Discussion
DESCRIPTION:Thursday\, July 18 at 7pm \nJoin us at Dr. Rein’s home in Longwood on July 18 at 7pm. This event is free\, but be sure to RSVP to Natan Brener at 407-435-8613 (text)
URL:https://templeisraelorlando.org/event/mens-club-fourth-amendment-discussion/
CATEGORIES:Featured
ATTACH;FMTTYPE=image/png:https://templeisraelorlando.org/wp-content/uploads/2024/05/Mens-Club-Fourth-Amendment-Discussion-2.png
END:VEVENT
BEGIN:VEVENT
DTSTART;TZID=America/New_York:20240714T100000
DTEND;TZID=America/New_York:20240714T120000
DTSTAMP:20260420T022644
CREATED:20240617T182643Z
LAST-MODIFIED:20240617T182643Z
UID:10001956-1720951200-1720958400@templeisraelorlando.org
SUMMARY:Temple Israel Cemetery Corporation Quarterly Board Meeting
DESCRIPTION:
URL:https://templeisraelorlando.org/event/temple-israel-cemetery-corporation-quarterly-board-meeting/
CATEGORIES:Committee meeting
END:VEVENT
END:VCALENDAR