BEGIN:VCALENDAR
VERSION:2.0
PRODID:-//Temple Israel - ECPv6.15.17.1//NONSGML v1.0//EN
CALSCALE:GREGORIAN
METHOD:PUBLISH
X-WR-CALNAME:Temple Israel
X-ORIGINAL-URL:https://templeisraelorlando.org
X-WR-CALDESC:Events for Temple Israel
REFRESH-INTERVAL;VALUE=DURATION:PT1H
X-Robots-Tag:noindex
X-PUBLISHED-TTL:PT1H
BEGIN:VTIMEZONE
TZID:America/New_York
BEGIN:DAYLIGHT
TZOFFSETFROM:-0500
TZOFFSETTO:-0400
TZNAME:EDT
DTSTART:20230312T070000
END:DAYLIGHT
BEGIN:STANDARD
TZOFFSETFROM:-0400
TZOFFSETTO:-0500
TZNAME:EST
DTSTART:20231105T060000
END:STANDARD
BEGIN:DAYLIGHT
TZOFFSETFROM:-0500
TZOFFSETTO:-0400
TZNAME:EDT
DTSTART:20240310T070000
END:DAYLIGHT
BEGIN:STANDARD
TZOFFSETFROM:-0400
TZOFFSETTO:-0500
TZNAME:EST
DTSTART:20241103T060000
END:STANDARD
BEGIN:DAYLIGHT
TZOFFSETFROM:-0500
TZOFFSETTO:-0400
TZNAME:EDT
DTSTART:20250309T070000
END:DAYLIGHT
BEGIN:STANDARD
TZOFFSETFROM:-0400
TZOFFSETTO:-0500
TZNAME:EST
DTSTART:20251102T060000
END:STANDARD
END:VTIMEZONE
BEGIN:VEVENT
DTSTART;TZID=America/New_York:20241021T113000
DTEND;TZID=America/New_York:20241021T123000
DTSTAMP:20260420T011259
CREATED:20240916T233959Z
LAST-MODIFIED:20240916T233959Z
UID:10002203-1729510200-1729513800@templeisraelorlando.org
SUMMARY:MAGAL Committee
DESCRIPTION:
URL:https://templeisraelorlando.org/event/magal-committee-6/
CATEGORIES:Committee meeting
END:VEVENT
BEGIN:VEVENT
DTSTART;VALUE=DATE:20241021
DTEND;VALUE=DATE:20241022
DTSTAMP:20260420T011259
CREATED:20240514T192517Z
LAST-MODIFIED:20240514T192517Z
UID:10001788-1729468800-1729555199@templeisraelorlando.org
SUMMARY:Sukkot V (CH’’M)
DESCRIPTION:
URL:https://templeisraelorlando.org/event/sukkot-v-chm/
CATEGORIES:Holiday
END:VEVENT
BEGIN:VEVENT
DTSTART;TZID=America/New_York:20241020T193000
DTEND;TZID=America/New_York:20241020T213000
DTSTAMP:20260420T011259
CREATED:20240923T155236Z
LAST-MODIFIED:20240923T155236Z
UID:10002215-1729452600-1729459800@templeisraelorlando.org
SUMMARY:Strategic Planning Committee
DESCRIPTION:
URL:https://templeisraelorlando.org/event/strategic-planning-committee-4/
CATEGORIES:Committee meeting
END:VEVENT
BEGIN:VEVENT
DTSTART;TZID=America/New_York:20241020T180000
DTEND;TZID=America/New_York:20241020T210000
DTSTAMP:20260420T011259
CREATED:20240624T162620Z
LAST-MODIFIED:20240624T172428Z
UID:10001960-1729447200-1729458000@templeisraelorlando.org
SUMMARY:Men's Club: Bourbon and Cigars in the Sukkah
DESCRIPTION:Bourbon and cigars in the Sukkah: Cigars\, whiskey and light food included.\nSunday 10/20 from 6-9 pm\n$36 Men’s Club members\, $50 no members.\nRSVP: Natan Brener at 407-435-8613\nDue date for registration: 10/18
URL:https://templeisraelorlando.org/event/mens-club-bourbon-and-cigars-in-the-sukkah/
CATEGORIES:Event
ATTACH;FMTTYPE=image/png:https://templeisraelorlando.org/wp-content/uploads/2024/06/Bourbon-and-cigars-in-the-Sukkah-Cigars.png
END:VEVENT
BEGIN:VEVENT
DTSTART;TZID=America/New_York:20241020T153000
DTEND;TZID=America/New_York:20241020T173000
DTSTAMP:20260420T011259
CREATED:20240814T142959Z
LAST-MODIFIED:20240924T183723Z
UID:10002048-1729438200-1729445400@templeisraelorlando.org
SUMMARY:TI Gesher: Rock Climbing Event
DESCRIPTION:For more information\, email penelope.neely@gmail.com.
URL:https://templeisraelorlando.org/event/ti-gesher-rock-climbing-event/
CATEGORIES:Event,Youth
ATTACH;FMTTYPE=image/png:https://templeisraelorlando.org/wp-content/uploads/2024/08/2.png
END:VEVENT
BEGIN:VEVENT
DTSTART;TZID=America/New_York:20241020T123000
DTEND;TZID=America/New_York:20241020T133000
DTSTAMP:20260420T011259
CREATED:20240815T171952Z
LAST-MODIFIED:20240924T183635Z
UID:10002056-1729427400-1729431000@templeisraelorlando.org
SUMMARY:L'Dor v'Dor Games Afternoon
DESCRIPTION:
URL:https://templeisraelorlando.org/event/ldor-vdor-games-afternoon/
CATEGORIES:Event,Youth
ATTACH;FMTTYPE=image/jpeg:https://templeisraelorlando.org/wp-content/uploads/2024/08/3.jpg
END:VEVENT
BEGIN:VEVENT
DTSTART;TZID=America/New_York:20241020T110000
DTEND;TZID=America/New_York:20241020T170000
DTSTAMP:20260420T011259
CREATED:20240920T150133Z
LAST-MODIFIED:20240920T150214Z
UID:10002211-1729422000-1729443600@templeisraelorlando.org
SUMMARY:Parents Advisory Committee
DESCRIPTION:
URL:https://templeisraelorlando.org/event/parents-advisory-committee/
CATEGORIES:Committee meeting
ATTACH;FMTTYPE=image/png:https://templeisraelorlando.org/wp-content/uploads/2024/09/Parent-Advisory-Committee.png
END:VEVENT
BEGIN:VEVENT
DTSTART;TZID=America/New_York:20241020T100000
DTEND;TZID=America/New_York:20241020T110000
DTSTAMP:20260420T011259
CREATED:20240715T173120Z
LAST-MODIFIED:20240715T173120Z
UID:10001974-1729418400-1729422000@templeisraelorlando.org
SUMMARY:Budget and Finance Committee
DESCRIPTION:
URL:https://templeisraelorlando.org/event/budget-and-finance-committee-5/
CATEGORIES:Committee meeting
END:VEVENT
BEGIN:VEVENT
DTSTART;TZID=America/New_York:20241020T090000
DTEND;TZID=America/New_York:20241020T093000
DTSTAMP:20260420T011259
CREATED:20240507T021438Z
LAST-MODIFIED:20250715T172314Z
UID:10005349-1729414800-1729416600@templeisraelorlando.org
SUMMARY:Sunday Minyan
DESCRIPTION:Our minyan starts at 9:00am in person and on zoom. \nhttps://us02web.zoom.us/j/83885789313?pwd=UkdrN25yMGRpTUIzNlRwejd1UWpjQT09 \nMeeting ID: 838 8578 9313\nPasscode: 165936
URL:https://templeisraelorlando.org/event/sunday-minyan/2024-10-20/
LOCATION:Temple Israel\, 50 S Moss Road\, Winter Springs\, FL\, 32708\, United States
CATEGORIES:Services
END:VEVENT
BEGIN:VEVENT
DTSTART;VALUE=DATE:20241020
DTEND;VALUE=DATE:20241021
DTSTAMP:20260420T011259
CREATED:20240514T192454Z
LAST-MODIFIED:20240514T192454Z
UID:10001787-1729382400-1729468799@templeisraelorlando.org
SUMMARY:Sukkot IV (CH’’M)
DESCRIPTION:
URL:https://templeisraelorlando.org/event/sukkot-iv-chm/
CATEGORIES:Holiday
END:VEVENT
BEGIN:VEVENT
DTSTART;TZID=America/New_York:20241019T133000
DTEND;TZID=America/New_York:20241019T160000
DTSTAMP:20260420T011259
CREATED:20240507T020909Z
LAST-MODIFIED:20250715T170210Z
UID:10003773-1729344600-1729353600@templeisraelorlando.org
SUMMARY:Shabbat Services
DESCRIPTION:
URL:https://templeisraelorlando.org/event/shabbat-services/2024-10-19/
LOCATION:Temple Israel\, 50 S Moss Road\, Winter Springs\, FL\, 32708\, United States
CATEGORIES:Services
END:VEVENT
BEGIN:VEVENT
DTSTART;TZID=America/New_York:20241019T110000
DTEND;TZID=America/New_York:20241019T234500
DTSTAMP:20260420T011259
CREATED:20240507T033334Z
LAST-MODIFIED:20250715T172956Z
UID:10006349-1729335600-1729381500@templeisraelorlando.org
SUMMARY:Tot Shabbat
DESCRIPTION:
URL:https://templeisraelorlando.org/event/tot-shabbat/2024-10-19/
CATEGORIES:Family
END:VEVENT
BEGIN:VEVENT
DTSTART;VALUE=DATE:20241019
DTEND;VALUE=DATE:20241020
DTSTAMP:20260420T011259
CREATED:20240514T192430Z
LAST-MODIFIED:20240514T192430Z
UID:10001786-1729296000-1729382399@templeisraelorlando.org
SUMMARY:Sukkot III (CH’’M)
DESCRIPTION:
URL:https://templeisraelorlando.org/event/sukkot-iii-chm/
CATEGORIES:Holiday
END:VEVENT
BEGIN:VEVENT
DTSTART;TZID=America/New_York:20241018T190000
DTEND;TZID=America/New_York:20241018T200000
DTSTAMP:20260420T011259
CREATED:20240507T020417Z
LAST-MODIFIED:20260108T191902Z
UID:10004688-1729278000-1729281600@templeisraelorlando.org
SUMMARY:Kabbalat Shabbat
DESCRIPTION:
URL:https://templeisraelorlando.org/event/kabbalat-shabbat/2024-10-18/
CATEGORIES:Services
END:VEVENT
BEGIN:VEVENT
DTSTART;TZID=America/New_York:20241018T093000
DTEND;TZID=America/New_York:20241018T113000
DTSTAMP:20260420T011259
CREATED:20240930T015557Z
LAST-MODIFIED:20240930T015557Z
UID:10002489-1729243800-1729251000@templeisraelorlando.org
SUMMARY:Sukkot services
DESCRIPTION:
URL:https://templeisraelorlando.org/event/sukkot-services-2/
CATEGORIES:Services
END:VEVENT
BEGIN:VEVENT
DTSTART;VALUE=DATE:20241018
DTEND;VALUE=DATE:20241019
DTSTAMP:20260420T011259
CREATED:20240514T192408Z
LAST-MODIFIED:20240514T192408Z
UID:10001785-1729209600-1729295999@templeisraelorlando.org
SUMMARY:Sukkot II
DESCRIPTION:
URL:https://templeisraelorlando.org/event/sukkot-ii/
CATEGORIES:Holiday
END:VEVENT
BEGIN:VEVENT
DTSTART;TZID=America/New_York:20241017T093000
DTEND;TZID=America/New_York:20241017T113000
DTSTAMP:20260420T011259
CREATED:20240930T015525Z
LAST-MODIFIED:20240930T015525Z
UID:10002488-1729157400-1729164600@templeisraelorlando.org
SUMMARY:Sukkot services
DESCRIPTION:
URL:https://templeisraelorlando.org/event/sukkot-services/
CATEGORIES:Services
END:VEVENT
BEGIN:VEVENT
DTSTART;VALUE=DATE:20241017
DTEND;VALUE=DATE:20241018
DTSTAMP:20260420T011259
CREATED:20240514T191926Z
LAST-MODIFIED:20240514T191926Z
UID:10001784-1729123200-1729209599@templeisraelorlando.org
SUMMARY:Sukkot I
DESCRIPTION:
URL:https://templeisraelorlando.org/event/sukkot-i/
CATEGORIES:Holiday
END:VEVENT
BEGIN:VEVENT
DTSTART;VALUE=DATE:20241016
DTEND;VALUE=DATE:20241017
DTSTAMP:20260420T011259
CREATED:20240514T191901Z
LAST-MODIFIED:20240514T191901Z
UID:10001783-1729036800-1729123199@templeisraelorlando.org
SUMMARY:Erev Sukkot
DESCRIPTION:
URL:https://templeisraelorlando.org/event/erev-sukkot/
CATEGORIES:Holiday
END:VEVENT
BEGIN:VEVENT
DTSTART;TZID=America/New_York:20241014T190000
DTEND;TZID=America/New_York:20241014T210000
DTSTAMP:20260420T011259
CREATED:20241002T005511Z
LAST-MODIFIED:20241002T005511Z
UID:10002495-1728932400-1728939600@templeisraelorlando.org
SUMMARY:Board of Directors
DESCRIPTION:
URL:https://templeisraelorlando.org/event/board-of-directors-4/
CATEGORIES:Committee meeting
END:VEVENT
BEGIN:VEVENT
DTSTART;VALUE=DATE:20241014
DTEND;VALUE=DATE:20241015
DTSTAMP:20260420T011259
CREATED:20240514T190047Z
LAST-MODIFIED:20240514T190047Z
UID:10001763-1728864000-1728950399@templeisraelorlando.org
SUMMARY:Indigenous Peoples' Day
DESCRIPTION:
URL:https://templeisraelorlando.org/event/indigenous-peoples-day/
CATEGORIES:Holiday
END:VEVENT
BEGIN:VEVENT
DTSTART;VALUE=DATE:20241014
DTEND;VALUE=DATE:20241015
DTSTAMP:20260420T011259
CREATED:20240514T190022Z
LAST-MODIFIED:20240514T190022Z
UID:10001762-1728864000-1728950399@templeisraelorlando.org
SUMMARY:Columbus Day
DESCRIPTION:
URL:https://templeisraelorlando.org/event/columbus-day/
CATEGORIES:Holiday
END:VEVENT
BEGIN:VEVENT
DTSTART;TZID=America/New_York:20241013T090000
DTEND;TZID=America/New_York:20241013T093000
DTSTAMP:20260420T011259
CREATED:20240507T021438Z
LAST-MODIFIED:20250715T172314Z
UID:10005348-1728810000-1728811800@templeisraelorlando.org
SUMMARY:Sunday Minyan
DESCRIPTION:Our minyan starts at 9:00am in person and on zoom. \nhttps://us02web.zoom.us/j/83885789313?pwd=UkdrN25yMGRpTUIzNlRwejd1UWpjQT09 \nMeeting ID: 838 8578 9313\nPasscode: 165936
URL:https://templeisraelorlando.org/event/sunday-minyan/2024-10-13/
LOCATION:Temple Israel\, 50 S Moss Road\, Winter Springs\, FL\, 32708\, United States
CATEGORIES:Services
END:VEVENT
BEGIN:VEVENT
DTSTART;TZID=America/New_York:20241012T090000
DTEND;TZID=America/New_York:20241012T140000
DTSTAMP:20260420T011259
CREATED:20240818T172309Z
LAST-MODIFIED:20240818T172309Z
UID:10002078-1728723600-1728741600@templeisraelorlando.org
SUMMARY:Yom Kippur services
DESCRIPTION:
URL:https://templeisraelorlando.org/event/yom-kippur-services/
CATEGORIES:Services
END:VEVENT
BEGIN:VEVENT
DTSTART;VALUE=DATE:20241012
DTEND;VALUE=DATE:20241013
DTSTAMP:20260420T011259
CREATED:20240514T191821Z
LAST-MODIFIED:20240514T191821Z
UID:10001782-1728691200-1728777599@templeisraelorlando.org
SUMMARY:Yom Kippur
DESCRIPTION:
URL:https://templeisraelorlando.org/event/yom-kippur/
CATEGORIES:Holiday
END:VEVENT
BEGIN:VEVENT
DTSTART;TZID=America/New_York:20241011T181500
DTEND;TZID=America/New_York:20241011T210000
DTSTAMP:20260420T011259
CREATED:20240818T172230Z
LAST-MODIFIED:20240818T172230Z
UID:10002077-1728670500-1728680400@templeisraelorlando.org
SUMMARY:Kol Nidre
DESCRIPTION:
URL:https://templeisraelorlando.org/event/kol-nidre/
CATEGORIES:Services
END:VEVENT
BEGIN:VEVENT
DTSTART;VALUE=DATE:20241011
DTEND;VALUE=DATE:20241012
DTSTAMP:20260420T011259
CREATED:20240514T191758Z
LAST-MODIFIED:20240514T191758Z
UID:10001781-1728604800-1728691199@templeisraelorlando.org
SUMMARY:Erev Yom Kippur
DESCRIPTION:
URL:https://templeisraelorlando.org/event/erev-yom-kippur/
CATEGORIES:Holiday
END:VEVENT
BEGIN:VEVENT
DTSTART;TZID=America/New_York:20241010T193000
DTEND;TZID=America/New_York:20241010T210000
DTSTAMP:20260420T011259
CREATED:20240715T172924Z
LAST-MODIFIED:20240715T172924Z
UID:10001972-1728588600-1728594000@templeisraelorlando.org
SUMMARY:Safety and Security Committee
DESCRIPTION:
URL:https://templeisraelorlando.org/event/safety-and-security-committee-4/
CATEGORIES:Committee meeting
END:VEVENT
BEGIN:VEVENT
DTSTART;TZID=America/New_York:20241007T190000
DTEND;TZID=America/New_York:20241007T200000
DTSTAMP:20260420T011259
CREATED:20241002T005338Z
LAST-MODIFIED:20241002T005338Z
UID:10002493-1728327600-1728331200@templeisraelorlando.org
SUMMARY:Executive Committee
DESCRIPTION:
URL:https://templeisraelorlando.org/event/executive-committee-3/
CATEGORIES:Committee meeting
END:VEVENT
BEGIN:VEVENT
DTSTART;TZID=America/New_York:20241006T123000
DTEND;TZID=America/New_York:20241006T140000
DTSTAMP:20260420T011259
CREATED:20240814T143251Z
LAST-MODIFIED:20240924T183558Z
UID:10002052-1728217800-1728223200@templeisraelorlando.org
SUMMARY:TI USY Cupcake Challenge Event
DESCRIPTION:For more information\, email penelope.neely@gmail.com.
URL:https://templeisraelorlando.org/event/ti-usy-cupcake-challenge-event/
CATEGORIES:Youth
ATTACH;FMTTYPE=image/png:https://templeisraelorlando.org/wp-content/uploads/2024/08/1.png
END:VEVENT
END:VCALENDAR