BEGIN:VCALENDAR
VERSION:2.0
PRODID:-//Temple Israel - ECPv6.15.17.1//NONSGML v1.0//EN
CALSCALE:GREGORIAN
METHOD:PUBLISH
X-WR-CALNAME:Temple Israel
X-ORIGINAL-URL:https://templeisraelorlando.org
X-WR-CALDESC:Events for Temple Israel
REFRESH-INTERVAL;VALUE=DURATION:PT1H
X-Robots-Tag:noindex
X-PUBLISHED-TTL:PT1H
BEGIN:VTIMEZONE
TZID:America/New_York
BEGIN:DAYLIGHT
TZOFFSETFROM:-0500
TZOFFSETTO:-0400
TZNAME:EDT
DTSTART:20280312T070000
END:DAYLIGHT
BEGIN:STANDARD
TZOFFSETFROM:-0400
TZOFFSETTO:-0500
TZNAME:EST
DTSTART:20281105T060000
END:STANDARD
BEGIN:DAYLIGHT
TZOFFSETFROM:-0500
TZOFFSETTO:-0400
TZNAME:EDT
DTSTART:20290311T070000
END:DAYLIGHT
BEGIN:STANDARD
TZOFFSETFROM:-0400
TZOFFSETTO:-0500
TZNAME:EST
DTSTART:20291104T060000
END:STANDARD
BEGIN:DAYLIGHT
TZOFFSETFROM:-0500
TZOFFSETTO:-0400
TZNAME:EDT
DTSTART:20300310T070000
END:DAYLIGHT
BEGIN:STANDARD
TZOFFSETFROM:-0400
TZOFFSETTO:-0500
TZNAME:EST
DTSTART:20301103T060000
END:STANDARD
END:VTIMEZONE
BEGIN:VEVENT
DTSTART;TZID=America/New_York:20290624T090000
DTEND;TZID=America/New_York:20290624T093000
DTSTAMP:20260422T183816
CREATED:20240507T021438Z
LAST-MODIFIED:20250715T172314Z
UID:10005591-1876986000-1876987800@templeisraelorlando.org
SUMMARY:Sunday Minyan
DESCRIPTION:Our minyan starts at 9:00am in person and on zoom. \nhttps://us02web.zoom.us/j/83885789313?pwd=UkdrN25yMGRpTUIzNlRwejd1UWpjQT09 \nMeeting ID: 838 8578 9313\nPasscode: 165936
URL:https://templeisraelorlando.org/event/sunday-minyan/2029-06-24/
LOCATION:Temple Israel\, 50 S Moss Road\, Winter Springs\, FL\, 32708\, United States
CATEGORIES:Services
END:VEVENT
BEGIN:VEVENT
DTSTART;TZID=America/New_York:20290625T190000
DTEND;TZID=America/New_York:20290625T200000
DTSTAMP:20260422T183816
CREATED:20240507T032905Z
LAST-MODIFIED:20250825T133443Z
UID:10006530-1877108400-1877112000@templeisraelorlando.org
SUMMARY:Board of Directors
DESCRIPTION:
URL:https://templeisraelorlando.org/event/board-of-directors/2029-06-25/
CATEGORIES:Committee meeting
END:VEVENT
BEGIN:VEVENT
DTSTART;TZID=America/New_York:20290626T193000
DTEND;TZID=America/New_York:20290626T203000
DTSTAMP:20260422T183816
CREATED:20250630T172741Z
LAST-MODIFIED:20250825T133756Z
UID:10003161-1877196600-1877200200@templeisraelorlando.org
SUMMARY:Membership Committee Meeting
DESCRIPTION:
URL:https://templeisraelorlando.org/event/membership-committee-meeting-3/2029-06-26/
CATEGORIES:Committee meeting
END:VEVENT
BEGIN:VEVENT
DTSTART;TZID=America/New_York:20290627T120000
DTEND;TZID=America/New_York:20290627T130000
DTSTAMP:20260422T183816
CREATED:20260224T125059Z
LAST-MODIFIED:20260318T180202Z
UID:10007075-1877256000-1877259600@templeisraelorlando.org
SUMMARY:Lunchtime class with Rabbi Neely
DESCRIPTION:
URL:https://templeisraelorlando.org/event/lunchtime-class-with-rabbi-neely/2029-06-27/
CATEGORIES:Classes
END:VEVENT
BEGIN:VEVENT
DTSTART;TZID=America/New_York:20290628T190000
DTEND;TZID=America/New_York:20290628T203000
DTSTAMP:20260422T183816
CREATED:20260412T165154Z
LAST-MODIFIED:20260412T165154Z
UID:10007311-1877367600-1877373000@templeisraelorlando.org
SUMMARY:TI Men's Club Monthly Social @ The Back Porch
DESCRIPTION:Join Men’s Club on the 4th Thursday of each month @ 7 PM at The Back Porch\, 145 Wekiva Springs Rd #161\, Longwood.
URL:https://templeisraelorlando.org/event/ti-mens-club-monthly-social-the-back-porch/2029-06-28/
CATEGORIES:Event
END:VEVENT
BEGIN:VEVENT
DTSTART;TZID=America/New_York:20290629T190000
DTEND;TZID=America/New_York:20290629T200000
DTSTAMP:20260422T183816
CREATED:20240507T020417Z
LAST-MODIFIED:20260108T191902Z
UID:10004877-1877454000-1877457600@templeisraelorlando.org
SUMMARY:Kabbalat Shabbat
DESCRIPTION:
URL:https://templeisraelorlando.org/event/kabbalat-shabbat/2029-06-29/
CATEGORIES:Services
END:VEVENT
BEGIN:VEVENT
DTSTART;TZID=America/New_York:20290630T093000
DTEND;TZID=America/New_York:20290630T120000
DTSTAMP:20260422T183816
CREATED:20250715T172155Z
LAST-MODIFIED:20250715T172816Z
UID:10006291-1877506200-1877515200@templeisraelorlando.org
SUMMARY:Shabbat Services
DESCRIPTION:
URL:https://templeisraelorlando.org/event/shabbat-services-2/2029-06-30/
LOCATION:Temple Israel\, 50 S Moss Road\, Winter Springs\, FL\, 32708\, United States
CATEGORIES:Services
END:VEVENT
BEGIN:VEVENT
DTSTART;TZID=America/New_York:20290701T090000
DTEND;TZID=America/New_York:20290701T093000
DTSTAMP:20260422T183816
CREATED:20240507T021438Z
LAST-MODIFIED:20250715T172314Z
UID:10005592-1877590800-1877592600@templeisraelorlando.org
SUMMARY:Sunday Minyan
DESCRIPTION:Our minyan starts at 9:00am in person and on zoom. \nhttps://us02web.zoom.us/j/83885789313?pwd=UkdrN25yMGRpTUIzNlRwejd1UWpjQT09 \nMeeting ID: 838 8578 9313\nPasscode: 165936
URL:https://templeisraelorlando.org/event/sunday-minyan/2029-07-01/
LOCATION:Temple Israel\, 50 S Moss Road\, Winter Springs\, FL\, 32708\, United States
CATEGORIES:Services
END:VEVENT
BEGIN:VEVENT
DTSTART;TZID=America/New_York:20290704T120000
DTEND;TZID=America/New_York:20290704T130000
DTSTAMP:20260422T183816
CREATED:20260224T125059Z
LAST-MODIFIED:20260318T180202Z
UID:10007076-1877860800-1877864400@templeisraelorlando.org
SUMMARY:Lunchtime class with Rabbi Neely
DESCRIPTION:
URL:https://templeisraelorlando.org/event/lunchtime-class-with-rabbi-neely/2029-07-04/
CATEGORIES:Classes
END:VEVENT
BEGIN:VEVENT
DTSTART;TZID=America/New_York:20290706T180000
DTEND;TZID=America/New_York:20290706T190000
DTSTAMP:20260422T183816
CREATED:20250724T120311Z
LAST-MODIFIED:20260406T182700Z
UID:10006654-1878055200-1878058800@templeisraelorlando.org
SUMMARY:Kabbalat Shabbat
DESCRIPTION:
URL:https://templeisraelorlando.org/event/kabbalat-shabbat-2-2/2029-07-06/
LOCATION:Temple Israel\, 50 S Moss Road\, Winter Springs\, FL\, 32708\, United States
CATEGORIES:Services
END:VEVENT
BEGIN:VEVENT
DTSTART;TZID=America/New_York:20290707T093000
DTEND;TZID=America/New_York:20290707T120000
DTSTAMP:20260422T183816
CREATED:20250715T172155Z
LAST-MODIFIED:20250715T172816Z
UID:10006292-1878111000-1878120000@templeisraelorlando.org
SUMMARY:Shabbat Services
DESCRIPTION:
URL:https://templeisraelorlando.org/event/shabbat-services-2/2029-07-07/
LOCATION:Temple Israel\, 50 S Moss Road\, Winter Springs\, FL\, 32708\, United States
CATEGORIES:Services
END:VEVENT
BEGIN:VEVENT
DTSTART;TZID=America/New_York:20290708T090000
DTEND;TZID=America/New_York:20290708T093000
DTSTAMP:20260422T183816
CREATED:20240507T021438Z
LAST-MODIFIED:20250715T172314Z
UID:10005593-1878195600-1878197400@templeisraelorlando.org
SUMMARY:Sunday Minyan
DESCRIPTION:Our minyan starts at 9:00am in person and on zoom. \nhttps://us02web.zoom.us/j/83885789313?pwd=UkdrN25yMGRpTUIzNlRwejd1UWpjQT09 \nMeeting ID: 838 8578 9313\nPasscode: 165936
URL:https://templeisraelorlando.org/event/sunday-minyan/2029-07-08/
LOCATION:Temple Israel\, 50 S Moss Road\, Winter Springs\, FL\, 32708\, United States
CATEGORIES:Services
END:VEVENT
BEGIN:VEVENT
DTSTART;TZID=America/New_York:20290709T190000
DTEND;TZID=America/New_York:20290709T200000
DTSTAMP:20260422T183816
CREATED:20240827T002911Z
LAST-MODIFIED:20250928T233226Z
UID:10006462-1878318000-1878321600@templeisraelorlando.org
SUMMARY:Executive Committee
DESCRIPTION:
URL:https://templeisraelorlando.org/event/executive-committee-2-2/2029-07-09/
END:VEVENT
BEGIN:VEVENT
DTSTART;TZID=America/New_York:20290711T120000
DTEND;TZID=America/New_York:20290711T130000
DTSTAMP:20260422T183816
CREATED:20260224T125059Z
LAST-MODIFIED:20260318T180202Z
UID:10007077-1878465600-1878469200@templeisraelorlando.org
SUMMARY:Lunchtime class with Rabbi Neely
DESCRIPTION:
URL:https://templeisraelorlando.org/event/lunchtime-class-with-rabbi-neely/2029-07-11/
CATEGORIES:Classes
END:VEVENT
BEGIN:VEVENT
DTSTART;TZID=America/New_York:20290713T170000
DTEND;TZID=America/New_York:20290713T183000
DTSTAMP:20260422T183816
CREATED:20260412T164837Z
LAST-MODIFIED:20260412T165527Z
UID:10007251-1878656400-1878661800@templeisraelorlando.org
SUMMARY:TI Men's Club Warm-Up Dinner @ Corfu Restaurant
DESCRIPTION:Join Men’s Club for dinner on the 2nd Friday of each month at Corfu Restaurant\, 124 W SR 434\, Winter Springs.
URL:https://templeisraelorlando.org/event/ti-mens-club-warm-up-dinner/2029-07-13/
CATEGORIES:Event
END:VEVENT
BEGIN:VEVENT
DTSTART;TZID=America/New_York:20290713T190000
DTEND;TZID=America/New_York:20290713T200000
DTSTAMP:20260422T183816
CREATED:20240507T020417Z
LAST-MODIFIED:20260108T191902Z
UID:10004878-1878663600-1878667200@templeisraelorlando.org
SUMMARY:Kabbalat Shabbat
DESCRIPTION:
URL:https://templeisraelorlando.org/event/kabbalat-shabbat/2029-07-13/
CATEGORIES:Services
END:VEVENT
BEGIN:VEVENT
DTSTART;TZID=America/New_York:20290714T093000
DTEND;TZID=America/New_York:20290714T120000
DTSTAMP:20260422T183816
CREATED:20250715T172155Z
LAST-MODIFIED:20250715T172816Z
UID:10006293-1878715800-1878724800@templeisraelorlando.org
SUMMARY:Shabbat Services
DESCRIPTION:
URL:https://templeisraelorlando.org/event/shabbat-services-2/2029-07-14/
LOCATION:Temple Israel\, 50 S Moss Road\, Winter Springs\, FL\, 32708\, United States
CATEGORIES:Services
END:VEVENT
BEGIN:VEVENT
DTSTART;TZID=America/New_York:20290715T090000
DTEND;TZID=America/New_York:20290715T093000
DTSTAMP:20260422T183816
CREATED:20240507T021438Z
LAST-MODIFIED:20250715T172314Z
UID:10005594-1878800400-1878802200@templeisraelorlando.org
SUMMARY:Sunday Minyan
DESCRIPTION:Our minyan starts at 9:00am in person and on zoom. \nhttps://us02web.zoom.us/j/83885789313?pwd=UkdrN25yMGRpTUIzNlRwejd1UWpjQT09 \nMeeting ID: 838 8578 9313\nPasscode: 165936
URL:https://templeisraelorlando.org/event/sunday-minyan/2029-07-15/
LOCATION:Temple Israel\, 50 S Moss Road\, Winter Springs\, FL\, 32708\, United States
CATEGORIES:Services
END:VEVENT
BEGIN:VEVENT
DTSTART;TZID=America/New_York:20290718T120000
DTEND;TZID=America/New_York:20290718T130000
DTSTAMP:20260422T183816
CREATED:20260224T125059Z
LAST-MODIFIED:20260318T180202Z
UID:10007078-1879070400-1879074000@templeisraelorlando.org
SUMMARY:Lunchtime class with Rabbi Neely
DESCRIPTION:
URL:https://templeisraelorlando.org/event/lunchtime-class-with-rabbi-neely/2029-07-18/
CATEGORIES:Classes
END:VEVENT
BEGIN:VEVENT
DTSTART;TZID=America/New_York:20290720T190000
DTEND;TZID=America/New_York:20290720T200000
DTSTAMP:20260422T183816
CREATED:20240507T020417Z
LAST-MODIFIED:20260108T191902Z
UID:10004879-1879268400-1879272000@templeisraelorlando.org
SUMMARY:Kabbalat Shabbat
DESCRIPTION:
URL:https://templeisraelorlando.org/event/kabbalat-shabbat/2029-07-20/
CATEGORIES:Services
END:VEVENT
BEGIN:VEVENT
DTSTART;TZID=America/New_York:20290721T093000
DTEND;TZID=America/New_York:20290721T120000
DTSTAMP:20260422T183816
CREATED:20250715T172155Z
LAST-MODIFIED:20250715T172816Z
UID:10006294-1879320600-1879329600@templeisraelorlando.org
SUMMARY:Shabbat Services
DESCRIPTION:
URL:https://templeisraelorlando.org/event/shabbat-services-2/2029-07-21/
LOCATION:Temple Israel\, 50 S Moss Road\, Winter Springs\, FL\, 32708\, United States
CATEGORIES:Services
END:VEVENT
BEGIN:VEVENT
DTSTART;TZID=America/New_York:20290721T110000
DTEND;TZID=America/New_York:20290721T234500
DTSTAMP:20260422T183816
CREATED:20240507T033334Z
LAST-MODIFIED:20250715T172956Z
UID:10006403-1879326000-1879371900@templeisraelorlando.org
SUMMARY:Tot Shabbat
DESCRIPTION:
URL:https://templeisraelorlando.org/event/tot-shabbat/2029-07-21/
CATEGORIES:Family
END:VEVENT
BEGIN:VEVENT
DTSTART;TZID=America/New_York:20290722T090000
DTEND;TZID=America/New_York:20290722T093000
DTSTAMP:20260422T183816
CREATED:20240507T021438Z
LAST-MODIFIED:20250715T172314Z
UID:10005595-1879405200-1879407000@templeisraelorlando.org
SUMMARY:Sunday Minyan
DESCRIPTION:Our minyan starts at 9:00am in person and on zoom. \nhttps://us02web.zoom.us/j/83885789313?pwd=UkdrN25yMGRpTUIzNlRwejd1UWpjQT09 \nMeeting ID: 838 8578 9313\nPasscode: 165936
URL:https://templeisraelorlando.org/event/sunday-minyan/2029-07-22/
LOCATION:Temple Israel\, 50 S Moss Road\, Winter Springs\, FL\, 32708\, United States
CATEGORIES:Services
END:VEVENT
BEGIN:VEVENT
DTSTART;TZID=America/New_York:20290723T190000
DTEND;TZID=America/New_York:20290723T200000
DTSTAMP:20260422T183816
CREATED:20240507T032905Z
LAST-MODIFIED:20250825T133443Z
UID:10006531-1879527600-1879531200@templeisraelorlando.org
SUMMARY:Board of Directors
DESCRIPTION:
URL:https://templeisraelorlando.org/event/board-of-directors/2029-07-23/
CATEGORIES:Committee meeting
END:VEVENT
BEGIN:VEVENT
DTSTART;TZID=America/New_York:20290724T193000
DTEND;TZID=America/New_York:20290724T203000
DTSTAMP:20260422T183816
CREATED:20250630T172741Z
LAST-MODIFIED:20250825T133756Z
UID:10003162-1879615800-1879619400@templeisraelorlando.org
SUMMARY:Membership Committee Meeting
DESCRIPTION:
URL:https://templeisraelorlando.org/event/membership-committee-meeting-3/2029-07-24/
CATEGORIES:Committee meeting
END:VEVENT
BEGIN:VEVENT
DTSTART;TZID=America/New_York:20290725T120000
DTEND;TZID=America/New_York:20290725T130000
DTSTAMP:20260422T183816
CREATED:20260224T125059Z
LAST-MODIFIED:20260318T180202Z
UID:10007079-1879675200-1879678800@templeisraelorlando.org
SUMMARY:Lunchtime class with Rabbi Neely
DESCRIPTION:
URL:https://templeisraelorlando.org/event/lunchtime-class-with-rabbi-neely/2029-07-25/
CATEGORIES:Classes
END:VEVENT
BEGIN:VEVENT
DTSTART;TZID=America/New_York:20290726T190000
DTEND;TZID=America/New_York:20290726T203000
DTSTAMP:20260422T183816
CREATED:20260412T165154Z
LAST-MODIFIED:20260412T165154Z
UID:10007312-1879786800-1879792200@templeisraelorlando.org
SUMMARY:TI Men's Club Monthly Social @ The Back Porch
DESCRIPTION:Join Men’s Club on the 4th Thursday of each month @ 7 PM at The Back Porch\, 145 Wekiva Springs Rd #161\, Longwood.
URL:https://templeisraelorlando.org/event/ti-mens-club-monthly-social-the-back-porch/2029-07-26/
CATEGORIES:Event
END:VEVENT
BEGIN:VEVENT
DTSTART;TZID=America/New_York:20290727T190000
DTEND;TZID=America/New_York:20290727T200000
DTSTAMP:20260422T183816
CREATED:20240507T020417Z
LAST-MODIFIED:20260108T191902Z
UID:10004880-1879873200-1879876800@templeisraelorlando.org
SUMMARY:Kabbalat Shabbat
DESCRIPTION:
URL:https://templeisraelorlando.org/event/kabbalat-shabbat/2029-07-27/
CATEGORIES:Services
END:VEVENT
BEGIN:VEVENT
DTSTART;TZID=America/New_York:20290728T093000
DTEND;TZID=America/New_York:20290728T120000
DTSTAMP:20260422T183816
CREATED:20250715T172155Z
LAST-MODIFIED:20250715T172816Z
UID:10006295-1879925400-1879934400@templeisraelorlando.org
SUMMARY:Shabbat Services
DESCRIPTION:
URL:https://templeisraelorlando.org/event/shabbat-services-2/2029-07-28/
LOCATION:Temple Israel\, 50 S Moss Road\, Winter Springs\, FL\, 32708\, United States
CATEGORIES:Services
END:VEVENT
BEGIN:VEVENT
DTSTART;TZID=America/New_York:20290729T090000
DTEND;TZID=America/New_York:20290729T093000
DTSTAMP:20260422T183816
CREATED:20240507T021438Z
LAST-MODIFIED:20250715T172314Z
UID:10005596-1880010000-1880011800@templeisraelorlando.org
SUMMARY:Sunday Minyan
DESCRIPTION:Our minyan starts at 9:00am in person and on zoom. \nhttps://us02web.zoom.us/j/83885789313?pwd=UkdrN25yMGRpTUIzNlRwejd1UWpjQT09 \nMeeting ID: 838 8578 9313\nPasscode: 165936
URL:https://templeisraelorlando.org/event/sunday-minyan/2029-07-29/
LOCATION:Temple Israel\, 50 S Moss Road\, Winter Springs\, FL\, 32708\, United States
CATEGORIES:Services
END:VEVENT
END:VCALENDAR