BEGIN:VCALENDAR
VERSION:2.0
PRODID:-//Temple Israel - ECPv6.15.17.1//NONSGML v1.0//EN
CALSCALE:GREGORIAN
METHOD:PUBLISH
X-WR-CALNAME:Temple Israel
X-ORIGINAL-URL:https://templeisraelorlando.org
X-WR-CALDESC:Events for Temple Israel
REFRESH-INTERVAL;VALUE=DURATION:PT1H
X-Robots-Tag:noindex
X-PUBLISHED-TTL:PT1H
BEGIN:VTIMEZONE
TZID:America/New_York
BEGIN:DAYLIGHT
TZOFFSETFROM:-0500
TZOFFSETTO:-0400
TZNAME:EDT
DTSTART:20290311T070000
END:DAYLIGHT
BEGIN:STANDARD
TZOFFSETFROM:-0400
TZOFFSETTO:-0500
TZNAME:EST
DTSTART:20291104T060000
END:STANDARD
BEGIN:DAYLIGHT
TZOFFSETFROM:-0500
TZOFFSETTO:-0400
TZNAME:EDT
DTSTART:20300310T070000
END:DAYLIGHT
BEGIN:STANDARD
TZOFFSETFROM:-0400
TZOFFSETTO:-0500
TZNAME:EST
DTSTART:20301103T060000
END:STANDARD
BEGIN:DAYLIGHT
TZOFFSETFROM:-0500
TZOFFSETTO:-0400
TZNAME:EDT
DTSTART:20310309T070000
END:DAYLIGHT
BEGIN:STANDARD
TZOFFSETFROM:-0400
TZOFFSETTO:-0500
TZNAME:EST
DTSTART:20311102T060000
END:STANDARD
END:VTIMEZONE
BEGIN:VEVENT
DTSTART;TZID=America/New_York:20300724T120000
DTEND;TZID=America/New_York:20300724T130000
DTSTAMP:20260423T173013
CREATED:20260224T125059Z
LAST-MODIFIED:20260318T180202Z
UID:10007131-1911124800-1911128400@templeisraelorlando.org
SUMMARY:Lunchtime class with Rabbi Neely
DESCRIPTION:
URL:https://templeisraelorlando.org/event/lunchtime-class-with-rabbi-neely/2030-07-24/
CATEGORIES:Classes
END:VEVENT
BEGIN:VEVENT
DTSTART;TZID=America/New_York:20300725T190000
DTEND;TZID=America/New_York:20300725T203000
DTSTAMP:20260423T173013
CREATED:20260412T165154Z
LAST-MODIFIED:20260412T165154Z
UID:10007324-1911236400-1911241800@templeisraelorlando.org
SUMMARY:TI Men's Club Monthly Social @ The Back Porch
DESCRIPTION:Join Men’s Club on the 4th Thursday of each month @ 7 PM at The Back Porch\, 145 Wekiva Springs Rd #161\, Longwood.
URL:https://templeisraelorlando.org/event/ti-mens-club-monthly-social-the-back-porch/2030-07-25/
CATEGORIES:Event
END:VEVENT
BEGIN:VEVENT
DTSTART;TZID=America/New_York:20300726T190000
DTEND;TZID=America/New_York:20300726T200000
DTSTAMP:20260423T173013
CREATED:20240507T020417Z
LAST-MODIFIED:20260108T191902Z
UID:10006775-1911322800-1911326400@templeisraelorlando.org
SUMMARY:Kabbalat Shabbat
DESCRIPTION:
URL:https://templeisraelorlando.org/event/kabbalat-shabbat/2030-07-26/
CATEGORIES:Services
END:VEVENT
BEGIN:VEVENT
DTSTART;TZID=America/New_York:20300727T093000
DTEND;TZID=America/New_York:20300727T120000
DTSTAMP:20260423T173013
CREATED:20250715T172155Z
LAST-MODIFIED:20250715T172816Z
UID:10007171-1911375000-1911384000@templeisraelorlando.org
SUMMARY:Shabbat Services
DESCRIPTION:
URL:https://templeisraelorlando.org/event/shabbat-services-2/2030-07-27/
LOCATION:Temple Israel\, 50 S Moss Road\, Winter Springs\, FL\, 32708\, United States
CATEGORIES:Services
END:VEVENT
BEGIN:VEVENT
DTSTART;TZID=America/New_York:20300731T120000
DTEND;TZID=America/New_York:20300731T130000
DTSTAMP:20260423T173013
CREATED:20260224T125059Z
LAST-MODIFIED:20260318T180202Z
UID:10007132-1911729600-1911733200@templeisraelorlando.org
SUMMARY:Lunchtime class with Rabbi Neely
DESCRIPTION:
URL:https://templeisraelorlando.org/event/lunchtime-class-with-rabbi-neely/2030-07-31/
CATEGORIES:Classes
END:VEVENT
BEGIN:VEVENT
DTSTART;TZID=America/New_York:20300802T180000
DTEND;TZID=America/New_York:20300802T190000
DTSTAMP:20260423T173013
CREATED:20250724T120311Z
LAST-MODIFIED:20260406T182700Z
UID:10006855-1911924000-1911927600@templeisraelorlando.org
SUMMARY:Kabbalat Shabbat
DESCRIPTION:
URL:https://templeisraelorlando.org/event/kabbalat-shabbat-2-2/2030-08-02/
LOCATION:Temple Israel\, 50 S Moss Road\, Winter Springs\, FL\, 32708\, United States
CATEGORIES:Services
END:VEVENT
BEGIN:VEVENT
DTSTART;TZID=America/New_York:20300803T093000
DTEND;TZID=America/New_York:20300803T120000
DTSTAMP:20260423T173013
CREATED:20250715T172155Z
LAST-MODIFIED:20250715T172816Z
UID:10007172-1911979800-1911988800@templeisraelorlando.org
SUMMARY:Shabbat Services
DESCRIPTION:
URL:https://templeisraelorlando.org/event/shabbat-services-2/2030-08-03/
LOCATION:Temple Israel\, 50 S Moss Road\, Winter Springs\, FL\, 32708\, United States
CATEGORIES:Services
END:VEVENT
BEGIN:VEVENT
DTSTART;TZID=America/New_York:20300807T120000
DTEND;TZID=America/New_York:20300807T130000
DTSTAMP:20260423T173013
CREATED:20260224T125059Z
LAST-MODIFIED:20260318T180202Z
UID:10007133-1912334400-1912338000@templeisraelorlando.org
SUMMARY:Lunchtime class with Rabbi Neely
DESCRIPTION:
URL:https://templeisraelorlando.org/event/lunchtime-class-with-rabbi-neely/2030-08-07/
CATEGORIES:Classes
END:VEVENT
BEGIN:VEVENT
DTSTART;TZID=America/New_York:20300809T170000
DTEND;TZID=America/New_York:20300809T183000
DTSTAMP:20260423T173013
CREATED:20260412T164837Z
LAST-MODIFIED:20260412T165527Z
UID:10007264-1912525200-1912530600@templeisraelorlando.org
SUMMARY:TI Men's Club Warm-Up Dinner @ Corfu Restaurant
DESCRIPTION:Join Men’s Club for dinner on the 2nd Friday of each month at Corfu Restaurant\, 124 W SR 434\, Winter Springs.
URL:https://templeisraelorlando.org/event/ti-mens-club-warm-up-dinner/2030-08-09/
CATEGORIES:Event
END:VEVENT
BEGIN:VEVENT
DTSTART;TZID=America/New_York:20300809T190000
DTEND;TZID=America/New_York:20300809T200000
DTSTAMP:20260423T173013
CREATED:20240507T020417Z
LAST-MODIFIED:20260108T191902Z
UID:10006776-1912532400-1912536000@templeisraelorlando.org
SUMMARY:Kabbalat Shabbat
DESCRIPTION:
URL:https://templeisraelorlando.org/event/kabbalat-shabbat/2030-08-09/
CATEGORIES:Services
END:VEVENT
BEGIN:VEVENT
DTSTART;TZID=America/New_York:20300810T093000
DTEND;TZID=America/New_York:20300810T120000
DTSTAMP:20260423T173013
CREATED:20250715T172155Z
LAST-MODIFIED:20250715T172816Z
UID:10007173-1912584600-1912593600@templeisraelorlando.org
SUMMARY:Shabbat Services
DESCRIPTION:
URL:https://templeisraelorlando.org/event/shabbat-services-2/2030-08-10/
LOCATION:Temple Israel\, 50 S Moss Road\, Winter Springs\, FL\, 32708\, United States
CATEGORIES:Services
END:VEVENT
BEGIN:VEVENT
DTSTART;TZID=America/New_York:20300812T190000
DTEND;TZID=America/New_York:20300812T200000
DTSTAMP:20260423T173013
CREATED:20240827T002911Z
LAST-MODIFIED:20250928T233226Z
UID:10006769-1912791600-1912795200@templeisraelorlando.org
SUMMARY:Executive Committee
DESCRIPTION:
URL:https://templeisraelorlando.org/event/executive-committee-2-2/2030-08-12/
END:VEVENT
BEGIN:VEVENT
DTSTART;TZID=America/New_York:20300814T120000
DTEND;TZID=America/New_York:20300814T130000
DTSTAMP:20260423T173013
CREATED:20260224T125059Z
LAST-MODIFIED:20260318T180202Z
UID:10007134-1912939200-1912942800@templeisraelorlando.org
SUMMARY:Lunchtime class with Rabbi Neely
DESCRIPTION:
URL:https://templeisraelorlando.org/event/lunchtime-class-with-rabbi-neely/2030-08-14/
CATEGORIES:Classes
END:VEVENT
BEGIN:VEVENT
DTSTART;TZID=America/New_York:20300816T190000
DTEND;TZID=America/New_York:20300816T200000
DTSTAMP:20260423T173013
CREATED:20240507T020417Z
LAST-MODIFIED:20260108T191902Z
UID:10006777-1913137200-1913140800@templeisraelorlando.org
SUMMARY:Kabbalat Shabbat
DESCRIPTION:
URL:https://templeisraelorlando.org/event/kabbalat-shabbat/2030-08-16/
CATEGORIES:Services
END:VEVENT
BEGIN:VEVENT
DTSTART;TZID=America/New_York:20300817T093000
DTEND;TZID=America/New_York:20300817T120000
DTSTAMP:20260423T173013
CREATED:20250715T172155Z
LAST-MODIFIED:20250715T172816Z
UID:10007174-1913189400-1913198400@templeisraelorlando.org
SUMMARY:Shabbat Services
DESCRIPTION:
URL:https://templeisraelorlando.org/event/shabbat-services-2/2030-08-17/
LOCATION:Temple Israel\, 50 S Moss Road\, Winter Springs\, FL\, 32708\, United States
CATEGORIES:Services
END:VEVENT
BEGIN:VEVENT
DTSTART;TZID=America/New_York:20300817T110000
DTEND;TZID=America/New_York:20300817T234500
DTSTAMP:20260423T173013
CREATED:20240507T033334Z
LAST-MODIFIED:20250715T172956Z
UID:10006759-1913194800-1913240700@templeisraelorlando.org
SUMMARY:Tot Shabbat
DESCRIPTION:
URL:https://templeisraelorlando.org/event/tot-shabbat/2030-08-17/
CATEGORIES:Family
END:VEVENT
BEGIN:VEVENT
DTSTART;TZID=America/New_York:20300821T120000
DTEND;TZID=America/New_York:20300821T130000
DTSTAMP:20260423T173013
CREATED:20260224T125059Z
LAST-MODIFIED:20260318T180202Z
UID:10007135-1913544000-1913547600@templeisraelorlando.org
SUMMARY:Lunchtime class with Rabbi Neely
DESCRIPTION:
URL:https://templeisraelorlando.org/event/lunchtime-class-with-rabbi-neely/2030-08-21/
CATEGORIES:Classes
END:VEVENT
BEGIN:VEVENT
DTSTART;TZID=America/New_York:20300822T190000
DTEND;TZID=America/New_York:20300822T203000
DTSTAMP:20260423T173013
CREATED:20260412T165154Z
LAST-MODIFIED:20260412T165154Z
UID:10007325-1913655600-1913661000@templeisraelorlando.org
SUMMARY:TI Men's Club Monthly Social @ The Back Porch
DESCRIPTION:Join Men’s Club on the 4th Thursday of each month @ 7 PM at The Back Porch\, 145 Wekiva Springs Rd #161\, Longwood.
URL:https://templeisraelorlando.org/event/ti-mens-club-monthly-social-the-back-porch/2030-08-22/
CATEGORIES:Event
END:VEVENT
BEGIN:VEVENT
DTSTART;TZID=America/New_York:20300823T190000
DTEND;TZID=America/New_York:20300823T200000
DTSTAMP:20260423T173013
CREATED:20240507T020417Z
LAST-MODIFIED:20260108T191902Z
UID:10006778-1913742000-1913745600@templeisraelorlando.org
SUMMARY:Kabbalat Shabbat
DESCRIPTION:
URL:https://templeisraelorlando.org/event/kabbalat-shabbat/2030-08-23/
CATEGORIES:Services
END:VEVENT
BEGIN:VEVENT
DTSTART;TZID=America/New_York:20300824T093000
DTEND;TZID=America/New_York:20300824T120000
DTSTAMP:20260423T173013
CREATED:20250715T172155Z
LAST-MODIFIED:20250715T172816Z
UID:10007175-1913794200-1913803200@templeisraelorlando.org
SUMMARY:Shabbat Services
DESCRIPTION:
URL:https://templeisraelorlando.org/event/shabbat-services-2/2030-08-24/
LOCATION:Temple Israel\, 50 S Moss Road\, Winter Springs\, FL\, 32708\, United States
CATEGORIES:Services
END:VEVENT
BEGIN:VEVENT
DTSTART;TZID=America/New_York:20300828T120000
DTEND;TZID=America/New_York:20300828T130000
DTSTAMP:20260423T173013
CREATED:20260224T125059Z
LAST-MODIFIED:20260318T180202Z
UID:10007136-1914148800-1914152400@templeisraelorlando.org
SUMMARY:Lunchtime class with Rabbi Neely
DESCRIPTION:
URL:https://templeisraelorlando.org/event/lunchtime-class-with-rabbi-neely/2030-08-28/
CATEGORIES:Classes
END:VEVENT
BEGIN:VEVENT
DTSTART;TZID=America/New_York:20300830T190000
DTEND;TZID=America/New_York:20300830T200000
DTSTAMP:20260423T173013
CREATED:20240507T020417Z
LAST-MODIFIED:20260108T191902Z
UID:10006779-1914346800-1914350400@templeisraelorlando.org
SUMMARY:Kabbalat Shabbat
DESCRIPTION:
URL:https://templeisraelorlando.org/event/kabbalat-shabbat/2030-08-30/
CATEGORIES:Services
END:VEVENT
BEGIN:VEVENT
DTSTART;TZID=America/New_York:20300831T093000
DTEND;TZID=America/New_York:20300831T120000
DTSTAMP:20260423T173013
CREATED:20250715T172155Z
LAST-MODIFIED:20250715T172816Z
UID:10007176-1914399000-1914408000@templeisraelorlando.org
SUMMARY:Shabbat Services
DESCRIPTION:
URL:https://templeisraelorlando.org/event/shabbat-services-2/2030-08-31/
LOCATION:Temple Israel\, 50 S Moss Road\, Winter Springs\, FL\, 32708\, United States
CATEGORIES:Services
END:VEVENT
BEGIN:VEVENT
DTSTART;TZID=America/New_York:20300904T120000
DTEND;TZID=America/New_York:20300904T130000
DTSTAMP:20260423T173013
CREATED:20260224T125059Z
LAST-MODIFIED:20260318T180202Z
UID:10007137-1914753600-1914757200@templeisraelorlando.org
SUMMARY:Lunchtime class with Rabbi Neely
DESCRIPTION:
URL:https://templeisraelorlando.org/event/lunchtime-class-with-rabbi-neely/2030-09-04/
CATEGORIES:Classes
END:VEVENT
BEGIN:VEVENT
DTSTART;TZID=America/New_York:20300906T180000
DTEND;TZID=America/New_York:20300906T190000
DTSTAMP:20260423T173013
CREATED:20250724T120311Z
LAST-MODIFIED:20260406T182700Z
UID:10006856-1914948000-1914951600@templeisraelorlando.org
SUMMARY:Kabbalat Shabbat
DESCRIPTION:
URL:https://templeisraelorlando.org/event/kabbalat-shabbat-2-2/2030-09-06/
LOCATION:Temple Israel\, 50 S Moss Road\, Winter Springs\, FL\, 32708\, United States
CATEGORIES:Services
END:VEVENT
BEGIN:VEVENT
DTSTART;TZID=America/New_York:20300907T093000
DTEND;TZID=America/New_York:20300907T120000
DTSTAMP:20260423T173013
CREATED:20250715T172155Z
LAST-MODIFIED:20250715T172816Z
UID:10007177-1915003800-1915012800@templeisraelorlando.org
SUMMARY:Shabbat Services
DESCRIPTION:
URL:https://templeisraelorlando.org/event/shabbat-services-2/2030-09-07/
LOCATION:Temple Israel\, 50 S Moss Road\, Winter Springs\, FL\, 32708\, United States
CATEGORIES:Services
END:VEVENT
BEGIN:VEVENT
DTSTART;TZID=America/New_York:20300909T190000
DTEND;TZID=America/New_York:20300909T200000
DTSTAMP:20260423T173013
CREATED:20240827T002911Z
LAST-MODIFIED:20250928T233226Z
UID:10006770-1915210800-1915214400@templeisraelorlando.org
SUMMARY:Executive Committee
DESCRIPTION:
URL:https://templeisraelorlando.org/event/executive-committee-2-2/2030-09-09/
END:VEVENT
BEGIN:VEVENT
DTSTART;TZID=America/New_York:20300911T120000
DTEND;TZID=America/New_York:20300911T130000
DTSTAMP:20260423T173013
CREATED:20260224T125059Z
LAST-MODIFIED:20260318T180202Z
UID:10007138-1915358400-1915362000@templeisraelorlando.org
SUMMARY:Lunchtime class with Rabbi Neely
DESCRIPTION:
URL:https://templeisraelorlando.org/event/lunchtime-class-with-rabbi-neely/2030-09-11/
CATEGORIES:Classes
END:VEVENT
BEGIN:VEVENT
DTSTART;TZID=America/New_York:20300913T170000
DTEND;TZID=America/New_York:20300913T183000
DTSTAMP:20260423T173013
CREATED:20260412T164837Z
LAST-MODIFIED:20260412T165527Z
UID:10007265-1915549200-1915554600@templeisraelorlando.org
SUMMARY:TI Men's Club Warm-Up Dinner @ Corfu Restaurant
DESCRIPTION:Join Men’s Club for dinner on the 2nd Friday of each month at Corfu Restaurant\, 124 W SR 434\, Winter Springs.
URL:https://templeisraelorlando.org/event/ti-mens-club-warm-up-dinner/2030-09-13/
CATEGORIES:Event
END:VEVENT
BEGIN:VEVENT
DTSTART;TZID=America/New_York:20300913T190000
DTEND;TZID=America/New_York:20300913T200000
DTSTAMP:20260423T173013
CREATED:20240507T020417Z
LAST-MODIFIED:20260108T191902Z
UID:10006780-1915556400-1915560000@templeisraelorlando.org
SUMMARY:Kabbalat Shabbat
DESCRIPTION:
URL:https://templeisraelorlando.org/event/kabbalat-shabbat/2030-09-13/
CATEGORIES:Services
END:VEVENT
END:VCALENDAR