BEGIN:VCALENDAR
VERSION:2.0
PRODID:-//Temple Israel - ECPv6.15.17.1//NONSGML v1.0//EN
CALSCALE:GREGORIAN
METHOD:PUBLISH
X-ORIGINAL-URL:https://templeisraelorlando.org
X-WR-CALDESC:Events for Temple Israel
REFRESH-INTERVAL;VALUE=DURATION:PT1H
X-Robots-Tag:noindex
X-PUBLISHED-TTL:PT1H
BEGIN:VTIMEZONE
TZID:America/New_York
BEGIN:DAYLIGHT
TZOFFSETFROM:-0500
TZOFFSETTO:-0400
TZNAME:EDT
DTSTART:20230312T070000
END:DAYLIGHT
BEGIN:STANDARD
TZOFFSETFROM:-0400
TZOFFSETTO:-0500
TZNAME:EST
DTSTART:20231105T060000
END:STANDARD
BEGIN:DAYLIGHT
TZOFFSETFROM:-0500
TZOFFSETTO:-0400
TZNAME:EDT
DTSTART:20240310T070000
END:DAYLIGHT
BEGIN:STANDARD
TZOFFSETFROM:-0400
TZOFFSETTO:-0500
TZNAME:EST
DTSTART:20241103T060000
END:STANDARD
BEGIN:DAYLIGHT
TZOFFSETFROM:-0500
TZOFFSETTO:-0400
TZNAME:EDT
DTSTART:20250309T070000
END:DAYLIGHT
BEGIN:STANDARD
TZOFFSETFROM:-0400
TZOFFSETTO:-0500
TZNAME:EST
DTSTART:20251102T060000
END:STANDARD
END:VTIMEZONE
BEGIN:VTIMEZONE
TZID:UTC
BEGIN:STANDARD
TZOFFSETFROM:+0000
TZOFFSETTO:+0000
TZNAME:UTC
DTSTART:20230101T000000
END:STANDARD
END:VTIMEZONE
BEGIN:VEVENT
DTSTART;VALUE=DATE:20240914
DTEND;VALUE=DATE:20240915
DTSTAMP:20260419T222054
CREATED:20240609T115229Z
LAST-MODIFIED:20240614T192453Z
UID:10001949-1726272000-1726358399@templeisraelorlando.org
SUMMARY:Bat Mitzvah of Tal Astrouck
DESCRIPTION:
URL:https://templeisraelorlando.org/event/bat-mitzvah-of-tal-astrouck-2/
LOCATION:Temple Israel\, 50 S Moss Road\, Winter Springs\, FL\, 32708\, United States
CATEGORIES:Event
END:VEVENT
BEGIN:VEVENT
DTSTART;TZID=America/New_York:20240914T133000
DTEND;TZID=America/New_York:20240914T160000
DTSTAMP:20260419T222054
CREATED:20240507T020909Z
LAST-MODIFIED:20250715T170210Z
UID:10003769-1726320600-1726329600@templeisraelorlando.org
SUMMARY:Shabbat Services
DESCRIPTION:
URL:https://templeisraelorlando.org/event/shabbat-services/2024-09-14/
LOCATION:Temple Israel\, 50 S Moss Road\, Winter Springs\, FL\, 32708\, United States
CATEGORIES:Services
END:VEVENT
BEGIN:VEVENT
DTSTART;TZID=America/New_York:20240915T090000
DTEND;TZID=America/New_York:20240915T093000
DTSTAMP:20260419T222054
CREATED:20240507T021438Z
LAST-MODIFIED:20250715T172314Z
UID:10005344-1726390800-1726392600@templeisraelorlando.org
SUMMARY:Sunday Minyan
DESCRIPTION:Our minyan starts at 9:00am in person and on zoom. \nhttps://us02web.zoom.us/j/83885789313?pwd=UkdrN25yMGRpTUIzNlRwejd1UWpjQT09 \nMeeting ID: 838 8578 9313\nPasscode: 165936
URL:https://templeisraelorlando.org/event/sunday-minyan/2024-09-15/
LOCATION:Temple Israel\, 50 S Moss Road\, Winter Springs\, FL\, 32708\, United States
CATEGORIES:Services
END:VEVENT
BEGIN:VEVENT
DTSTART;TZID=America/New_York:20240915T100000
DTEND;TZID=America/New_York:20240915T170000
DTSTAMP:20260419T222054
CREATED:20240606T190510Z
LAST-MODIFIED:20240606T191725Z
UID:10001946-1726394400-1726419600@templeisraelorlando.org
SUMMARY:TI Town Hall
DESCRIPTION:
URL:https://templeisraelorlando.org/event/ti-town-hall/
CATEGORIES:Event
END:VEVENT
BEGIN:VEVENT
DTSTART;TZID=America/New_York:20240915T140000
DTEND;TZID=America/New_York:20240915T160000
DTSTAMP:20260419T222054
CREATED:20240814T142841Z
LAST-MODIFIED:20240815T174029Z
UID:10002047-1726408800-1726416000@templeisraelorlando.org
SUMMARY:TI Gesher Roller Skating Event
DESCRIPTION:2:00pm on Sunday\, September 15th at Semoran Skateway\n2670 Cassel Creek Blvd\, Casselberry\, FL 32707 \nFor 6th-8th Grade \n$9 Admission including skate rental \nRSVP to yaelamarks@gmail.com \nFor more information\, email penelope.neely@gmail.com.
URL:https://templeisraelorlando.org/event/ti-gesher-roller-skating-event/
CATEGORIES:Youth
ATTACH;FMTTYPE=image/png:https://templeisraelorlando.org/wp-content/uploads/2024/08/TI-Gesher-Roller-Skating-15-Sep-2024.png
END:VEVENT
BEGIN:VEVENT
DTSTART;TZID=America/New_York:20240915T193000
DTEND;TZID=America/New_York:20240915T210000
DTSTAMP:20260419T222054
CREATED:20240715T172625Z
LAST-MODIFIED:20240905T220226Z
UID:10001970-1726428600-1726434000@templeisraelorlando.org
SUMMARY:Budget and Finance Committee
DESCRIPTION:
URL:https://templeisraelorlando.org/event/budget-and-finance-committee-4/
CATEGORIES:Committee meeting
END:VEVENT
BEGIN:VEVENT
DTSTART;TZID=America/New_York:20240916T113000
DTEND;TZID=America/New_York:20240916T123000
DTSTAMP:20260419T222054
CREATED:20240819T151632Z
LAST-MODIFIED:20240819T151632Z
UID:10002106-1726486200-1726489800@templeisraelorlando.org
SUMMARY:MAGAL committee
DESCRIPTION:
URL:https://templeisraelorlando.org/event/magal-committee-5/
CATEGORIES:Committee meeting
END:VEVENT
BEGIN:VEVENT
DTSTART;TZID=America/New_York:20240918T120000
DTEND;TZID=America/New_York:20240918T130000
DTSTAMP:20260419T222054
CREATED:20240507T021624Z
LAST-MODIFIED:20250903T193916Z
UID:10005660-1726660800-1726664400@templeisraelorlando.org
SUMMARY:Torah Class with Rabbi Neely
DESCRIPTION:https://us02web.zoom.us/j/779592739?pwd=QnhwTDZlUTZMR0RoVFJManJNV0hIQT09 \nMeeting ID: 779 592 739\nPasscode: 856939
URL:https://templeisraelorlando.org/event/torah-class-with-rabbi-neely/2024-09-18/
CATEGORIES:Classes
END:VEVENT
BEGIN:VEVENT
DTSTART;TZID=UTC:20240918T190000
DTEND;TZID=UTC:20240918T200000
DTSTAMP:20260419T222054
CREATED:20240507T021723Z
LAST-MODIFIED:20240906T205159Z
UID:10001074-1726686000-1726689600@templeisraelorlando.org
SUMMARY:Anyone Can Pray!
DESCRIPTION:Meeting ID: 845 7204 8175 \nPasscode: 259681
URL:https://templeisraelorlando.org/event/anyone-can-pray/2024-09-18/
LOCATION:Temple Israel\, 50 S Moss Road\, Winter Springs\, FL\, 32708\, United States
CATEGORIES:Classes
END:VEVENT
BEGIN:VEVENT
DTSTART;TZID=America/New_York:20240920T190000
DTEND;TZID=America/New_York:20240920T200000
DTSTAMP:20260419T222054
CREATED:20240507T020417Z
LAST-MODIFIED:20260108T191902Z
UID:10004686-1726858800-1726862400@templeisraelorlando.org
SUMMARY:Kabbalat Shabbat
DESCRIPTION:
URL:https://templeisraelorlando.org/event/kabbalat-shabbat/2024-09-20/
CATEGORIES:Services
END:VEVENT
BEGIN:VEVENT
DTSTART;TZID=America/New_York:20240921T133000
DTEND;TZID=America/New_York:20240921T160000
DTSTAMP:20260419T222054
CREATED:20240507T020909Z
LAST-MODIFIED:20250715T170210Z
UID:10003770-1726925400-1726934400@templeisraelorlando.org
SUMMARY:Shabbat Services
DESCRIPTION:
URL:https://templeisraelorlando.org/event/shabbat-services/2024-09-21/
LOCATION:Temple Israel\, 50 S Moss Road\, Winter Springs\, FL\, 32708\, United States
CATEGORIES:Services
END:VEVENT
BEGIN:VEVENT
DTSTART;TZID=America/New_York:20240922T090000
DTEND;TZID=America/New_York:20240922T093000
DTSTAMP:20260419T222054
CREATED:20240507T021438Z
LAST-MODIFIED:20250715T172314Z
UID:10005345-1726995600-1726997400@templeisraelorlando.org
SUMMARY:Sunday Minyan
DESCRIPTION:Our minyan starts at 9:00am in person and on zoom. \nhttps://us02web.zoom.us/j/83885789313?pwd=UkdrN25yMGRpTUIzNlRwejd1UWpjQT09 \nMeeting ID: 838 8578 9313\nPasscode: 165936
URL:https://templeisraelorlando.org/event/sunday-minyan/2024-09-22/
LOCATION:Temple Israel\, 50 S Moss Road\, Winter Springs\, FL\, 32708\, United States
CATEGORIES:Services
END:VEVENT
BEGIN:VEVENT
DTSTART;TZID=America/New_York:20240922T100000
DTEND;TZID=America/New_York:20240922T110000
DTSTAMP:20260419T222054
CREATED:20240715T172719Z
LAST-MODIFIED:20240726T171247Z
UID:10001971-1726999200-1727002800@templeisraelorlando.org
SUMMARY:Financial Wellness- Sisterhood
DESCRIPTION:Temple Israel Sisterhood Presents \nFINANCIAL\nWELLNESS 101 \nFree Financial Workshop For Women \nRebecca Kauffman has more than 15 years of experience\, specializing in investment planning\, retirement planning\, insurance analysis\, wealth accumulation\, and estate planning. She considers herself to be a “financial quarterback”\, helping her clients coordinate their team of advisors in the different areas of their financial lives. \nRSVP by Sept. 18 please\ntempleisraelevents.com Phone: 407-647-3055
URL:https://templeisraelorlando.org/event/financial-wellness-sisterhood/
CATEGORIES:Event
ATTACH;FMTTYPE=image/png:https://templeisraelorlando.org/wp-content/uploads/2024/07/Financial-Workshop-Flyer.pdf.pdf.png
END:VEVENT
BEGIN:VEVENT
DTSTART;TZID=America/New_York:20240922T110000
DTEND;TZID=America/New_York:20240922T123000
DTSTAMP:20260419T222054
CREATED:20240815T234223Z
LAST-MODIFIED:20240815T234334Z
UID:10002064-1727002800-1727008200@templeisraelorlando.org
SUMMARY:Bagels & Blocks
DESCRIPTION:
URL:https://templeisraelorlando.org/event/bagels-blocks/
LOCATION:Temple Israel\, 50 S Moss Road\, Winter Springs\, FL\, 32708\, United States
CATEGORIES:Family
END:VEVENT
BEGIN:VEVENT
DTSTART;TZID=America/New_York:20240922T123000
DTEND;TZID=America/New_York:20240922T133000
DTSTAMP:20260419T222054
CREATED:20240815T171704Z
LAST-MODIFIED:20240828T122656Z
UID:10002055-1727008200-1727011800@templeisraelorlando.org
SUMMARY:L'Dor v'Dor High Holidays & Sukkot event
DESCRIPTION:
URL:https://templeisraelorlando.org/event/ldor-vdor-high-holidays-sukkot-event/
CATEGORIES:Youth
END:VEVENT
BEGIN:VEVENT
DTSTART;TZID=America/New_York:20240922T153000
DTEND;TZID=America/New_York:20240922T173000
DTSTAMP:20260419T222054
CREATED:20240814T143200Z
LAST-MODIFIED:20240815T174221Z
UID:10002051-1727019000-1727026200@templeisraelorlando.org
SUMMARY:TI USY Arcade Fun
DESCRIPTION:3:30pm on Sunday\, September 22nd at Elev8 Fun\n320 Towne Center Cir\, Sanford\, FL 32771 \nFor 9th-12th Grade \nFor more information\, email penelope.neely@gmail.com.
URL:https://templeisraelorlando.org/event/ti-usy-elev8-event/
CATEGORIES:Youth
ATTACH;FMTTYPE=image/png:https://templeisraelorlando.org/wp-content/uploads/2024/08/TI-USY-Elev8-Fun-22-Sep-2024.png
END:VEVENT
BEGIN:VEVENT
DTSTART;TZID=America/New_York:20240924T180000
DTEND;TZID=America/New_York:20240924T210000
DTSTAMP:20260419T222054
CREATED:20240626T191350Z
LAST-MODIFIED:20240626T200222Z
UID:10001962-1727200800-1727211600@templeisraelorlando.org
SUMMARY:Run Hide Fight Presentation
DESCRIPTION:Safety and Security Training\nTuesday\, September 24 @ 6 PM in the Social Hall \nRun Hide Fight Presentation In person and Zoom\n16 years +\nMiddle school age with an adult\nNo Elementary students\nSeminole Emergency Management\nSeminole Sheriff Department \n Followed BY \nHands on CPR In person only\nAll ages\nSeminole Emergency Management\nSeminole Fire Department \nFree with RSVP  to the office manager@tiflorida.org
URL:https://templeisraelorlando.org/event/run-hide-fight-presentation/
CATEGORIES:Event
ATTACH;FMTTYPE=image/png:https://templeisraelorlando.org/wp-content/uploads/2024/06/Run-Hide-Fight-Presentation.png
END:VEVENT
BEGIN:VEVENT
DTSTART;TZID=America/New_York:20240925T120000
DTEND;TZID=America/New_York:20240925T130000
DTSTAMP:20260419T222054
CREATED:20240507T021624Z
LAST-MODIFIED:20250903T193916Z
UID:10005661-1727265600-1727269200@templeisraelorlando.org
SUMMARY:Torah Class with Rabbi Neely
DESCRIPTION:https://us02web.zoom.us/j/779592739?pwd=QnhwTDZlUTZMR0RoVFJManJNV0hIQT09 \nMeeting ID: 779 592 739\nPasscode: 856939
URL:https://templeisraelorlando.org/event/torah-class-with-rabbi-neely/2024-09-25/
CATEGORIES:Classes
END:VEVENT
BEGIN:VEVENT
DTSTART;TZID=UTC:20240925T190000
DTEND;TZID=UTC:20240925T200000
DTSTAMP:20260419T222054
CREATED:20240922T184715Z
LAST-MODIFIED:20240922T184727Z
UID:10001075-1727290800-1727294400@templeisraelorlando.org
SUMMARY:Anyone Can Pray!
DESCRIPTION:Meeting ID: 845 7204 8175 \nPasscode: 259681
URL:https://templeisraelorlando.org/event/anyone-can-pray-2/
LOCATION:Temple Israel\, 50 S Moss Road\, Winter Springs\, FL\, 32708\, United States
CATEGORIES:Classes
END:VEVENT
BEGIN:VEVENT
DTSTART;TZID=America/New_York:20240927T190000
DTEND;TZID=America/New_York:20240927T200000
DTSTAMP:20260419T222054
CREATED:20240507T020417Z
LAST-MODIFIED:20260108T191902Z
UID:10004687-1727463600-1727467200@templeisraelorlando.org
SUMMARY:Kabbalat Shabbat
DESCRIPTION:
URL:https://templeisraelorlando.org/event/kabbalat-shabbat/2024-09-27/
CATEGORIES:Services
END:VEVENT
BEGIN:VEVENT
DTSTART;VALUE=DATE:20240928
DTEND;VALUE=DATE:20240929
DTSTAMP:20260419T222054
CREATED:20240906T124909Z
LAST-MODIFIED:20240906T124909Z
UID:10002172-1727481600-1727567999@templeisraelorlando.org
SUMMARY:Leil Selichot
DESCRIPTION:
URL:https://templeisraelorlando.org/event/leil-selichot/
END:VEVENT
BEGIN:VEVENT
DTSTART;TZID=America/New_York:20240928T110000
DTEND;TZID=America/New_York:20240928T234500
DTSTAMP:20260419T222054
CREATED:20240507T033334Z
LAST-MODIFIED:20250715T172956Z
UID:10001950-1727521200-1727567100@templeisraelorlando.org
SUMMARY:Tot Shabbat
DESCRIPTION:
URL:https://templeisraelorlando.org/event/tot-shabbat/2024-09-28/
CATEGORIES:Family
END:VEVENT
BEGIN:VEVENT
DTSTART;TZID=America/New_York:20240928T133000
DTEND;TZID=America/New_York:20240928T160000
DTSTAMP:20260419T222054
CREATED:20240507T020909Z
LAST-MODIFIED:20250715T170210Z
UID:10003771-1727530200-1727539200@templeisraelorlando.org
SUMMARY:Shabbat Services
DESCRIPTION:
URL:https://templeisraelorlando.org/event/shabbat-services/2024-09-28/
LOCATION:Temple Israel\, 50 S Moss Road\, Winter Springs\, FL\, 32708\, United States
CATEGORIES:Services
END:VEVENT
BEGIN:VEVENT
DTSTART;TZID=America/New_York:20240928T200000
DTEND;TZID=America/New_York:20240928T220000
DTSTAMP:20260419T222054
CREATED:20240923T120333Z
LAST-MODIFIED:20240923T120333Z
UID:10002214-1727553600-1727560800@templeisraelorlando.org
SUMMARY:Community Leil Selichot
DESCRIPTION:
URL:https://templeisraelorlando.org/event/community-leil-selichot/
LOCATION:Ohev Shalom
CATEGORIES:Event
END:VEVENT
BEGIN:VEVENT
DTSTART;TZID=America/New_York:20240929T090000
DTEND;TZID=America/New_York:20240929T093000
DTSTAMP:20260419T222054
CREATED:20240507T021438Z
LAST-MODIFIED:20250715T172314Z
UID:10005346-1727600400-1727602200@templeisraelorlando.org
SUMMARY:Sunday Minyan
DESCRIPTION:Our minyan starts at 9:00am in person and on zoom. \nhttps://us02web.zoom.us/j/83885789313?pwd=UkdrN25yMGRpTUIzNlRwejd1UWpjQT09 \nMeeting ID: 838 8578 9313\nPasscode: 165936
URL:https://templeisraelorlando.org/event/sunday-minyan/2024-09-29/
LOCATION:Temple Israel\, 50 S Moss Road\, Winter Springs\, FL\, 32708\, United States
CATEGORIES:Services
END:VEVENT
BEGIN:VEVENT
DTSTART;TZID=America/New_York:20240929T100000
DTEND;TZID=America/New_York:20240929T130000
DTSTAMP:20260419T222054
CREATED:20240716T180515Z
LAST-MODIFIED:20240918T170931Z
UID:10001975-1727604000-1727614800@templeisraelorlando.org
SUMMARY:Guest Speaker: Dick Batchelor
DESCRIPTION:Guest speaker \nDick Batchelor – Former Member of the Florida House of Representatives\nSun\, Sept 29 at 10:00AM \nJoin us for a discussion about Batchelor’s new book\, “Building Bridges in Toxic Political Times” \nFrom the League of Women Voters’ President Cathy Swerdlow\nPresentation on Ballot Amendments \nRSVP at templeisraelevents.com\nFree for All!
URL:https://templeisraelorlando.org/event/guest-speaker-dick-batchelor/
CATEGORIES:Event
ATTACH;FMTTYPE=image/png:https://templeisraelorlando.org/wp-content/uploads/2024/07/Sisterhood-and-Mens-Club-Guest-Speaker.png
END:VEVENT
BEGIN:VEVENT
DTSTART;TZID=America/New_York:20240930T190000
DTEND;TZID=America/New_York:20240930T200000
DTSTAMP:20260419T222054
CREATED:20240827T002738Z
LAST-MODIFIED:20240827T002738Z
UID:10002111-1727722800-1727726400@templeisraelorlando.org
SUMMARY:Board of Directors
DESCRIPTION:
URL:https://templeisraelorlando.org/event/board-of-directors-3/
CATEGORIES:Committee meeting
END:VEVENT
BEGIN:VEVENT
DTSTART;VALUE=DATE:20241002
DTEND;VALUE=DATE:20241003
DTSTAMP:20260419T222054
CREATED:20240514T191647Z
LAST-MODIFIED:20240514T191647Z
UID:10001778-1727827200-1727913599@templeisraelorlando.org
SUMMARY:Erev Rosh Hashana
DESCRIPTION:
URL:https://templeisraelorlando.org/event/erev-rosh-hashana/
CATEGORIES:Holiday
END:VEVENT
BEGIN:VEVENT
DTSTART;TZID=America/New_York:20241002T190000
DTEND;TZID=America/New_York:20241002T210000
DTSTAMP:20260419T222054
CREATED:20240818T171853Z
LAST-MODIFIED:20240818T171853Z
UID:10002073-1727895600-1727902800@templeisraelorlando.org
SUMMARY:Erev Rosh HaShanah services
DESCRIPTION:
URL:https://templeisraelorlando.org/event/erev-rosh-hashanah-services/
CATEGORIES:Services
END:VEVENT
BEGIN:VEVENT
DTSTART;VALUE=DATE:20241003
DTEND;VALUE=DATE:20241004
DTSTAMP:20260419T222054
CREATED:20240514T191710Z
LAST-MODIFIED:20240514T191710Z
UID:10001779-1727913600-1727999999@templeisraelorlando.org
SUMMARY:Rosh Hashana
DESCRIPTION:
URL:https://templeisraelorlando.org/event/rosh-hashana/
CATEGORIES:Holiday
END:VEVENT
END:VCALENDAR