BEGIN:VCALENDAR
VERSION:2.0
PRODID:-//Temple Israel - ECPv6.15.17.1//NONSGML v1.0//EN
CALSCALE:GREGORIAN
METHOD:PUBLISH
X-ORIGINAL-URL:https://templeisraelorlando.org
X-WR-CALDESC:Events for Temple Israel
REFRESH-INTERVAL;VALUE=DURATION:PT1H
X-Robots-Tag:noindex
X-PUBLISHED-TTL:PT1H
BEGIN:VTIMEZONE
TZID:America/New_York
BEGIN:DAYLIGHT
TZOFFSETFROM:-0500
TZOFFSETTO:-0400
TZNAME:EDT
DTSTART:20270314T070000
END:DAYLIGHT
BEGIN:STANDARD
TZOFFSETFROM:-0400
TZOFFSETTO:-0500
TZNAME:EST
DTSTART:20271107T060000
END:STANDARD
BEGIN:DAYLIGHT
TZOFFSETFROM:-0500
TZOFFSETTO:-0400
TZNAME:EDT
DTSTART:20280312T070000
END:DAYLIGHT
BEGIN:STANDARD
TZOFFSETFROM:-0400
TZOFFSETTO:-0500
TZNAME:EST
DTSTART:20281105T060000
END:STANDARD
BEGIN:DAYLIGHT
TZOFFSETFROM:-0500
TZOFFSETTO:-0400
TZNAME:EDT
DTSTART:20290311T070000
END:DAYLIGHT
BEGIN:STANDARD
TZOFFSETFROM:-0400
TZOFFSETTO:-0500
TZNAME:EST
DTSTART:20291104T060000
END:STANDARD
END:VTIMEZONE
BEGIN:VEVENT
DTSTART;TZID=America/New_York:20280401T093000
DTEND;TZID=America/New_York:20280401T120000
DTSTAMP:20260420T022656
CREATED:20250715T172155Z
LAST-MODIFIED:20250715T172816Z
UID:10006226-1838194200-1838203200@templeisraelorlando.org
SUMMARY:Shabbat Services
DESCRIPTION:
URL:https://templeisraelorlando.org/event/shabbat-services-2/2028-04-01/
LOCATION:Temple Israel\, 50 S Moss Road\, Winter Springs\, FL\, 32708\, United States
CATEGORIES:Services
END:VEVENT
BEGIN:VEVENT
DTSTART;TZID=America/New_York:20280402T090000
DTEND;TZID=America/New_York:20280402T093000
DTSTAMP:20260420T022656
CREATED:20240507T021438Z
LAST-MODIFIED:20250715T172314Z
UID:10005527-1838278800-1838280600@templeisraelorlando.org
SUMMARY:Sunday Minyan
DESCRIPTION:Our minyan starts at 9:00am in person and on zoom. \nhttps://us02web.zoom.us/j/83885789313?pwd=UkdrN25yMGRpTUIzNlRwejd1UWpjQT09 \nMeeting ID: 838 8578 9313\nPasscode: 165936
URL:https://templeisraelorlando.org/event/sunday-minyan/2028-04-02/
LOCATION:Temple Israel\, 50 S Moss Road\, Winter Springs\, FL\, 32708\, United States
CATEGORIES:Services
END:VEVENT
BEGIN:VEVENT
DTSTART;TZID=America/New_York:20280405T120000
DTEND;TZID=America/New_York:20280405T130000
DTSTAMP:20260420T022656
CREATED:20260224T125059Z
LAST-MODIFIED:20260318T180202Z
UID:10007011-1838548800-1838552400@templeisraelorlando.org
SUMMARY:Lunchtime class with Rabbi Neely
DESCRIPTION:
URL:https://templeisraelorlando.org/event/lunchtime-class-with-rabbi-neely/2028-04-05/
CATEGORIES:Classes
END:VEVENT
BEGIN:VEVENT
DTSTART;TZID=America/New_York:20280407T180000
DTEND;TZID=America/New_York:20280407T190000
DTSTAMP:20260420T022656
CREATED:20250724T120311Z
LAST-MODIFIED:20260406T182700Z
UID:10006639-1838743200-1838746800@templeisraelorlando.org
SUMMARY:Kabbalat Shabbat
DESCRIPTION:
URL:https://templeisraelorlando.org/event/kabbalat-shabbat-2-2/2028-04-07/
LOCATION:Temple Israel\, 50 S Moss Road\, Winter Springs\, FL\, 32708\, United States
CATEGORIES:Services
END:VEVENT
BEGIN:VEVENT
DTSTART;TZID=America/New_York:20280408T093000
DTEND;TZID=America/New_York:20280408T120000
DTSTAMP:20260420T022656
CREATED:20250715T172155Z
LAST-MODIFIED:20250715T172816Z
UID:10006227-1838799000-1838808000@templeisraelorlando.org
SUMMARY:Shabbat Services
DESCRIPTION:
URL:https://templeisraelorlando.org/event/shabbat-services-2/2028-04-08/
LOCATION:Temple Israel\, 50 S Moss Road\, Winter Springs\, FL\, 32708\, United States
CATEGORIES:Services
END:VEVENT
BEGIN:VEVENT
DTSTART;TZID=America/New_York:20280409T090000
DTEND;TZID=America/New_York:20280409T093000
DTSTAMP:20260420T022656
CREATED:20240507T021438Z
LAST-MODIFIED:20250715T172314Z
UID:10005528-1838883600-1838885400@templeisraelorlando.org
SUMMARY:Sunday Minyan
DESCRIPTION:Our minyan starts at 9:00am in person and on zoom. \nhttps://us02web.zoom.us/j/83885789313?pwd=UkdrN25yMGRpTUIzNlRwejd1UWpjQT09 \nMeeting ID: 838 8578 9313\nPasscode: 165936
URL:https://templeisraelorlando.org/event/sunday-minyan/2028-04-09/
LOCATION:Temple Israel\, 50 S Moss Road\, Winter Springs\, FL\, 32708\, United States
CATEGORIES:Services
END:VEVENT
BEGIN:VEVENT
DTSTART;TZID=America/New_York:20280410T190000
DTEND;TZID=America/New_York:20280410T200000
DTSTAMP:20260420T022656
CREATED:20240827T002911Z
LAST-MODIFIED:20250928T233226Z
UID:10006447-1839006000-1839009600@templeisraelorlando.org
SUMMARY:Executive Committee
DESCRIPTION:
URL:https://templeisraelorlando.org/event/executive-committee-2-2/2028-04-10/
END:VEVENT
BEGIN:VEVENT
DTSTART;TZID=America/New_York:20280412T120000
DTEND;TZID=America/New_York:20280412T130000
DTSTAMP:20260420T022656
CREATED:20260224T125059Z
LAST-MODIFIED:20260318T180202Z
UID:10007012-1839153600-1839157200@templeisraelorlando.org
SUMMARY:Lunchtime class with Rabbi Neely
DESCRIPTION:
URL:https://templeisraelorlando.org/event/lunchtime-class-with-rabbi-neely/2028-04-12/
CATEGORIES:Classes
END:VEVENT
BEGIN:VEVENT
DTSTART;TZID=America/New_York:20280414T170000
DTEND;TZID=America/New_York:20280414T183000
DTSTAMP:20260420T022656
CREATED:20260412T164837Z
LAST-MODIFIED:20260412T165527Z
UID:10007236-1839344400-1839349800@templeisraelorlando.org
SUMMARY:TI Men's Club Warm-Up Dinner @ Corfu Restaurant
DESCRIPTION:Join Men’s Club for dinner on the 2nd Friday of each month at Corfu Restaurant\, 124 W SR 434\, Winter Springs.
URL:https://templeisraelorlando.org/event/ti-mens-club-warm-up-dinner/2028-04-14/
CATEGORIES:Event
END:VEVENT
BEGIN:VEVENT
DTSTART;TZID=America/New_York:20280414T190000
DTEND;TZID=America/New_York:20280414T200000
DTSTAMP:20260420T022656
CREATED:20240507T020417Z
LAST-MODIFIED:20260108T191902Z
UID:10004828-1839351600-1839355200@templeisraelorlando.org
SUMMARY:Kabbalat Shabbat
DESCRIPTION:
URL:https://templeisraelorlando.org/event/kabbalat-shabbat/2028-04-14/
CATEGORIES:Services
END:VEVENT
BEGIN:VEVENT
DTSTART;TZID=America/New_York:20280415T093000
DTEND;TZID=America/New_York:20280415T120000
DTSTAMP:20260420T022656
CREATED:20250715T172155Z
LAST-MODIFIED:20250715T172816Z
UID:10006228-1839403800-1839412800@templeisraelorlando.org
SUMMARY:Shabbat Services
DESCRIPTION:
URL:https://templeisraelorlando.org/event/shabbat-services-2/2028-04-15/
LOCATION:Temple Israel\, 50 S Moss Road\, Winter Springs\, FL\, 32708\, United States
CATEGORIES:Services
END:VEVENT
BEGIN:VEVENT
DTSTART;TZID=America/New_York:20280415T110000
DTEND;TZID=America/New_York:20280415T234500
DTSTAMP:20260420T022656
CREATED:20240507T033334Z
LAST-MODIFIED:20250715T172956Z
UID:10006388-1839409200-1839455100@templeisraelorlando.org
SUMMARY:Tot Shabbat
DESCRIPTION:
URL:https://templeisraelorlando.org/event/tot-shabbat/2028-04-15/
CATEGORIES:Family
END:VEVENT
BEGIN:VEVENT
DTSTART;TZID=America/New_York:20280416T090000
DTEND;TZID=America/New_York:20280416T093000
DTSTAMP:20260420T022656
CREATED:20240507T021438Z
LAST-MODIFIED:20250715T172314Z
UID:10005529-1839488400-1839490200@templeisraelorlando.org
SUMMARY:Sunday Minyan
DESCRIPTION:Our minyan starts at 9:00am in person and on zoom. \nhttps://us02web.zoom.us/j/83885789313?pwd=UkdrN25yMGRpTUIzNlRwejd1UWpjQT09 \nMeeting ID: 838 8578 9313\nPasscode: 165936
URL:https://templeisraelorlando.org/event/sunday-minyan/2028-04-16/
LOCATION:Temple Israel\, 50 S Moss Road\, Winter Springs\, FL\, 32708\, United States
CATEGORIES:Services
END:VEVENT
BEGIN:VEVENT
DTSTART;TZID=America/New_York:20280419T120000
DTEND;TZID=America/New_York:20280419T130000
DTSTAMP:20260420T022656
CREATED:20260224T125059Z
LAST-MODIFIED:20260318T180202Z
UID:10007013-1839758400-1839762000@templeisraelorlando.org
SUMMARY:Lunchtime class with Rabbi Neely
DESCRIPTION:
URL:https://templeisraelorlando.org/event/lunchtime-class-with-rabbi-neely/2028-04-19/
CATEGORIES:Classes
END:VEVENT
BEGIN:VEVENT
DTSTART;TZID=America/New_York:20280421T190000
DTEND;TZID=America/New_York:20280421T200000
DTSTAMP:20260420T022656
CREATED:20240507T020417Z
LAST-MODIFIED:20260108T191902Z
UID:10004829-1839956400-1839960000@templeisraelorlando.org
SUMMARY:Kabbalat Shabbat
DESCRIPTION:
URL:https://templeisraelorlando.org/event/kabbalat-shabbat/2028-04-21/
CATEGORIES:Services
END:VEVENT
BEGIN:VEVENT
DTSTART;TZID=America/New_York:20280422T093000
DTEND;TZID=America/New_York:20280422T120000
DTSTAMP:20260420T022656
CREATED:20250715T172155Z
LAST-MODIFIED:20250715T172816Z
UID:10006229-1840008600-1840017600@templeisraelorlando.org
SUMMARY:Shabbat Services
DESCRIPTION:
URL:https://templeisraelorlando.org/event/shabbat-services-2/2028-04-22/
LOCATION:Temple Israel\, 50 S Moss Road\, Winter Springs\, FL\, 32708\, United States
CATEGORIES:Services
END:VEVENT
BEGIN:VEVENT
DTSTART;TZID=America/New_York:20280423T090000
DTEND;TZID=America/New_York:20280423T093000
DTSTAMP:20260420T022656
CREATED:20240507T021438Z
LAST-MODIFIED:20250715T172314Z
UID:10005530-1840093200-1840095000@templeisraelorlando.org
SUMMARY:Sunday Minyan
DESCRIPTION:Our minyan starts at 9:00am in person and on zoom. \nhttps://us02web.zoom.us/j/83885789313?pwd=UkdrN25yMGRpTUIzNlRwejd1UWpjQT09 \nMeeting ID: 838 8578 9313\nPasscode: 165936
URL:https://templeisraelorlando.org/event/sunday-minyan/2028-04-23/
LOCATION:Temple Israel\, 50 S Moss Road\, Winter Springs\, FL\, 32708\, United States
CATEGORIES:Services
END:VEVENT
BEGIN:VEVENT
DTSTART;TZID=America/New_York:20280424T190000
DTEND;TZID=America/New_York:20280424T200000
DTSTAMP:20260420T022656
CREATED:20240507T032905Z
LAST-MODIFIED:20250825T133443Z
UID:10006516-1840215600-1840219200@templeisraelorlando.org
SUMMARY:Board of Directors
DESCRIPTION:
URL:https://templeisraelorlando.org/event/board-of-directors/2028-04-24/
CATEGORIES:Committee meeting
END:VEVENT
BEGIN:VEVENT
DTSTART;TZID=America/New_York:20280425T193000
DTEND;TZID=America/New_York:20280425T203000
DTSTAMP:20260420T022656
CREATED:20250630T172741Z
LAST-MODIFIED:20250825T133756Z
UID:10003147-1840303800-1840307400@templeisraelorlando.org
SUMMARY:Membership Committee Meeting
DESCRIPTION:
URL:https://templeisraelorlando.org/event/membership-committee-meeting-3/2028-04-25/
CATEGORIES:Committee meeting
END:VEVENT
BEGIN:VEVENT
DTSTART;TZID=America/New_York:20280426T120000
DTEND;TZID=America/New_York:20280426T130000
DTSTAMP:20260420T022656
CREATED:20260224T125059Z
LAST-MODIFIED:20260318T180202Z
UID:10007014-1840363200-1840366800@templeisraelorlando.org
SUMMARY:Lunchtime class with Rabbi Neely
DESCRIPTION:
URL:https://templeisraelorlando.org/event/lunchtime-class-with-rabbi-neely/2028-04-26/
CATEGORIES:Classes
END:VEVENT
BEGIN:VEVENT
DTSTART;TZID=America/New_York:20280427T190000
DTEND;TZID=America/New_York:20280427T203000
DTSTAMP:20260420T022656
CREATED:20260412T165154Z
LAST-MODIFIED:20260412T165154Z
UID:10007297-1840474800-1840480200@templeisraelorlando.org
SUMMARY:TI Men's Club Monthly Social @ The Back Porch
DESCRIPTION:Join Men’s Club on the 4th Thursday of each month @ 7 PM at The Back Porch\, 145 Wekiva Springs Rd #161\, Longwood.
URL:https://templeisraelorlando.org/event/ti-mens-club-monthly-social-the-back-porch/2028-04-27/
CATEGORIES:Event
END:VEVENT
BEGIN:VEVENT
DTSTART;TZID=America/New_York:20280428T190000
DTEND;TZID=America/New_York:20280428T200000
DTSTAMP:20260420T022656
CREATED:20240507T020417Z
LAST-MODIFIED:20260108T191902Z
UID:10004830-1840561200-1840564800@templeisraelorlando.org
SUMMARY:Kabbalat Shabbat
DESCRIPTION:
URL:https://templeisraelorlando.org/event/kabbalat-shabbat/2028-04-28/
CATEGORIES:Services
END:VEVENT
BEGIN:VEVENT
DTSTART;TZID=America/New_York:20280429T093000
DTEND;TZID=America/New_York:20280429T120000
DTSTAMP:20260420T022656
CREATED:20250715T172155Z
LAST-MODIFIED:20250715T172816Z
UID:10006230-1840613400-1840622400@templeisraelorlando.org
SUMMARY:Shabbat Services
DESCRIPTION:
URL:https://templeisraelorlando.org/event/shabbat-services-2/2028-04-29/
LOCATION:Temple Israel\, 50 S Moss Road\, Winter Springs\, FL\, 32708\, United States
CATEGORIES:Services
END:VEVENT
BEGIN:VEVENT
DTSTART;TZID=America/New_York:20280430T090000
DTEND;TZID=America/New_York:20280430T093000
DTSTAMP:20260420T022656
CREATED:20240507T021438Z
LAST-MODIFIED:20250715T172314Z
UID:10005531-1840698000-1840699800@templeisraelorlando.org
SUMMARY:Sunday Minyan
DESCRIPTION:Our minyan starts at 9:00am in person and on zoom. \nhttps://us02web.zoom.us/j/83885789313?pwd=UkdrN25yMGRpTUIzNlRwejd1UWpjQT09 \nMeeting ID: 838 8578 9313\nPasscode: 165936
URL:https://templeisraelorlando.org/event/sunday-minyan/2028-04-30/
LOCATION:Temple Israel\, 50 S Moss Road\, Winter Springs\, FL\, 32708\, United States
CATEGORIES:Services
END:VEVENT
BEGIN:VEVENT
DTSTART;TZID=America/New_York:20280503T120000
DTEND;TZID=America/New_York:20280503T130000
DTSTAMP:20260420T022656
CREATED:20260224T125059Z
LAST-MODIFIED:20260318T180202Z
UID:10007015-1840968000-1840971600@templeisraelorlando.org
SUMMARY:Lunchtime class with Rabbi Neely
DESCRIPTION:
URL:https://templeisraelorlando.org/event/lunchtime-class-with-rabbi-neely/2028-05-03/
CATEGORIES:Classes
END:VEVENT
BEGIN:VEVENT
DTSTART;TZID=America/New_York:20280505T180000
DTEND;TZID=America/New_York:20280505T190000
DTSTAMP:20260420T022656
CREATED:20250724T120311Z
LAST-MODIFIED:20260406T182700Z
UID:10006640-1841162400-1841166000@templeisraelorlando.org
SUMMARY:Kabbalat Shabbat
DESCRIPTION:
URL:https://templeisraelorlando.org/event/kabbalat-shabbat-2-2/2028-05-05/
LOCATION:Temple Israel\, 50 S Moss Road\, Winter Springs\, FL\, 32708\, United States
CATEGORIES:Services
END:VEVENT
BEGIN:VEVENT
DTSTART;TZID=America/New_York:20280506T093000
DTEND;TZID=America/New_York:20280506T120000
DTSTAMP:20260420T022656
CREATED:20250715T172155Z
LAST-MODIFIED:20250715T172816Z
UID:10006231-1841218200-1841227200@templeisraelorlando.org
SUMMARY:Shabbat Services
DESCRIPTION:
URL:https://templeisraelorlando.org/event/shabbat-services-2/2028-05-06/
LOCATION:Temple Israel\, 50 S Moss Road\, Winter Springs\, FL\, 32708\, United States
CATEGORIES:Services
END:VEVENT
BEGIN:VEVENT
DTSTART;TZID=America/New_York:20280507T090000
DTEND;TZID=America/New_York:20280507T093000
DTSTAMP:20260420T022656
CREATED:20240507T021438Z
LAST-MODIFIED:20250715T172314Z
UID:10005532-1841302800-1841304600@templeisraelorlando.org
SUMMARY:Sunday Minyan
DESCRIPTION:Our minyan starts at 9:00am in person and on zoom. \nhttps://us02web.zoom.us/j/83885789313?pwd=UkdrN25yMGRpTUIzNlRwejd1UWpjQT09 \nMeeting ID: 838 8578 9313\nPasscode: 165936
URL:https://templeisraelorlando.org/event/sunday-minyan/2028-05-07/
LOCATION:Temple Israel\, 50 S Moss Road\, Winter Springs\, FL\, 32708\, United States
CATEGORIES:Services
END:VEVENT
BEGIN:VEVENT
DTSTART;TZID=America/New_York:20280508T190000
DTEND;TZID=America/New_York:20280508T200000
DTSTAMP:20260420T022656
CREATED:20240827T002911Z
LAST-MODIFIED:20250928T233226Z
UID:10006448-1841425200-1841428800@templeisraelorlando.org
SUMMARY:Executive Committee
DESCRIPTION:
URL:https://templeisraelorlando.org/event/executive-committee-2-2/2028-05-08/
END:VEVENT
BEGIN:VEVENT
DTSTART;TZID=America/New_York:20280510T120000
DTEND;TZID=America/New_York:20280510T130000
DTSTAMP:20260420T022656
CREATED:20260224T125059Z
LAST-MODIFIED:20260318T180202Z
UID:10007016-1841572800-1841576400@templeisraelorlando.org
SUMMARY:Lunchtime class with Rabbi Neely
DESCRIPTION:
URL:https://templeisraelorlando.org/event/lunchtime-class-with-rabbi-neely/2028-05-10/
CATEGORIES:Classes
END:VEVENT
END:VCALENDAR