BEGIN:VCALENDAR
VERSION:2.0
PRODID:-//Temple Israel - ECPv6.15.17.1//NONSGML v1.0//EN
CALSCALE:GREGORIAN
METHOD:PUBLISH
X-ORIGINAL-URL:https://templeisraelorlando.org
X-WR-CALDESC:Events for Temple Israel
REFRESH-INTERVAL;VALUE=DURATION:PT1H
X-Robots-Tag:noindex
X-PUBLISHED-TTL:PT1H
BEGIN:VTIMEZONE
TZID:America/New_York
BEGIN:DAYLIGHT
TZOFFSETFROM:-0500
TZOFFSETTO:-0400
TZNAME:EDT
DTSTART:20270314T070000
END:DAYLIGHT
BEGIN:STANDARD
TZOFFSETFROM:-0400
TZOFFSETTO:-0500
TZNAME:EST
DTSTART:20271107T060000
END:STANDARD
BEGIN:DAYLIGHT
TZOFFSETFROM:-0500
TZOFFSETTO:-0400
TZNAME:EDT
DTSTART:20280312T070000
END:DAYLIGHT
BEGIN:STANDARD
TZOFFSETFROM:-0400
TZOFFSETTO:-0500
TZNAME:EST
DTSTART:20281105T060000
END:STANDARD
BEGIN:DAYLIGHT
TZOFFSETFROM:-0500
TZOFFSETTO:-0400
TZNAME:EDT
DTSTART:20290311T070000
END:DAYLIGHT
BEGIN:STANDARD
TZOFFSETFROM:-0400
TZOFFSETTO:-0500
TZNAME:EST
DTSTART:20291104T060000
END:STANDARD
END:VTIMEZONE
BEGIN:VEVENT
DTSTART;TZID=America/New_York:20280719T120000
DTEND;TZID=America/New_York:20280719T130000
DTSTAMP:20260420T234121
CREATED:20260224T125059Z
LAST-MODIFIED:20260318T180202Z
UID:10007026-1847620800-1847624400@templeisraelorlando.org
SUMMARY:Lunchtime class with Rabbi Neely
DESCRIPTION:
URL:https://templeisraelorlando.org/event/lunchtime-class-with-rabbi-neely/2028-07-19/
CATEGORIES:Classes
END:VEVENT
BEGIN:VEVENT
DTSTART;TZID=America/New_York:20280721T190000
DTEND;TZID=America/New_York:20280721T200000
DTSTAMP:20260420T234121
CREATED:20240507T020417Z
LAST-MODIFIED:20260108T191902Z
UID:10004839-1847818800-1847822400@templeisraelorlando.org
SUMMARY:Kabbalat Shabbat
DESCRIPTION:
URL:https://templeisraelorlando.org/event/kabbalat-shabbat/2028-07-21/
CATEGORIES:Services
END:VEVENT
BEGIN:VEVENT
DTSTART;TZID=America/New_York:20280722T093000
DTEND;TZID=America/New_York:20280722T120000
DTSTAMP:20260420T234121
CREATED:20250715T172155Z
LAST-MODIFIED:20250715T172816Z
UID:10006242-1847871000-1847880000@templeisraelorlando.org
SUMMARY:Shabbat Services
DESCRIPTION:
URL:https://templeisraelorlando.org/event/shabbat-services-2/2028-07-22/
LOCATION:Temple Israel\, 50 S Moss Road\, Winter Springs\, FL\, 32708\, United States
CATEGORIES:Services
END:VEVENT
BEGIN:VEVENT
DTSTART;TZID=America/New_York:20280723T090000
DTEND;TZID=America/New_York:20280723T093000
DTSTAMP:20260420T234121
CREATED:20240507T021438Z
LAST-MODIFIED:20250715T172314Z
UID:10005543-1847955600-1847957400@templeisraelorlando.org
SUMMARY:Sunday Minyan
DESCRIPTION:Our minyan starts at 9:00am in person and on zoom. \nhttps://us02web.zoom.us/j/83885789313?pwd=UkdrN25yMGRpTUIzNlRwejd1UWpjQT09 \nMeeting ID: 838 8578 9313\nPasscode: 165936
URL:https://templeisraelorlando.org/event/sunday-minyan/2028-07-23/
LOCATION:Temple Israel\, 50 S Moss Road\, Winter Springs\, FL\, 32708\, United States
CATEGORIES:Services
END:VEVENT
BEGIN:VEVENT
DTSTART;TZID=America/New_York:20280724T190000
DTEND;TZID=America/New_York:20280724T200000
DTSTAMP:20260420T234121
CREATED:20240507T032905Z
LAST-MODIFIED:20250825T133443Z
UID:10006519-1848078000-1848081600@templeisraelorlando.org
SUMMARY:Board of Directors
DESCRIPTION:
URL:https://templeisraelorlando.org/event/board-of-directors/2028-07-24/
CATEGORIES:Committee meeting
END:VEVENT
BEGIN:VEVENT
DTSTART;TZID=America/New_York:20280725T193000
DTEND;TZID=America/New_York:20280725T203000
DTSTAMP:20260420T234121
CREATED:20250630T172741Z
LAST-MODIFIED:20250825T133756Z
UID:10003150-1848166200-1848169800@templeisraelorlando.org
SUMMARY:Membership Committee Meeting
DESCRIPTION:
URL:https://templeisraelorlando.org/event/membership-committee-meeting-3/2028-07-25/
CATEGORIES:Committee meeting
END:VEVENT
BEGIN:VEVENT
DTSTART;TZID=America/New_York:20280726T120000
DTEND;TZID=America/New_York:20280726T130000
DTSTAMP:20260420T234121
CREATED:20260224T125059Z
LAST-MODIFIED:20260318T180202Z
UID:10007027-1848225600-1848229200@templeisraelorlando.org
SUMMARY:Lunchtime class with Rabbi Neely
DESCRIPTION:
URL:https://templeisraelorlando.org/event/lunchtime-class-with-rabbi-neely/2028-07-26/
CATEGORIES:Classes
END:VEVENT
BEGIN:VEVENT
DTSTART;TZID=America/New_York:20280727T190000
DTEND;TZID=America/New_York:20280727T203000
DTSTAMP:20260420T234121
CREATED:20260412T165154Z
LAST-MODIFIED:20260412T165154Z
UID:10007300-1848337200-1848342600@templeisraelorlando.org
SUMMARY:TI Men's Club Monthly Social @ The Back Porch
DESCRIPTION:Join Men’s Club on the 4th Thursday of each month @ 7 PM at The Back Porch\, 145 Wekiva Springs Rd #161\, Longwood.
URL:https://templeisraelorlando.org/event/ti-mens-club-monthly-social-the-back-porch/2028-07-27/
CATEGORIES:Event
END:VEVENT
BEGIN:VEVENT
DTSTART;TZID=America/New_York:20280728T190000
DTEND;TZID=America/New_York:20280728T200000
DTSTAMP:20260420T234121
CREATED:20240507T020417Z
LAST-MODIFIED:20260108T191902Z
UID:10004840-1848423600-1848427200@templeisraelorlando.org
SUMMARY:Kabbalat Shabbat
DESCRIPTION:
URL:https://templeisraelorlando.org/event/kabbalat-shabbat/2028-07-28/
CATEGORIES:Services
END:VEVENT
BEGIN:VEVENT
DTSTART;TZID=America/New_York:20280729T093000
DTEND;TZID=America/New_York:20280729T120000
DTSTAMP:20260420T234121
CREATED:20250715T172155Z
LAST-MODIFIED:20250715T172816Z
UID:10006243-1848475800-1848484800@templeisraelorlando.org
SUMMARY:Shabbat Services
DESCRIPTION:
URL:https://templeisraelorlando.org/event/shabbat-services-2/2028-07-29/
LOCATION:Temple Israel\, 50 S Moss Road\, Winter Springs\, FL\, 32708\, United States
CATEGORIES:Services
END:VEVENT
BEGIN:VEVENT
DTSTART;TZID=America/New_York:20280730T090000
DTEND;TZID=America/New_York:20280730T093000
DTSTAMP:20260420T234121
CREATED:20240507T021438Z
LAST-MODIFIED:20250715T172314Z
UID:10005544-1848560400-1848562200@templeisraelorlando.org
SUMMARY:Sunday Minyan
DESCRIPTION:Our minyan starts at 9:00am in person and on zoom. \nhttps://us02web.zoom.us/j/83885789313?pwd=UkdrN25yMGRpTUIzNlRwejd1UWpjQT09 \nMeeting ID: 838 8578 9313\nPasscode: 165936
URL:https://templeisraelorlando.org/event/sunday-minyan/2028-07-30/
LOCATION:Temple Israel\, 50 S Moss Road\, Winter Springs\, FL\, 32708\, United States
CATEGORIES:Services
END:VEVENT
BEGIN:VEVENT
DTSTART;TZID=America/New_York:20280802T120000
DTEND;TZID=America/New_York:20280802T130000
DTSTAMP:20260420T234121
CREATED:20260224T125059Z
LAST-MODIFIED:20260318T180202Z
UID:10007028-1848830400-1848834000@templeisraelorlando.org
SUMMARY:Lunchtime class with Rabbi Neely
DESCRIPTION:
URL:https://templeisraelorlando.org/event/lunchtime-class-with-rabbi-neely/2028-08-02/
CATEGORIES:Classes
END:VEVENT
BEGIN:VEVENT
DTSTART;TZID=America/New_York:20280804T180000
DTEND;TZID=America/New_York:20280804T190000
DTSTAMP:20260420T234121
CREATED:20250724T120311Z
LAST-MODIFIED:20260406T182700Z
UID:10006643-1849024800-1849028400@templeisraelorlando.org
SUMMARY:Kabbalat Shabbat
DESCRIPTION:
URL:https://templeisraelorlando.org/event/kabbalat-shabbat-2-2/2028-08-04/
LOCATION:Temple Israel\, 50 S Moss Road\, Winter Springs\, FL\, 32708\, United States
CATEGORIES:Services
END:VEVENT
BEGIN:VEVENT
DTSTART;TZID=America/New_York:20280805T093000
DTEND;TZID=America/New_York:20280805T120000
DTSTAMP:20260420T234121
CREATED:20250715T172155Z
LAST-MODIFIED:20250715T172816Z
UID:10006244-1849080600-1849089600@templeisraelorlando.org
SUMMARY:Shabbat Services
DESCRIPTION:
URL:https://templeisraelorlando.org/event/shabbat-services-2/2028-08-05/
LOCATION:Temple Israel\, 50 S Moss Road\, Winter Springs\, FL\, 32708\, United States
CATEGORIES:Services
END:VEVENT
BEGIN:VEVENT
DTSTART;TZID=America/New_York:20280806T090000
DTEND;TZID=America/New_York:20280806T093000
DTSTAMP:20260420T234121
CREATED:20240507T021438Z
LAST-MODIFIED:20250715T172314Z
UID:10005545-1849165200-1849167000@templeisraelorlando.org
SUMMARY:Sunday Minyan
DESCRIPTION:Our minyan starts at 9:00am in person and on zoom. \nhttps://us02web.zoom.us/j/83885789313?pwd=UkdrN25yMGRpTUIzNlRwejd1UWpjQT09 \nMeeting ID: 838 8578 9313\nPasscode: 165936
URL:https://templeisraelorlando.org/event/sunday-minyan/2028-08-06/
LOCATION:Temple Israel\, 50 S Moss Road\, Winter Springs\, FL\, 32708\, United States
CATEGORIES:Services
END:VEVENT
BEGIN:VEVENT
DTSTART;TZID=America/New_York:20280809T120000
DTEND;TZID=America/New_York:20280809T130000
DTSTAMP:20260420T234121
CREATED:20260224T125059Z
LAST-MODIFIED:20260318T180202Z
UID:10007029-1849435200-1849438800@templeisraelorlando.org
SUMMARY:Lunchtime class with Rabbi Neely
DESCRIPTION:
URL:https://templeisraelorlando.org/event/lunchtime-class-with-rabbi-neely/2028-08-09/
CATEGORIES:Classes
END:VEVENT
BEGIN:VEVENT
DTSTART;TZID=America/New_York:20280811T170000
DTEND;TZID=America/New_York:20280811T183000
DTSTAMP:20260420T234121
CREATED:20260412T164837Z
LAST-MODIFIED:20260412T165527Z
UID:10007240-1849626000-1849631400@templeisraelorlando.org
SUMMARY:TI Men's Club Warm-Up Dinner @ Corfu Restaurant
DESCRIPTION:Join Men’s Club for dinner on the 2nd Friday of each month at Corfu Restaurant\, 124 W SR 434\, Winter Springs.
URL:https://templeisraelorlando.org/event/ti-mens-club-warm-up-dinner/2028-08-11/
CATEGORIES:Event
END:VEVENT
BEGIN:VEVENT
DTSTART;TZID=America/New_York:20280811T190000
DTEND;TZID=America/New_York:20280811T200000
DTSTAMP:20260420T234121
CREATED:20240507T020417Z
LAST-MODIFIED:20260108T191902Z
UID:10004841-1849633200-1849636800@templeisraelorlando.org
SUMMARY:Kabbalat Shabbat
DESCRIPTION:
URL:https://templeisraelorlando.org/event/kabbalat-shabbat/2028-08-11/
CATEGORIES:Services
END:VEVENT
BEGIN:VEVENT
DTSTART;TZID=America/New_York:20280812T093000
DTEND;TZID=America/New_York:20280812T120000
DTSTAMP:20260420T234121
CREATED:20250715T172155Z
LAST-MODIFIED:20250715T172816Z
UID:10006245-1849685400-1849694400@templeisraelorlando.org
SUMMARY:Shabbat Services
DESCRIPTION:
URL:https://templeisraelorlando.org/event/shabbat-services-2/2028-08-12/
LOCATION:Temple Israel\, 50 S Moss Road\, Winter Springs\, FL\, 32708\, United States
CATEGORIES:Services
END:VEVENT
BEGIN:VEVENT
DTSTART;TZID=America/New_York:20280813T090000
DTEND;TZID=America/New_York:20280813T093000
DTSTAMP:20260420T234121
CREATED:20240507T021438Z
LAST-MODIFIED:20250715T172314Z
UID:10005546-1849770000-1849771800@templeisraelorlando.org
SUMMARY:Sunday Minyan
DESCRIPTION:Our minyan starts at 9:00am in person and on zoom. \nhttps://us02web.zoom.us/j/83885789313?pwd=UkdrN25yMGRpTUIzNlRwejd1UWpjQT09 \nMeeting ID: 838 8578 9313\nPasscode: 165936
URL:https://templeisraelorlando.org/event/sunday-minyan/2028-08-13/
LOCATION:Temple Israel\, 50 S Moss Road\, Winter Springs\, FL\, 32708\, United States
CATEGORIES:Services
END:VEVENT
BEGIN:VEVENT
DTSTART;TZID=America/New_York:20280814T190000
DTEND;TZID=America/New_York:20280814T200000
DTSTAMP:20260420T234121
CREATED:20240827T002911Z
LAST-MODIFIED:20250928T233226Z
UID:10006451-1849892400-1849896000@templeisraelorlando.org
SUMMARY:Executive Committee
DESCRIPTION:
URL:https://templeisraelorlando.org/event/executive-committee-2-2/2028-08-14/
END:VEVENT
BEGIN:VEVENT
DTSTART;TZID=America/New_York:20280816T120000
DTEND;TZID=America/New_York:20280816T130000
DTSTAMP:20260420T234121
CREATED:20260224T125059Z
LAST-MODIFIED:20260318T180202Z
UID:10007030-1850040000-1850043600@templeisraelorlando.org
SUMMARY:Lunchtime class with Rabbi Neely
DESCRIPTION:
URL:https://templeisraelorlando.org/event/lunchtime-class-with-rabbi-neely/2028-08-16/
CATEGORIES:Classes
END:VEVENT
BEGIN:VEVENT
DTSTART;TZID=America/New_York:20280818T190000
DTEND;TZID=America/New_York:20280818T200000
DTSTAMP:20260420T234121
CREATED:20240507T020417Z
LAST-MODIFIED:20260108T191902Z
UID:10004842-1850238000-1850241600@templeisraelorlando.org
SUMMARY:Kabbalat Shabbat
DESCRIPTION:
URL:https://templeisraelorlando.org/event/kabbalat-shabbat/2028-08-18/
CATEGORIES:Services
END:VEVENT
BEGIN:VEVENT
DTSTART;TZID=America/New_York:20280819T093000
DTEND;TZID=America/New_York:20280819T120000
DTSTAMP:20260420T234121
CREATED:20250715T172155Z
LAST-MODIFIED:20250715T172816Z
UID:10006246-1850290200-1850299200@templeisraelorlando.org
SUMMARY:Shabbat Services
DESCRIPTION:
URL:https://templeisraelorlando.org/event/shabbat-services-2/2028-08-19/
LOCATION:Temple Israel\, 50 S Moss Road\, Winter Springs\, FL\, 32708\, United States
CATEGORIES:Services
END:VEVENT
BEGIN:VEVENT
DTSTART;TZID=America/New_York:20280819T110000
DTEND;TZID=America/New_York:20280819T234500
DTSTAMP:20260420T234121
CREATED:20240507T033334Z
LAST-MODIFIED:20250715T172956Z
UID:10006392-1850295600-1850341500@templeisraelorlando.org
SUMMARY:Tot Shabbat
DESCRIPTION:
URL:https://templeisraelorlando.org/event/tot-shabbat/2028-08-19/
CATEGORIES:Family
END:VEVENT
BEGIN:VEVENT
DTSTART;TZID=America/New_York:20280820T090000
DTEND;TZID=America/New_York:20280820T093000
DTSTAMP:20260420T234121
CREATED:20240507T021438Z
LAST-MODIFIED:20250715T172314Z
UID:10005547-1850374800-1850376600@templeisraelorlando.org
SUMMARY:Sunday Minyan
DESCRIPTION:Our minyan starts at 9:00am in person and on zoom. \nhttps://us02web.zoom.us/j/83885789313?pwd=UkdrN25yMGRpTUIzNlRwejd1UWpjQT09 \nMeeting ID: 838 8578 9313\nPasscode: 165936
URL:https://templeisraelorlando.org/event/sunday-minyan/2028-08-20/
LOCATION:Temple Israel\, 50 S Moss Road\, Winter Springs\, FL\, 32708\, United States
CATEGORIES:Services
END:VEVENT
BEGIN:VEVENT
DTSTART;TZID=America/New_York:20280822T193000
DTEND;TZID=America/New_York:20280822T203000
DTSTAMP:20260420T234121
CREATED:20250630T172741Z
LAST-MODIFIED:20250825T133756Z
UID:10003151-1850585400-1850589000@templeisraelorlando.org
SUMMARY:Membership Committee Meeting
DESCRIPTION:
URL:https://templeisraelorlando.org/event/membership-committee-meeting-3/2028-08-22/
CATEGORIES:Committee meeting
END:VEVENT
BEGIN:VEVENT
DTSTART;TZID=America/New_York:20280823T120000
DTEND;TZID=America/New_York:20280823T130000
DTSTAMP:20260420T234121
CREATED:20260224T125059Z
LAST-MODIFIED:20260318T180202Z
UID:10007031-1850644800-1850648400@templeisraelorlando.org
SUMMARY:Lunchtime class with Rabbi Neely
DESCRIPTION:
URL:https://templeisraelorlando.org/event/lunchtime-class-with-rabbi-neely/2028-08-23/
CATEGORIES:Classes
END:VEVENT
BEGIN:VEVENT
DTSTART;TZID=America/New_York:20280824T190000
DTEND;TZID=America/New_York:20280824T203000
DTSTAMP:20260420T234122
CREATED:20260412T165154Z
LAST-MODIFIED:20260412T165154Z
UID:10007301-1850756400-1850761800@templeisraelorlando.org
SUMMARY:TI Men's Club Monthly Social @ The Back Porch
DESCRIPTION:Join Men’s Club on the 4th Thursday of each month @ 7 PM at The Back Porch\, 145 Wekiva Springs Rd #161\, Longwood.
URL:https://templeisraelorlando.org/event/ti-mens-club-monthly-social-the-back-porch/2028-08-24/
CATEGORIES:Event
END:VEVENT
BEGIN:VEVENT
DTSTART;TZID=America/New_York:20280825T190000
DTEND;TZID=America/New_York:20280825T200000
DTSTAMP:20260420T234122
CREATED:20240507T020417Z
LAST-MODIFIED:20260108T191902Z
UID:10004843-1850842800-1850846400@templeisraelorlando.org
SUMMARY:Kabbalat Shabbat
DESCRIPTION:
URL:https://templeisraelorlando.org/event/kabbalat-shabbat/2028-08-25/
CATEGORIES:Services
END:VEVENT
END:VCALENDAR