BEGIN:VCALENDAR
VERSION:2.0
PRODID:-//Temple Israel - ECPv6.15.17.1//NONSGML v1.0//EN
CALSCALE:GREGORIAN
METHOD:PUBLISH
X-WR-CALNAME:Temple Israel
X-ORIGINAL-URL:https://templeisraelorlando.org
X-WR-CALDESC:Events for Temple Israel
REFRESH-INTERVAL;VALUE=DURATION:PT1H
X-Robots-Tag:noindex
X-PUBLISHED-TTL:PT1H
BEGIN:VTIMEZONE
TZID:UTC
BEGIN:STANDARD
TZOFFSETFROM:+0000
TZOFFSETTO:+0000
TZNAME:UTC
DTSTART:20230101T000000
END:STANDARD
END:VTIMEZONE
BEGIN:VTIMEZONE
TZID:America/New_York
BEGIN:DAYLIGHT
TZOFFSETFROM:-0500
TZOFFSETTO:-0400
TZNAME:EDT
DTSTART:20230312T070000
END:DAYLIGHT
BEGIN:STANDARD
TZOFFSETFROM:-0400
TZOFFSETTO:-0500
TZNAME:EST
DTSTART:20231105T060000
END:STANDARD
BEGIN:DAYLIGHT
TZOFFSETFROM:-0500
TZOFFSETTO:-0400
TZNAME:EDT
DTSTART:20240310T070000
END:DAYLIGHT
BEGIN:STANDARD
TZOFFSETFROM:-0400
TZOFFSETTO:-0500
TZNAME:EST
DTSTART:20241103T060000
END:STANDARD
BEGIN:DAYLIGHT
TZOFFSETFROM:-0500
TZOFFSETTO:-0400
TZNAME:EDT
DTSTART:20250309T070000
END:DAYLIGHT
BEGIN:STANDARD
TZOFFSETFROM:-0400
TZOFFSETTO:-0500
TZNAME:EST
DTSTART:20251102T060000
END:STANDARD
END:VTIMEZONE
BEGIN:VEVENT
DTSTART;TZID=UTC:20240519T093000
DTEND;TZID=UTC:20240519T103000
DTSTAMP:20260421T015141
CREATED:20240507T022122Z
LAST-MODIFIED:20240508T162738Z
UID:10001318-1716111000-1716114600@templeisraelorlando.org
SUMMARY:Café Rishon @ Temple Israel
DESCRIPTION:
URL:https://templeisraelorlando.org/event/cafe-rishon-temple-israel/2024-05-19/
LOCATION:Temple Israel\, 50 S Moss Road\, Winter Springs\, FL\, 32708\, United States
CATEGORIES:Event
END:VEVENT
BEGIN:VEVENT
DTSTART;TZID=America/New_York:20240519T090000
DTEND;TZID=America/New_York:20240519T093000
DTSTAMP:20260421T015141
CREATED:20240507T021438Z
LAST-MODIFIED:20250715T172314Z
UID:10005327-1716109200-1716111000@templeisraelorlando.org
SUMMARY:Sunday Minyan
DESCRIPTION:Our minyan starts at 9:00am in person and on zoom. \nhttps://us02web.zoom.us/j/83885789313?pwd=UkdrN25yMGRpTUIzNlRwejd1UWpjQT09 \nMeeting ID: 838 8578 9313\nPasscode: 165936
URL:https://templeisraelorlando.org/event/sunday-minyan/2024-05-19/
LOCATION:Temple Israel\, 50 S Moss Road\, Winter Springs\, FL\, 32708\, United States
CATEGORIES:Services
END:VEVENT
BEGIN:VEVENT
DTSTART;TZID=America/New_York:20240518T133000
DTEND;TZID=America/New_York:20240518T160000
DTSTAMP:20260421T015141
CREATED:20240507T020909Z
LAST-MODIFIED:20250715T170210Z
UID:10003752-1716039000-1716048000@templeisraelorlando.org
SUMMARY:Shabbat Services
DESCRIPTION:
URL:https://templeisraelorlando.org/event/shabbat-services/2024-05-18/
LOCATION:Temple Israel\, 50 S Moss Road\, Winter Springs\, FL\, 32708\, United States
CATEGORIES:Services
END:VEVENT
BEGIN:VEVENT
DTSTART;TZID=America/New_York:20240518T110000
DTEND;TZID=America/New_York:20240518T234500
DTSTAMP:20260421T015141
CREATED:20240507T033334Z
LAST-MODIFIED:20250715T172956Z
UID:10006346-1716030000-1716075900@templeisraelorlando.org
SUMMARY:Tot Shabbat
DESCRIPTION:
URL:https://templeisraelorlando.org/event/tot-shabbat/2024-05-18/
CATEGORIES:Family
END:VEVENT
BEGIN:VEVENT
DTSTART;TZID=America/New_York:20240517T190000
DTEND;TZID=America/New_York:20240517T200000
DTSTAMP:20260421T015141
CREATED:20240507T020417Z
LAST-MODIFIED:20260108T191902Z
UID:10004672-1715972400-1715976000@templeisraelorlando.org
SUMMARY:Kabbalat Shabbat
DESCRIPTION:
URL:https://templeisraelorlando.org/event/kabbalat-shabbat/2024-05-17/
CATEGORIES:Services
END:VEVENT
BEGIN:VEVENT
DTSTART;TZID=UTC:20240515T190000
DTEND;TZID=UTC:20240515T200000
DTSTAMP:20260421T015141
CREATED:20240507T021723Z
LAST-MODIFIED:20240906T205159Z
UID:10001056-1715799600-1715803200@templeisraelorlando.org
SUMMARY:Anyone Can Pray!
DESCRIPTION:Meeting ID: 845 7204 8175 \nPasscode: 259681
URL:https://templeisraelorlando.org/event/anyone-can-pray/2024-05-15/
LOCATION:Temple Israel\, 50 S Moss Road\, Winter Springs\, FL\, 32708\, United States
CATEGORIES:Classes
END:VEVENT
BEGIN:VEVENT
DTSTART;TZID=America/New_York:20240515T120000
DTEND;TZID=America/New_York:20240515T130000
DTSTAMP:20260421T015141
CREATED:20240507T021624Z
LAST-MODIFIED:20250903T193916Z
UID:10005648-1715774400-1715778000@templeisraelorlando.org
SUMMARY:Torah Class with Rabbi Neely
DESCRIPTION:https://us02web.zoom.us/j/779592739?pwd=QnhwTDZlUTZMR0RoVFJManJNV0hIQT09 \nMeeting ID: 779 592 739\nPasscode: 856939
URL:https://templeisraelorlando.org/event/torah-class-with-rabbi-neely/2024-05-15/
CATEGORIES:Classes
END:VEVENT
BEGIN:VEVENT
DTSTART;TZID=UTC:20240513T190000
DTEND;TZID=UTC:20240513T200000
DTSTAMP:20260421T015141
CREATED:20240507T032758Z
LAST-MODIFIED:20240507T032758Z
UID:10001376-1715626800-1715630400@templeisraelorlando.org
SUMMARY:Executive Committee
DESCRIPTION:
URL:https://templeisraelorlando.org/event/executive-committee/2024-05-13/
END:VEVENT
BEGIN:VEVENT
DTSTART;TZID=UTC:20240513T113000
DTEND;TZID=UTC:20240513T123000
DTSTAMP:20260421T015141
CREATED:20240507T032642Z
LAST-MODIFIED:20240507T032642Z
UID:10001375-1715599800-1715603400@templeisraelorlando.org
SUMMARY:MAGAL Committee
DESCRIPTION:
URL:https://templeisraelorlando.org/event/magal-committee/
CATEGORIES:Committee meeting
END:VEVENT
BEGIN:VEVENT
DTSTART;TZID=UTC:20240512T093000
DTEND;TZID=UTC:20240512T103000
DTSTAMP:20260421T015141
CREATED:20240507T022122Z
LAST-MODIFIED:20240508T162738Z
UID:10001317-1715506200-1715509800@templeisraelorlando.org
SUMMARY:Café Rishon @ Temple Israel
DESCRIPTION:
URL:https://templeisraelorlando.org/event/cafe-rishon-temple-israel/2024-05-12/
LOCATION:Temple Israel\, 50 S Moss Road\, Winter Springs\, FL\, 32708\, United States
CATEGORIES:Event
END:VEVENT
BEGIN:VEVENT
DTSTART;TZID=America/New_York:20240512T090000
DTEND;TZID=America/New_York:20240512T093000
DTSTAMP:20260421T015141
CREATED:20240507T021438Z
LAST-MODIFIED:20250715T172314Z
UID:10005326-1715504400-1715506200@templeisraelorlando.org
SUMMARY:Sunday Minyan
DESCRIPTION:Our minyan starts at 9:00am in person and on zoom. \nhttps://us02web.zoom.us/j/83885789313?pwd=UkdrN25yMGRpTUIzNlRwejd1UWpjQT09 \nMeeting ID: 838 8578 9313\nPasscode: 165936
URL:https://templeisraelorlando.org/event/sunday-minyan/2024-05-12/
LOCATION:Temple Israel\, 50 S Moss Road\, Winter Springs\, FL\, 32708\, United States
CATEGORIES:Services
END:VEVENT
BEGIN:VEVENT
DTSTART;TZID=America/New_York:20240511T133000
DTEND;TZID=America/New_York:20240511T160000
DTSTAMP:20260421T015141
CREATED:20240507T020909Z
LAST-MODIFIED:20250715T170210Z
UID:10003751-1715434200-1715443200@templeisraelorlando.org
SUMMARY:Shabbat Services
DESCRIPTION:
URL:https://templeisraelorlando.org/event/shabbat-services/2024-05-11/
LOCATION:Temple Israel\, 50 S Moss Road\, Winter Springs\, FL\, 32708\, United States
CATEGORIES:Services
END:VEVENT
BEGIN:VEVENT
DTSTART;TZID=America/New_York:20240510T190000
DTEND;TZID=America/New_York:20240510T200000
DTSTAMP:20260421T015141
CREATED:20240507T020417Z
LAST-MODIFIED:20260108T191902Z
UID:10004671-1715367600-1715371200@templeisraelorlando.org
SUMMARY:Kabbalat Shabbat
DESCRIPTION:
URL:https://templeisraelorlando.org/event/kabbalat-shabbat/2024-05-10/
CATEGORIES:Services
END:VEVENT
BEGIN:VEVENT
DTSTART;TZID=UTC:20240509T191500
DTEND;TZID=UTC:20240509T201500
DTSTAMP:20260421T015141
CREATED:20240507T021906Z
LAST-MODIFIED:20240507T021906Z
UID:10001316-1715282100-1715285700@templeisraelorlando.org
SUMMARY:Ritual Committee
DESCRIPTION:
URL:https://templeisraelorlando.org/event/ritual-committee/
CATEGORIES:Committee meeting
END:VEVENT
BEGIN:VEVENT
DTSTART;TZID=UTC:20240509T190000
DTEND;TZID=UTC:20240509T210000
DTSTAMP:20260421T015141
CREATED:20211004T184600Z
LAST-MODIFIED:20240422T213004Z
UID:10000005-1715281200-1715288400@templeisraelorlando.org
SUMMARY:Men's Club Arcade
DESCRIPTION:Thursday\, May 9 at 7pm \n$30 Club Member Pricing\n$36 for Non-Club Members \nCost includes Food\, Soda and Games! \nArcade Winter Springs\n853 E. State Rd. 434\nSuite 1137\nWinter Springs\, FL 32708 \nRSVP to Natan Brener at 407-435-8613
URL:https://templeisraelorlando.org/event/event-1/
LOCATION:Arcade Winter Springs\, 853 E SR 434\, Suite 1137\, Winter Springs\, FL\, 32708\, United States
CATEGORIES:Featured
ATTACH;FMTTYPE=image/png:https://templeisraelorlando.org/wp-content/uploads/2021/10/Mens-Club-3-2.png
END:VEVENT
BEGIN:VEVENT
DTSTART;TZID=UTC:20240508T190000
DTEND;TZID=UTC:20240508T200000
DTSTAMP:20260421T015141
CREATED:20240507T021723Z
LAST-MODIFIED:20240906T205159Z
UID:10001055-1715194800-1715198400@templeisraelorlando.org
SUMMARY:Anyone Can Pray!
DESCRIPTION:Meeting ID: 845 7204 8175 \nPasscode: 259681
URL:https://templeisraelorlando.org/event/anyone-can-pray/2024-05-08/
LOCATION:Temple Israel\, 50 S Moss Road\, Winter Springs\, FL\, 32708\, United States
CATEGORIES:Classes
END:VEVENT
BEGIN:VEVENT
DTSTART;TZID=America/New_York:20240508T120000
DTEND;TZID=America/New_York:20240508T130000
DTSTAMP:20260421T015141
CREATED:20240507T021624Z
LAST-MODIFIED:20250903T193916Z
UID:10005647-1715169600-1715173200@templeisraelorlando.org
SUMMARY:Torah Class with Rabbi Neely
DESCRIPTION:https://us02web.zoom.us/j/779592739?pwd=QnhwTDZlUTZMR0RoVFJManJNV0hIQT09 \nMeeting ID: 779 592 739\nPasscode: 856939
URL:https://templeisraelorlando.org/event/torah-class-with-rabbi-neely/2024-05-08/
CATEGORIES:Classes
END:VEVENT
BEGIN:VEVENT
DTSTART;TZID=UTC:20240428T100000
DTEND;TZID=UTC:20240428T120000
DTSTAMP:20260421T015141
CREATED:20240411T003159Z
LAST-MODIFIED:20240418T123335Z
UID:10000009-1714298400-1714305600@templeisraelorlando.org
SUMMARY:Paint-by-Numbers Sisterhood Event
DESCRIPTION:The last session of this 4-part event is April 28th from 10 am to 12 noon. There is still time to join us! Just contact Yaela Marks by email (yaelamarks@gmail.com) to pick out your picture as soon as possible!
URL:https://templeisraelorlando.org/event/paint-by-numbers-sisterhood-event/
ATTACH;FMTTYPE=image/png:https://templeisraelorlando.org/wp-content/uploads/2024/04/Copy-of-The-second-session-of-Sisterhoods-Paint-by-Numbers-event-was-absolutely-fabulous-We-doubled-the-number-of-participants-and-it-was-such-fun-Thank-you-to-Yaela-Marks-for-organizing-everyt-2.png
END:VEVENT
BEGIN:VEVENT
DTSTART;TZID=UTC:20240326T080000
DTEND;TZID=UTC:20240326T170000
DTSTAMP:20260421T015141
CREATED:20211106T210849Z
LAST-MODIFIED:20240325T180134Z
UID:10000008-1711440000-1711472400@templeisraelorlando.org
SUMMARY:Event 4
DESCRIPTION:LOREM ISPUSM
URL:https://templeisraelorlando.org/event/event-4/
CATEGORIES:Featured
ATTACH;FMTTYPE=image/jpeg:https://templeisraelorlando.org/wp-content/uploads/2023/06/TIEventWedding.jpeg
END:VEVENT
END:VCALENDAR