BEGIN:VCALENDAR
VERSION:2.0
PRODID:-//Temple Israel - ECPv6.15.17.1//NONSGML v1.0//EN
CALSCALE:GREGORIAN
METHOD:PUBLISH
X-ORIGINAL-URL:https://templeisraelorlando.org
X-WR-CALDESC:Events for Temple Israel
REFRESH-INTERVAL;VALUE=DURATION:PT1H
X-Robots-Tag:noindex
X-PUBLISHED-TTL:PT1H
BEGIN:VTIMEZONE
TZID:America/New_York
BEGIN:DAYLIGHT
TZOFFSETFROM:-0500
TZOFFSETTO:-0400
TZNAME:EDT
DTSTART:20280312T070000
END:DAYLIGHT
BEGIN:STANDARD
TZOFFSETFROM:-0400
TZOFFSETTO:-0500
TZNAME:EST
DTSTART:20281105T060000
END:STANDARD
BEGIN:DAYLIGHT
TZOFFSETFROM:-0500
TZOFFSETTO:-0400
TZNAME:EDT
DTSTART:20290311T070000
END:DAYLIGHT
BEGIN:STANDARD
TZOFFSETFROM:-0400
TZOFFSETTO:-0500
TZNAME:EST
DTSTART:20291104T060000
END:STANDARD
BEGIN:DAYLIGHT
TZOFFSETFROM:-0500
TZOFFSETTO:-0400
TZNAME:EDT
DTSTART:20300310T070000
END:DAYLIGHT
BEGIN:STANDARD
TZOFFSETFROM:-0400
TZOFFSETTO:-0500
TZNAME:EST
DTSTART:20301103T060000
END:STANDARD
END:VTIMEZONE
BEGIN:VEVENT
DTSTART;TZID=America/New_York:20290910T190000
DTEND;TZID=America/New_York:20290910T200000
DTSTAMP:20260422T184157
CREATED:20240827T002911Z
LAST-MODIFIED:20250928T233226Z
UID:10006464-1883761200-1883764800@templeisraelorlando.org
SUMMARY:Executive Committee
DESCRIPTION:
URL:https://templeisraelorlando.org/event/executive-committee-2-2/2029-09-10/
END:VEVENT
BEGIN:VEVENT
DTSTART;TZID=America/New_York:20290912T120000
DTEND;TZID=America/New_York:20290912T130000
DTSTAMP:20260422T184157
CREATED:20260224T125059Z
LAST-MODIFIED:20260318T180202Z
UID:10007086-1883908800-1883912400@templeisraelorlando.org
SUMMARY:Lunchtime class with Rabbi Neely
DESCRIPTION:
URL:https://templeisraelorlando.org/event/lunchtime-class-with-rabbi-neely/2029-09-12/
CATEGORIES:Classes
END:VEVENT
BEGIN:VEVENT
DTSTART;TZID=America/New_York:20290914T170000
DTEND;TZID=America/New_York:20290914T183000
DTSTAMP:20260422T184157
CREATED:20260412T164837Z
LAST-MODIFIED:20260412T165527Z
UID:10007253-1884099600-1884105000@templeisraelorlando.org
SUMMARY:TI Men's Club Warm-Up Dinner @ Corfu Restaurant
DESCRIPTION:Join Men’s Club for dinner on the 2nd Friday of each month at Corfu Restaurant\, 124 W SR 434\, Winter Springs.
URL:https://templeisraelorlando.org/event/ti-mens-club-warm-up-dinner/2029-09-14/
CATEGORIES:Event
END:VEVENT
BEGIN:VEVENT
DTSTART;TZID=America/New_York:20290914T190000
DTEND;TZID=America/New_York:20290914T200000
DTSTAMP:20260422T184157
CREATED:20240507T020417Z
LAST-MODIFIED:20260108T191902Z
UID:10004885-1884106800-1884110400@templeisraelorlando.org
SUMMARY:Kabbalat Shabbat
DESCRIPTION:
URL:https://templeisraelorlando.org/event/kabbalat-shabbat/2029-09-14/
CATEGORIES:Services
END:VEVENT
BEGIN:VEVENT
DTSTART;TZID=America/New_York:20290915T093000
DTEND;TZID=America/New_York:20290915T120000
DTSTAMP:20260422T184157
CREATED:20250715T172155Z
LAST-MODIFIED:20250715T172816Z
UID:10006302-1884159000-1884168000@templeisraelorlando.org
SUMMARY:Shabbat Services
DESCRIPTION:
URL:https://templeisraelorlando.org/event/shabbat-services-2/2029-09-15/
LOCATION:Temple Israel\, 50 S Moss Road\, Winter Springs\, FL\, 32708\, United States
CATEGORIES:Services
END:VEVENT
BEGIN:VEVENT
DTSTART;TZID=America/New_York:20290915T110000
DTEND;TZID=America/New_York:20290915T234500
DTSTAMP:20260422T184157
CREATED:20240507T033334Z
LAST-MODIFIED:20250715T172956Z
UID:10006405-1884164400-1884210300@templeisraelorlando.org
SUMMARY:Tot Shabbat
DESCRIPTION:
URL:https://templeisraelorlando.org/event/tot-shabbat/2029-09-15/
CATEGORIES:Family
END:VEVENT
BEGIN:VEVENT
DTSTART;TZID=America/New_York:20290916T090000
DTEND;TZID=America/New_York:20290916T093000
DTSTAMP:20260422T184157
CREATED:20240507T021438Z
LAST-MODIFIED:20250715T172314Z
UID:10005603-1884243600-1884245400@templeisraelorlando.org
SUMMARY:Sunday Minyan
DESCRIPTION:Our minyan starts at 9:00am in person and on zoom. \nhttps://us02web.zoom.us/j/83885789313?pwd=UkdrN25yMGRpTUIzNlRwejd1UWpjQT09 \nMeeting ID: 838 8578 9313\nPasscode: 165936
URL:https://templeisraelorlando.org/event/sunday-minyan/2029-09-16/
LOCATION:Temple Israel\, 50 S Moss Road\, Winter Springs\, FL\, 32708\, United States
CATEGORIES:Services
END:VEVENT
BEGIN:VEVENT
DTSTART;TZID=America/New_York:20290919T120000
DTEND;TZID=America/New_York:20290919T130000
DTSTAMP:20260422T184157
CREATED:20260224T125059Z
LAST-MODIFIED:20260318T180202Z
UID:10007087-1884513600-1884517200@templeisraelorlando.org
SUMMARY:Lunchtime class with Rabbi Neely
DESCRIPTION:
URL:https://templeisraelorlando.org/event/lunchtime-class-with-rabbi-neely/2029-09-19/
CATEGORIES:Classes
END:VEVENT
BEGIN:VEVENT
DTSTART;TZID=America/New_York:20290921T190000
DTEND;TZID=America/New_York:20290921T200000
DTSTAMP:20260422T184157
CREATED:20240507T020417Z
LAST-MODIFIED:20260108T191902Z
UID:10004886-1884711600-1884715200@templeisraelorlando.org
SUMMARY:Kabbalat Shabbat
DESCRIPTION:
URL:https://templeisraelorlando.org/event/kabbalat-shabbat/2029-09-21/
CATEGORIES:Services
END:VEVENT
BEGIN:VEVENT
DTSTART;TZID=America/New_York:20290922T093000
DTEND;TZID=America/New_York:20290922T120000
DTSTAMP:20260422T184157
CREATED:20250715T172155Z
LAST-MODIFIED:20250715T172816Z
UID:10006303-1884763800-1884772800@templeisraelorlando.org
SUMMARY:Shabbat Services
DESCRIPTION:
URL:https://templeisraelorlando.org/event/shabbat-services-2/2029-09-22/
LOCATION:Temple Israel\, 50 S Moss Road\, Winter Springs\, FL\, 32708\, United States
CATEGORIES:Services
END:VEVENT
BEGIN:VEVENT
DTSTART;TZID=America/New_York:20290923T090000
DTEND;TZID=America/New_York:20290923T093000
DTSTAMP:20260422T184157
CREATED:20240507T021438Z
LAST-MODIFIED:20250715T172314Z
UID:10005604-1884848400-1884850200@templeisraelorlando.org
SUMMARY:Sunday Minyan
DESCRIPTION:Our minyan starts at 9:00am in person and on zoom. \nhttps://us02web.zoom.us/j/83885789313?pwd=UkdrN25yMGRpTUIzNlRwejd1UWpjQT09 \nMeeting ID: 838 8578 9313\nPasscode: 165936
URL:https://templeisraelorlando.org/event/sunday-minyan/2029-09-23/
LOCATION:Temple Israel\, 50 S Moss Road\, Winter Springs\, FL\, 32708\, United States
CATEGORIES:Services
END:VEVENT
BEGIN:VEVENT
DTSTART;TZID=America/New_York:20290924T190000
DTEND;TZID=America/New_York:20290924T200000
DTSTAMP:20260422T184157
CREATED:20240507T032905Z
LAST-MODIFIED:20250825T133443Z
UID:10006533-1884970800-1884974400@templeisraelorlando.org
SUMMARY:Board of Directors
DESCRIPTION:
URL:https://templeisraelorlando.org/event/board-of-directors/2029-09-24/
CATEGORIES:Committee meeting
END:VEVENT
BEGIN:VEVENT
DTSTART;TZID=America/New_York:20290925T193000
DTEND;TZID=America/New_York:20290925T203000
DTSTAMP:20260422T184157
CREATED:20250630T172741Z
LAST-MODIFIED:20250825T133756Z
UID:10003164-1885059000-1885062600@templeisraelorlando.org
SUMMARY:Membership Committee Meeting
DESCRIPTION:
URL:https://templeisraelorlando.org/event/membership-committee-meeting-3/2029-09-25/
CATEGORIES:Committee meeting
END:VEVENT
BEGIN:VEVENT
DTSTART;TZID=America/New_York:20290926T120000
DTEND;TZID=America/New_York:20290926T130000
DTSTAMP:20260422T184157
CREATED:20260224T125059Z
LAST-MODIFIED:20260318T180202Z
UID:10007088-1885118400-1885122000@templeisraelorlando.org
SUMMARY:Lunchtime class with Rabbi Neely
DESCRIPTION:
URL:https://templeisraelorlando.org/event/lunchtime-class-with-rabbi-neely/2029-09-26/
CATEGORIES:Classes
END:VEVENT
BEGIN:VEVENT
DTSTART;TZID=America/New_York:20290927T190000
DTEND;TZID=America/New_York:20290927T203000
DTSTAMP:20260422T184157
CREATED:20260412T165154Z
LAST-MODIFIED:20260412T165154Z
UID:10007314-1885230000-1885235400@templeisraelorlando.org
SUMMARY:TI Men's Club Monthly Social @ The Back Porch
DESCRIPTION:Join Men’s Club on the 4th Thursday of each month @ 7 PM at The Back Porch\, 145 Wekiva Springs Rd #161\, Longwood.
URL:https://templeisraelorlando.org/event/ti-mens-club-monthly-social-the-back-porch/2029-09-27/
CATEGORIES:Event
END:VEVENT
BEGIN:VEVENT
DTSTART;TZID=America/New_York:20290928T190000
DTEND;TZID=America/New_York:20290928T200000
DTSTAMP:20260422T184157
CREATED:20240507T020417Z
LAST-MODIFIED:20260108T191902Z
UID:10004887-1885316400-1885320000@templeisraelorlando.org
SUMMARY:Kabbalat Shabbat
DESCRIPTION:
URL:https://templeisraelorlando.org/event/kabbalat-shabbat/2029-09-28/
CATEGORIES:Services
END:VEVENT
BEGIN:VEVENT
DTSTART;TZID=America/New_York:20290929T093000
DTEND;TZID=America/New_York:20290929T120000
DTSTAMP:20260422T184157
CREATED:20250715T172155Z
LAST-MODIFIED:20250715T172816Z
UID:10006304-1885368600-1885377600@templeisraelorlando.org
SUMMARY:Shabbat Services
DESCRIPTION:
URL:https://templeisraelorlando.org/event/shabbat-services-2/2029-09-29/
LOCATION:Temple Israel\, 50 S Moss Road\, Winter Springs\, FL\, 32708\, United States
CATEGORIES:Services
END:VEVENT
BEGIN:VEVENT
DTSTART;TZID=America/New_York:20290930T090000
DTEND;TZID=America/New_York:20290930T093000
DTSTAMP:20260422T184157
CREATED:20240507T021438Z
LAST-MODIFIED:20250715T172314Z
UID:10005605-1885453200-1885455000@templeisraelorlando.org
SUMMARY:Sunday Minyan
DESCRIPTION:Our minyan starts at 9:00am in person and on zoom. \nhttps://us02web.zoom.us/j/83885789313?pwd=UkdrN25yMGRpTUIzNlRwejd1UWpjQT09 \nMeeting ID: 838 8578 9313\nPasscode: 165936
URL:https://templeisraelorlando.org/event/sunday-minyan/2029-09-30/
LOCATION:Temple Israel\, 50 S Moss Road\, Winter Springs\, FL\, 32708\, United States
CATEGORIES:Services
END:VEVENT
BEGIN:VEVENT
DTSTART;TZID=America/New_York:20291003T120000
DTEND;TZID=America/New_York:20291003T130000
DTSTAMP:20260422T184157
CREATED:20260224T125059Z
LAST-MODIFIED:20260318T180202Z
UID:10007089-1885723200-1885726800@templeisraelorlando.org
SUMMARY:Lunchtime class with Rabbi Neely
DESCRIPTION:
URL:https://templeisraelorlando.org/event/lunchtime-class-with-rabbi-neely/2029-10-03/
CATEGORIES:Classes
END:VEVENT
BEGIN:VEVENT
DTSTART;TZID=America/New_York:20291005T180000
DTEND;TZID=America/New_York:20291005T190000
DTSTAMP:20260422T184157
CREATED:20250724T120311Z
LAST-MODIFIED:20260406T182700Z
UID:10006657-1885917600-1885921200@templeisraelorlando.org
SUMMARY:Kabbalat Shabbat
DESCRIPTION:
URL:https://templeisraelorlando.org/event/kabbalat-shabbat-2-2/2029-10-05/
LOCATION:Temple Israel\, 50 S Moss Road\, Winter Springs\, FL\, 32708\, United States
CATEGORIES:Services
END:VEVENT
BEGIN:VEVENT
DTSTART;TZID=America/New_York:20291006T093000
DTEND;TZID=America/New_York:20291006T120000
DTSTAMP:20260422T184157
CREATED:20250715T172155Z
LAST-MODIFIED:20250715T172816Z
UID:10006305-1885973400-1885982400@templeisraelorlando.org
SUMMARY:Shabbat Services
DESCRIPTION:
URL:https://templeisraelorlando.org/event/shabbat-services-2/2029-10-06/
LOCATION:Temple Israel\, 50 S Moss Road\, Winter Springs\, FL\, 32708\, United States
CATEGORIES:Services
END:VEVENT
BEGIN:VEVENT
DTSTART;TZID=America/New_York:20291007T090000
DTEND;TZID=America/New_York:20291007T093000
DTSTAMP:20260422T184157
CREATED:20240507T021438Z
LAST-MODIFIED:20250715T172314Z
UID:10005606-1886058000-1886059800@templeisraelorlando.org
SUMMARY:Sunday Minyan
DESCRIPTION:Our minyan starts at 9:00am in person and on zoom. \nhttps://us02web.zoom.us/j/83885789313?pwd=UkdrN25yMGRpTUIzNlRwejd1UWpjQT09 \nMeeting ID: 838 8578 9313\nPasscode: 165936
URL:https://templeisraelorlando.org/event/sunday-minyan/2029-10-07/
LOCATION:Temple Israel\, 50 S Moss Road\, Winter Springs\, FL\, 32708\, United States
CATEGORIES:Services
END:VEVENT
BEGIN:VEVENT
DTSTART;TZID=America/New_York:20291008T190000
DTEND;TZID=America/New_York:20291008T200000
DTSTAMP:20260422T184157
CREATED:20240827T002911Z
LAST-MODIFIED:20250928T233226Z
UID:10006465-1886180400-1886184000@templeisraelorlando.org
SUMMARY:Executive Committee
DESCRIPTION:
URL:https://templeisraelorlando.org/event/executive-committee-2-2/2029-10-08/
END:VEVENT
BEGIN:VEVENT
DTSTART;TZID=America/New_York:20291010T120000
DTEND;TZID=America/New_York:20291010T130000
DTSTAMP:20260422T184157
CREATED:20260224T125059Z
LAST-MODIFIED:20260318T180202Z
UID:10007090-1886328000-1886331600@templeisraelorlando.org
SUMMARY:Lunchtime class with Rabbi Neely
DESCRIPTION:
URL:https://templeisraelorlando.org/event/lunchtime-class-with-rabbi-neely/2029-10-10/
CATEGORIES:Classes
END:VEVENT
BEGIN:VEVENT
DTSTART;TZID=America/New_York:20291012T170000
DTEND;TZID=America/New_York:20291012T183000
DTSTAMP:20260422T184157
CREATED:20260412T164837Z
LAST-MODIFIED:20260412T165527Z
UID:10007254-1886518800-1886524200@templeisraelorlando.org
SUMMARY:TI Men's Club Warm-Up Dinner @ Corfu Restaurant
DESCRIPTION:Join Men’s Club for dinner on the 2nd Friday of each month at Corfu Restaurant\, 124 W SR 434\, Winter Springs.
URL:https://templeisraelorlando.org/event/ti-mens-club-warm-up-dinner/2029-10-12/
CATEGORIES:Event
END:VEVENT
BEGIN:VEVENT
DTSTART;TZID=America/New_York:20291012T190000
DTEND;TZID=America/New_York:20291012T200000
DTSTAMP:20260422T184157
CREATED:20240507T020417Z
LAST-MODIFIED:20260108T191902Z
UID:10004888-1886526000-1886529600@templeisraelorlando.org
SUMMARY:Kabbalat Shabbat
DESCRIPTION:
URL:https://templeisraelorlando.org/event/kabbalat-shabbat/2029-10-12/
CATEGORIES:Services
END:VEVENT
BEGIN:VEVENT
DTSTART;TZID=America/New_York:20291013T093000
DTEND;TZID=America/New_York:20291013T120000
DTSTAMP:20260422T184157
CREATED:20250715T172155Z
LAST-MODIFIED:20250715T172816Z
UID:10006306-1886578200-1886587200@templeisraelorlando.org
SUMMARY:Shabbat Services
DESCRIPTION:
URL:https://templeisraelorlando.org/event/shabbat-services-2/2029-10-13/
LOCATION:Temple Israel\, 50 S Moss Road\, Winter Springs\, FL\, 32708\, United States
CATEGORIES:Services
END:VEVENT
BEGIN:VEVENT
DTSTART;TZID=America/New_York:20291014T090000
DTEND;TZID=America/New_York:20291014T093000
DTSTAMP:20260422T184157
CREATED:20240507T021438Z
LAST-MODIFIED:20250715T172314Z
UID:10005607-1886662800-1886664600@templeisraelorlando.org
SUMMARY:Sunday Minyan
DESCRIPTION:Our minyan starts at 9:00am in person and on zoom. \nhttps://us02web.zoom.us/j/83885789313?pwd=UkdrN25yMGRpTUIzNlRwejd1UWpjQT09 \nMeeting ID: 838 8578 9313\nPasscode: 165936
URL:https://templeisraelorlando.org/event/sunday-minyan/2029-10-14/
LOCATION:Temple Israel\, 50 S Moss Road\, Winter Springs\, FL\, 32708\, United States
CATEGORIES:Services
END:VEVENT
BEGIN:VEVENT
DTSTART;TZID=America/New_York:20291017T120000
DTEND;TZID=America/New_York:20291017T130000
DTSTAMP:20260422T184157
CREATED:20260224T125059Z
LAST-MODIFIED:20260318T180202Z
UID:10007091-1886932800-1886936400@templeisraelorlando.org
SUMMARY:Lunchtime class with Rabbi Neely
DESCRIPTION:
URL:https://templeisraelorlando.org/event/lunchtime-class-with-rabbi-neely/2029-10-17/
CATEGORIES:Classes
END:VEVENT
BEGIN:VEVENT
DTSTART;TZID=America/New_York:20291019T190000
DTEND;TZID=America/New_York:20291019T200000
DTSTAMP:20260422T184157
CREATED:20240507T020417Z
LAST-MODIFIED:20260108T191902Z
UID:10004889-1887130800-1887134400@templeisraelorlando.org
SUMMARY:Kabbalat Shabbat
DESCRIPTION:
URL:https://templeisraelorlando.org/event/kabbalat-shabbat/2029-10-19/
CATEGORIES:Services
END:VEVENT
END:VCALENDAR