BEGIN:VCALENDAR
VERSION:2.0
PRODID:-//Temple Israel - ECPv6.15.17.1//NONSGML v1.0//EN
CALSCALE:GREGORIAN
METHOD:PUBLISH
X-WR-CALNAME:Temple Israel
X-ORIGINAL-URL:https://templeisraelorlando.org
X-WR-CALDESC:Events for Temple Israel
REFRESH-INTERVAL;VALUE=DURATION:PT1H
X-Robots-Tag:noindex
X-PUBLISHED-TTL:PT1H
BEGIN:VTIMEZONE
TZID:America/New_York
BEGIN:DAYLIGHT
TZOFFSETFROM:-0500
TZOFFSETTO:-0400
TZNAME:EDT
DTSTART:20230312T070000
END:DAYLIGHT
BEGIN:STANDARD
TZOFFSETFROM:-0400
TZOFFSETTO:-0500
TZNAME:EST
DTSTART:20231105T060000
END:STANDARD
BEGIN:DAYLIGHT
TZOFFSETFROM:-0500
TZOFFSETTO:-0400
TZNAME:EDT
DTSTART:20240310T070000
END:DAYLIGHT
BEGIN:STANDARD
TZOFFSETFROM:-0400
TZOFFSETTO:-0500
TZNAME:EST
DTSTART:20241103T060000
END:STANDARD
BEGIN:DAYLIGHT
TZOFFSETFROM:-0500
TZOFFSETTO:-0400
TZNAME:EDT
DTSTART:20250309T070000
END:DAYLIGHT
BEGIN:STANDARD
TZOFFSETFROM:-0400
TZOFFSETTO:-0500
TZNAME:EST
DTSTART:20251102T060000
END:STANDARD
END:VTIMEZONE
BEGIN:VEVENT
DTSTART;TZID=America/New_York:20241021T113000
DTEND;TZID=America/New_York:20241021T123000
DTSTAMP:20260419T192401
CREATED:20240916T233959Z
LAST-MODIFIED:20240916T233959Z
UID:10002203-1729510200-1729513800@templeisraelorlando.org
SUMMARY:MAGAL Committee
DESCRIPTION:
URL:https://templeisraelorlando.org/event/magal-committee-6/
CATEGORIES:Committee meeting
END:VEVENT
BEGIN:VEVENT
DTSTART;VALUE=DATE:20241022
DTEND;VALUE=DATE:20241023
DTSTAMP:20260419T192401
CREATED:20240514T192540Z
LAST-MODIFIED:20240514T192540Z
UID:10001789-1729555200-1729641599@templeisraelorlando.org
SUMMARY:Sukkot VI (CH’’M)
DESCRIPTION:
URL:https://templeisraelorlando.org/event/sukkot-vi-chm/
CATEGORIES:Holiday
END:VEVENT
BEGIN:VEVENT
DTSTART;VALUE=DATE:20241023
DTEND;VALUE=DATE:20241024
DTSTAMP:20260419T192401
CREATED:20240514T192604Z
LAST-MODIFIED:20240514T192604Z
UID:10001790-1729641600-1729727999@templeisraelorlando.org
SUMMARY:Sukkot VII (Hoshana Raba)
DESCRIPTION:
URL:https://templeisraelorlando.org/event/sukkot-vii-hoshana-raba/
CATEGORIES:Holiday
END:VEVENT
BEGIN:VEVENT
DTSTART;VALUE=DATE:20241024
DTEND;VALUE=DATE:20241025
DTSTAMP:20260419T192401
CREATED:20240514T192639Z
LAST-MODIFIED:20240514T192639Z
UID:10001791-1729728000-1729814399@templeisraelorlando.org
SUMMARY:Shemini Atzeret
DESCRIPTION:
URL:https://templeisraelorlando.org/event/shemini-atzeret/
CATEGORIES:Holiday
END:VEVENT
BEGIN:VEVENT
DTSTART;TZID=America/New_York:20241024T093000
DTEND;TZID=America/New_York:20241024T113000
DTSTAMP:20260419T192401
CREATED:20240930T015650Z
LAST-MODIFIED:20240930T015650Z
UID:10002490-1729762200-1729769400@templeisraelorlando.org
SUMMARY:Shemini Atzeret services
DESCRIPTION:
URL:https://templeisraelorlando.org/event/shemini-atzeret-services/
CATEGORIES:Services
END:VEVENT
BEGIN:VEVENT
DTSTART;TZID=America/New_York:20241024T193000
DTEND;TZID=America/New_York:20241024T213000
DTSTAMP:20260419T192401
CREATED:20240924T121140Z
LAST-MODIFIED:20240924T121140Z
UID:10002217-1729798200-1729805400@templeisraelorlando.org
SUMMARY:Simchat Torah
DESCRIPTION:
URL:https://templeisraelorlando.org/event/simchat-torah-2/
LOCATION:Temple Israel\, 50 S Moss Road\, Winter Springs\, FL\, 32708\, United States
CATEGORIES:Holiday
END:VEVENT
BEGIN:VEVENT
DTSTART;VALUE=DATE:20241025
DTEND;VALUE=DATE:20241026
DTSTAMP:20260419T192401
CREATED:20240514T192700Z
LAST-MODIFIED:20240514T192700Z
UID:10001792-1729814400-1729900799@templeisraelorlando.org
SUMMARY:Simchat Torah
DESCRIPTION:
URL:https://templeisraelorlando.org/event/simchat-torah/
CATEGORIES:Holiday
END:VEVENT
BEGIN:VEVENT
DTSTART;TZID=America/New_York:20241025T093000
DTEND;TZID=America/New_York:20241025T113000
DTSTAMP:20260419T192401
CREATED:20240930T015726Z
LAST-MODIFIED:20240930T015726Z
UID:10002491-1729848600-1729855800@templeisraelorlando.org
SUMMARY:Simchat Torah
DESCRIPTION:
URL:https://templeisraelorlando.org/event/simchat-torah-3/
CATEGORIES:Services
END:VEVENT
BEGIN:VEVENT
DTSTART;TZID=America/New_York:20241025T190000
DTEND;TZID=America/New_York:20241025T200000
DTSTAMP:20260419T192401
CREATED:20240507T020417Z
LAST-MODIFIED:20260108T191902Z
UID:10004689-1729882800-1729886400@templeisraelorlando.org
SUMMARY:Kabbalat Shabbat
DESCRIPTION:
URL:https://templeisraelorlando.org/event/kabbalat-shabbat/2024-10-25/
CATEGORIES:Services
END:VEVENT
BEGIN:VEVENT
DTSTART;TZID=America/New_York:20241026T133000
DTEND;TZID=America/New_York:20241026T160000
DTSTAMP:20260419T192401
CREATED:20240507T020909Z
LAST-MODIFIED:20250715T170210Z
UID:10003774-1729949400-1729958400@templeisraelorlando.org
SUMMARY:Shabbat Services
DESCRIPTION:
URL:https://templeisraelorlando.org/event/shabbat-services/2024-10-26/
LOCATION:Temple Israel\, 50 S Moss Road\, Winter Springs\, FL\, 32708\, United States
CATEGORIES:Services
END:VEVENT
BEGIN:VEVENT
DTSTART;TZID=America/New_York:20241027T090000
DTEND;TZID=America/New_York:20241027T093000
DTSTAMP:20260419T192401
CREATED:20240507T021438Z
LAST-MODIFIED:20250715T172314Z
UID:10005350-1730019600-1730021400@templeisraelorlando.org
SUMMARY:Sunday Minyan
DESCRIPTION:Our minyan starts at 9:00am in person and on zoom. \nhttps://us02web.zoom.us/j/83885789313?pwd=UkdrN25yMGRpTUIzNlRwejd1UWpjQT09 \nMeeting ID: 838 8578 9313\nPasscode: 165936
URL:https://templeisraelorlando.org/event/sunday-minyan/2024-10-27/
LOCATION:Temple Israel\, 50 S Moss Road\, Winter Springs\, FL\, 32708\, United States
CATEGORIES:Services
END:VEVENT
BEGIN:VEVENT
DTSTART;TZID=America/New_York:20241027T100000
DTEND;TZID=America/New_York:20241027T150000
DTSTAMP:20260419T192401
CREATED:20240815T164827Z
LAST-MODIFIED:20240815T164827Z
UID:10002054-1730023200-1730041200@templeisraelorlando.org
SUMMARY:2nd Annual Temple Israel Book Fair
DESCRIPTION:October 27\, 10am – 3 pm \nBrowse our extensive used book collection\, and take home some bargains!\n$2 hardbacks\, $1 paperbacks \nDo you have books\, audio books\, or video games we can sell? Drop off your donations at the Temple Israel office: Call 407-647-3055 for hours \nVisit templeisraelevents.com for more information
URL:https://templeisraelorlando.org/event/2nd-annual-temple-israel-book-fair/
CATEGORIES:Event
ATTACH;FMTTYPE=image/png:https://templeisraelorlando.org/wp-content/uploads/2024/08/2024-Book-Fair-Poster-8-12-x-11.png
END:VEVENT
BEGIN:VEVENT
DTSTART;TZID=America/New_York:20241027T110000
DTEND;TZID=America/New_York:20241027T123000
DTSTAMP:20260419T192401
CREATED:20240815T234308Z
LAST-MODIFIED:20240815T234308Z
UID:10002065-1730026800-1730032200@templeisraelorlando.org
SUMMARY:Bagels & Blocks
DESCRIPTION:
URL:https://templeisraelorlando.org/event/bagels-blocks-2/
LOCATION:Temple Israel\, 50 S Moss Road\, Winter Springs\, FL\, 32708\, United States
CATEGORIES:Family
END:VEVENT
BEGIN:VEVENT
DTSTART;TZID=America/New_York:20241027T113000
DTEND;TZID=America/New_York:20241027T170000
DTSTAMP:20260419T192401
CREATED:20240919T182420Z
LAST-MODIFIED:20240919T182420Z
UID:10002205-1730028600-1730048400@templeisraelorlando.org
SUMMARY:B'nai Mitzvah Group Meeting (in the Library)
DESCRIPTION:
URL:https://templeisraelorlando.org/event/bnai-mitzvah-group-meeting-in-the-library/
CATEGORIES:Committee meeting
END:VEVENT
BEGIN:VEVENT
DTSTART;TZID=America/New_York:20241030T120000
DTEND;TZID=America/New_York:20241030T130000
DTSTAMP:20260419T192401
CREATED:20240507T021624Z
LAST-MODIFIED:20250903T193916Z
UID:10005662-1730289600-1730293200@templeisraelorlando.org
SUMMARY:Torah Class with Rabbi Neely
DESCRIPTION:https://us02web.zoom.us/j/779592739?pwd=QnhwTDZlUTZMR0RoVFJManJNV0hIQT09 \nMeeting ID: 779 592 739\nPasscode: 856939
URL:https://templeisraelorlando.org/event/torah-class-with-rabbi-neely/2024-10-30/
CATEGORIES:Classes
END:VEVENT
BEGIN:VEVENT
DTSTART;TZID=America/New_York:20241030T190000
DTEND;TZID=America/New_York:20241030T200000
DTSTAMP:20260419T192401
CREATED:20240924T121855Z
LAST-MODIFIED:20241113T130831Z
UID:10002231-1730314800-1730318400@templeisraelorlando.org
SUMMARY:We Need to Talk
DESCRIPTION:
URL:https://templeisraelorlando.org/event/we-need-to-talk/2024-10-30/
LOCATION:Temple Israel\, 50 S Moss Road\, Winter Springs\, FL\, 32708\, United States
CATEGORIES:Classes
END:VEVENT
BEGIN:VEVENT
DTSTART;VALUE=DATE:20241031
DTEND;VALUE=DATE:20241101
DTSTAMP:20260419T192401
CREATED:20240514T190110Z
LAST-MODIFIED:20240514T190110Z
UID:10001764-1730332800-1730419199@templeisraelorlando.org
SUMMARY:Halloween
DESCRIPTION:
URL:https://templeisraelorlando.org/event/halloween/
CATEGORIES:Holiday
END:VEVENT
BEGIN:VEVENT
DTSTART;TZID=America/New_York:20241101T190000
DTEND;TZID=America/New_York:20241101T200000
DTSTAMP:20260419T192401
CREATED:20240507T020708Z
LAST-MODIFIED:20250715T171954Z
UID:10004998-1730487600-1730491200@templeisraelorlando.org
SUMMARY:Kabbalat Shabbat
DESCRIPTION:
URL:https://templeisraelorlando.org/event/kabbalat-shabbat-2/2024-11-01/
LOCATION:Temple Israel\, 50 S Moss Road\, Winter Springs\, FL\, 32708\, United States
CATEGORIES:Services
END:VEVENT
BEGIN:VEVENT
DTSTART;TZID=America/New_York:20241102T133000
DTEND;TZID=America/New_York:20241102T160000
DTSTAMP:20260419T192401
CREATED:20240507T020909Z
LAST-MODIFIED:20250715T170210Z
UID:10003775-1730554200-1730563200@templeisraelorlando.org
SUMMARY:Shabbat Services
DESCRIPTION:
URL:https://templeisraelorlando.org/event/shabbat-services/2024-11-02/
LOCATION:Temple Israel\, 50 S Moss Road\, Winter Springs\, FL\, 32708\, United States
CATEGORIES:Services
END:VEVENT
BEGIN:VEVENT
DTSTART;TZID=America/New_York:20241103T090000
DTEND;TZID=America/New_York:20241103T093000
DTSTAMP:20260419T192401
CREATED:20240507T021438Z
LAST-MODIFIED:20250715T172314Z
UID:10005351-1730624400-1730626200@templeisraelorlando.org
SUMMARY:Sunday Minyan
DESCRIPTION:Our minyan starts at 9:00am in person and on zoom. \nhttps://us02web.zoom.us/j/83885789313?pwd=UkdrN25yMGRpTUIzNlRwejd1UWpjQT09 \nMeeting ID: 838 8578 9313\nPasscode: 165936
URL:https://templeisraelorlando.org/event/sunday-minyan/2024-11-03/
LOCATION:Temple Israel\, 50 S Moss Road\, Winter Springs\, FL\, 32708\, United States
CATEGORIES:Services
END:VEVENT
BEGIN:VEVENT
DTSTART;TZID=America/New_York:20241103T093000
DTEND;TZID=America/New_York:20241103T113000
DTSTAMP:20260419T192401
CREATED:20240827T193337Z
LAST-MODIFIED:20240827T193337Z
UID:10002171-1730626200-1730633400@templeisraelorlando.org
SUMMARY:Gan Chesed Committee Planting Day
DESCRIPTION:
URL:https://templeisraelorlando.org/event/gan-chesed-committee-planting-day/
CATEGORIES:Committee meeting
END:VEVENT
BEGIN:VEVENT
DTSTART;TZID=America/New_York:20241103T100000
DTEND;TZID=America/New_York:20241103T103000
DTSTAMP:20260419T192401
CREATED:20240515T192119Z
LAST-MODIFIED:20240515T192119Z
UID:10001815-1730628000-1730629800@templeisraelorlando.org
SUMMARY:Men's Club Committee
DESCRIPTION:
URL:https://templeisraelorlando.org/event/mens-club-committee/2024-11-03/
CATEGORIES:Committee meeting
END:VEVENT
BEGIN:VEVENT
DTSTART;TZID=America/New_York:20241103T100000
DTEND;TZID=America/New_York:20241103T110000
DTSTAMP:20260419T192401
CREATED:20240514T034609Z
LAST-MODIFIED:20250909T130745Z
UID:10005955-1730628000-1730631600@templeisraelorlando.org
SUMMARY:Men's Club Poker
DESCRIPTION:Join Temple Israel’s Men’s Club for a friendly game of poker and more! Everyone welcome!\n$10. Beer and snacks provided.\nContact Michael Danoff for more information and to RSVP at michael.danoff@gmail.com.
URL:https://templeisraelorlando.org/event/mens-club-poker/2024-11-03/
CATEGORIES:Event
END:VEVENT
BEGIN:VEVENT
DTSTART;TZID=America/New_York:20241103T140000
DTEND;TZID=America/New_York:20241103T170000
DTSTAMP:20260419T192401
CREATED:20240809T204135Z
LAST-MODIFIED:20240809T204135Z
UID:10002046-1730642400-1730653200@templeisraelorlando.org
SUMMARY:Cemetery Corporation Quarterly Board Meeting
DESCRIPTION:
URL:https://templeisraelorlando.org/event/cemetery-corporation-quarterly-board-meeting/
CATEGORIES:Committee meeting
END:VEVENT
BEGIN:VEVENT
DTSTART;TZID=America/New_York:20241104T190000
DTEND;TZID=America/New_York:20241104T200000
DTSTAMP:20260419T192401
CREATED:20241002T005654Z
LAST-MODIFIED:20241002T005654Z
UID:10002496-1730746800-1730750400@templeisraelorlando.org
SUMMARY:Executive Committee
DESCRIPTION:
URL:https://templeisraelorlando.org/event/executive-committee-4/
CATEGORIES:Committee meeting
END:VEVENT
BEGIN:VEVENT
DTSTART;VALUE=DATE:20241105
DTEND;VALUE=DATE:20241106
DTSTAMP:20260419T192401
CREATED:20240514T190341Z
LAST-MODIFIED:20240514T190341Z
UID:10001765-1730764800-1730851199@templeisraelorlando.org
SUMMARY:Election Day
DESCRIPTION:
URL:https://templeisraelorlando.org/event/election-day/
CATEGORIES:Holiday
END:VEVENT
BEGIN:VEVENT
DTSTART;TZID=America/New_York:20241105T193000
DTEND;TZID=America/New_York:20241105T203000
DTSTAMP:20260419T192401
CREATED:20240514T200940Z
LAST-MODIFIED:20240524T204606Z
UID:10001807-1730835000-1730838600@templeisraelorlando.org
SUMMARY:Ways and Means Committee
DESCRIPTION:
URL:https://templeisraelorlando.org/event/ways-and-means-committee-3/2024-11-05/
CATEGORIES:Committee meeting
END:VEVENT
BEGIN:VEVENT
DTSTART;TZID=America/New_York:20241106T120000
DTEND;TZID=America/New_York:20241106T130000
DTSTAMP:20260419T192401
CREATED:20240507T021624Z
LAST-MODIFIED:20250903T193916Z
UID:10005663-1730894400-1730898000@templeisraelorlando.org
SUMMARY:Torah Class with Rabbi Neely
DESCRIPTION:https://us02web.zoom.us/j/779592739?pwd=QnhwTDZlUTZMR0RoVFJManJNV0hIQT09 \nMeeting ID: 779 592 739\nPasscode: 856939
URL:https://templeisraelorlando.org/event/torah-class-with-rabbi-neely/2024-11-06/
CATEGORIES:Classes
END:VEVENT
BEGIN:VEVENT
DTSTART;TZID=America/New_York:20241106T190000
DTEND;TZID=America/New_York:20241106T200000
DTSTAMP:20260419T192401
CREATED:20240924T121855Z
LAST-MODIFIED:20241113T130831Z
UID:10002232-1730919600-1730923200@templeisraelorlando.org
SUMMARY:We Need to Talk
DESCRIPTION:
URL:https://templeisraelorlando.org/event/we-need-to-talk/2024-11-06/
LOCATION:Temple Israel\, 50 S Moss Road\, Winter Springs\, FL\, 32708\, United States
CATEGORIES:Classes
END:VEVENT
BEGIN:VEVENT
DTSTART;TZID=America/New_York:20241108T190000
DTEND;TZID=America/New_York:20241108T200000
DTSTAMP:20260419T192401
CREATED:20240507T020417Z
LAST-MODIFIED:20260108T191902Z
UID:10004690-1731092400-1731096000@templeisraelorlando.org
SUMMARY:Kabbalat Shabbat
DESCRIPTION:
URL:https://templeisraelorlando.org/event/kabbalat-shabbat/2024-11-08/
CATEGORIES:Services
END:VEVENT
END:VCALENDAR