BEGIN:VCALENDAR
VERSION:2.0
PRODID:-//Temple Israel - ECPv6.15.17.1//NONSGML v1.0//EN
CALSCALE:GREGORIAN
METHOD:PUBLISH
X-WR-CALNAME:Temple Israel
X-ORIGINAL-URL:https://templeisraelorlando.org
X-WR-CALDESC:Events for Temple Israel
REFRESH-INTERVAL;VALUE=DURATION:PT1H
X-Robots-Tag:noindex
X-PUBLISHED-TTL:PT1H
BEGIN:VTIMEZONE
TZID:America/New_York
BEGIN:DAYLIGHT
TZOFFSETFROM:-0500
TZOFFSETTO:-0400
TZNAME:EDT
DTSTART:20280312T070000
END:DAYLIGHT
BEGIN:STANDARD
TZOFFSETFROM:-0400
TZOFFSETTO:-0500
TZNAME:EST
DTSTART:20281105T060000
END:STANDARD
BEGIN:DAYLIGHT
TZOFFSETFROM:-0500
TZOFFSETTO:-0400
TZNAME:EDT
DTSTART:20290311T070000
END:DAYLIGHT
BEGIN:STANDARD
TZOFFSETFROM:-0400
TZOFFSETTO:-0500
TZNAME:EST
DTSTART:20291104T060000
END:STANDARD
BEGIN:DAYLIGHT
TZOFFSETFROM:-0500
TZOFFSETTO:-0400
TZNAME:EDT
DTSTART:20300310T070000
END:DAYLIGHT
BEGIN:STANDARD
TZOFFSETFROM:-0400
TZOFFSETTO:-0500
TZNAME:EST
DTSTART:20301103T060000
END:STANDARD
END:VTIMEZONE
BEGIN:VEVENT
DTSTART;TZID=America/New_York:20290513T090000
DTEND;TZID=America/New_York:20290513T093000
DTSTAMP:20260421T143441
CREATED:20240507T021438Z
LAST-MODIFIED:20250715T172314Z
UID:10005585-1873357200-1873359000@templeisraelorlando.org
SUMMARY:Sunday Minyan
DESCRIPTION:Our minyan starts at 9:00am in person and on zoom. \nhttps://us02web.zoom.us/j/83885789313?pwd=UkdrN25yMGRpTUIzNlRwejd1UWpjQT09 \nMeeting ID: 838 8578 9313\nPasscode: 165936
URL:https://templeisraelorlando.org/event/sunday-minyan/2029-05-13/
LOCATION:Temple Israel\, 50 S Moss Road\, Winter Springs\, FL\, 32708\, United States
CATEGORIES:Services
END:VEVENT
BEGIN:VEVENT
DTSTART;TZID=America/New_York:20290514T190000
DTEND;TZID=America/New_York:20290514T200000
DTSTAMP:20260421T143441
CREATED:20240827T002911Z
LAST-MODIFIED:20250928T233226Z
UID:10006460-1873479600-1873483200@templeisraelorlando.org
SUMMARY:Executive Committee
DESCRIPTION:
URL:https://templeisraelorlando.org/event/executive-committee-2-2/2029-05-14/
END:VEVENT
BEGIN:VEVENT
DTSTART;TZID=America/New_York:20290516T120000
DTEND;TZID=America/New_York:20290516T130000
DTSTAMP:20260421T143441
CREATED:20260224T125059Z
LAST-MODIFIED:20260318T180202Z
UID:10007069-1873627200-1873630800@templeisraelorlando.org
SUMMARY:Lunchtime class with Rabbi Neely
DESCRIPTION:
URL:https://templeisraelorlando.org/event/lunchtime-class-with-rabbi-neely/2029-05-16/
CATEGORIES:Classes
END:VEVENT
BEGIN:VEVENT
DTSTART;TZID=America/New_York:20290518T190000
DTEND;TZID=America/New_York:20290518T200000
DTSTAMP:20260421T143441
CREATED:20240507T020417Z
LAST-MODIFIED:20260108T191902Z
UID:10004872-1873825200-1873828800@templeisraelorlando.org
SUMMARY:Kabbalat Shabbat
DESCRIPTION:
URL:https://templeisraelorlando.org/event/kabbalat-shabbat/2029-05-18/
CATEGORIES:Services
END:VEVENT
BEGIN:VEVENT
DTSTART;TZID=America/New_York:20290519T093000
DTEND;TZID=America/New_York:20290519T120000
DTSTAMP:20260421T143441
CREATED:20250715T172155Z
LAST-MODIFIED:20250715T172816Z
UID:10006285-1873877400-1873886400@templeisraelorlando.org
SUMMARY:Shabbat Services
DESCRIPTION:
URL:https://templeisraelorlando.org/event/shabbat-services-2/2029-05-19/
LOCATION:Temple Israel\, 50 S Moss Road\, Winter Springs\, FL\, 32708\, United States
CATEGORIES:Services
END:VEVENT
BEGIN:VEVENT
DTSTART;TZID=America/New_York:20290519T110000
DTEND;TZID=America/New_York:20290519T234500
DTSTAMP:20260421T143441
CREATED:20240507T033334Z
LAST-MODIFIED:20250715T172956Z
UID:10006401-1873882800-1873928700@templeisraelorlando.org
SUMMARY:Tot Shabbat
DESCRIPTION:
URL:https://templeisraelorlando.org/event/tot-shabbat/2029-05-19/
CATEGORIES:Family
END:VEVENT
BEGIN:VEVENT
DTSTART;TZID=America/New_York:20290520T090000
DTEND;TZID=America/New_York:20290520T093000
DTSTAMP:20260421T143441
CREATED:20240507T021438Z
LAST-MODIFIED:20250715T172314Z
UID:10005586-1873962000-1873963800@templeisraelorlando.org
SUMMARY:Sunday Minyan
DESCRIPTION:Our minyan starts at 9:00am in person and on zoom. \nhttps://us02web.zoom.us/j/83885789313?pwd=UkdrN25yMGRpTUIzNlRwejd1UWpjQT09 \nMeeting ID: 838 8578 9313\nPasscode: 165936
URL:https://templeisraelorlando.org/event/sunday-minyan/2029-05-20/
LOCATION:Temple Israel\, 50 S Moss Road\, Winter Springs\, FL\, 32708\, United States
CATEGORIES:Services
END:VEVENT
BEGIN:VEVENT
DTSTART;TZID=America/New_York:20290522T193000
DTEND;TZID=America/New_York:20290522T203000
DTSTAMP:20260421T143441
CREATED:20250630T172741Z
LAST-MODIFIED:20250825T133756Z
UID:10003160-1874172600-1874176200@templeisraelorlando.org
SUMMARY:Membership Committee Meeting
DESCRIPTION:
URL:https://templeisraelorlando.org/event/membership-committee-meeting-3/2029-05-22/
CATEGORIES:Committee meeting
END:VEVENT
BEGIN:VEVENT
DTSTART;TZID=America/New_York:20290523T120000
DTEND;TZID=America/New_York:20290523T130000
DTSTAMP:20260421T143441
CREATED:20260224T125059Z
LAST-MODIFIED:20260318T180202Z
UID:10007070-1874232000-1874235600@templeisraelorlando.org
SUMMARY:Lunchtime class with Rabbi Neely
DESCRIPTION:
URL:https://templeisraelorlando.org/event/lunchtime-class-with-rabbi-neely/2029-05-23/
CATEGORIES:Classes
END:VEVENT
BEGIN:VEVENT
DTSTART;TZID=America/New_York:20290524T190000
DTEND;TZID=America/New_York:20290524T203000
DTSTAMP:20260421T143441
CREATED:20260412T165154Z
LAST-MODIFIED:20260412T165154Z
UID:10007310-1874343600-1874349000@templeisraelorlando.org
SUMMARY:TI Men's Club Monthly Social @ The Back Porch
DESCRIPTION:Join Men’s Club on the 4th Thursday of each month @ 7 PM at The Back Porch\, 145 Wekiva Springs Rd #161\, Longwood.
URL:https://templeisraelorlando.org/event/ti-mens-club-monthly-social-the-back-porch/2029-05-24/
CATEGORIES:Event
END:VEVENT
BEGIN:VEVENT
DTSTART;TZID=America/New_York:20290525T190000
DTEND;TZID=America/New_York:20290525T200000
DTSTAMP:20260421T143441
CREATED:20240507T020417Z
LAST-MODIFIED:20260108T191902Z
UID:10004873-1874430000-1874433600@templeisraelorlando.org
SUMMARY:Kabbalat Shabbat
DESCRIPTION:
URL:https://templeisraelorlando.org/event/kabbalat-shabbat/2029-05-25/
CATEGORIES:Services
END:VEVENT
BEGIN:VEVENT
DTSTART;TZID=America/New_York:20290526T093000
DTEND;TZID=America/New_York:20290526T120000
DTSTAMP:20260421T143441
CREATED:20250715T172155Z
LAST-MODIFIED:20250715T172816Z
UID:10006286-1874482200-1874491200@templeisraelorlando.org
SUMMARY:Shabbat Services
DESCRIPTION:
URL:https://templeisraelorlando.org/event/shabbat-services-2/2029-05-26/
LOCATION:Temple Israel\, 50 S Moss Road\, Winter Springs\, FL\, 32708\, United States
CATEGORIES:Services
END:VEVENT
BEGIN:VEVENT
DTSTART;TZID=America/New_York:20290527T090000
DTEND;TZID=America/New_York:20290527T093000
DTSTAMP:20260421T143441
CREATED:20240507T021438Z
LAST-MODIFIED:20250715T172314Z
UID:10005587-1874566800-1874568600@templeisraelorlando.org
SUMMARY:Sunday Minyan
DESCRIPTION:Our minyan starts at 9:00am in person and on zoom. \nhttps://us02web.zoom.us/j/83885789313?pwd=UkdrN25yMGRpTUIzNlRwejd1UWpjQT09 \nMeeting ID: 838 8578 9313\nPasscode: 165936
URL:https://templeisraelorlando.org/event/sunday-minyan/2029-05-27/
LOCATION:Temple Israel\, 50 S Moss Road\, Winter Springs\, FL\, 32708\, United States
CATEGORIES:Services
END:VEVENT
BEGIN:VEVENT
DTSTART;TZID=America/New_York:20290528T190000
DTEND;TZID=America/New_York:20290528T200000
DTSTAMP:20260421T143441
CREATED:20240507T032905Z
LAST-MODIFIED:20250825T133443Z
UID:10006529-1874689200-1874692800@templeisraelorlando.org
SUMMARY:Board of Directors
DESCRIPTION:
URL:https://templeisraelorlando.org/event/board-of-directors/2029-05-28/
CATEGORIES:Committee meeting
END:VEVENT
BEGIN:VEVENT
DTSTART;TZID=America/New_York:20290530T120000
DTEND;TZID=America/New_York:20290530T130000
DTSTAMP:20260421T143441
CREATED:20260224T125059Z
LAST-MODIFIED:20260318T180202Z
UID:10007071-1874836800-1874840400@templeisraelorlando.org
SUMMARY:Lunchtime class with Rabbi Neely
DESCRIPTION:
URL:https://templeisraelorlando.org/event/lunchtime-class-with-rabbi-neely/2029-05-30/
CATEGORIES:Classes
END:VEVENT
BEGIN:VEVENT
DTSTART;TZID=America/New_York:20290601T180000
DTEND;TZID=America/New_York:20290601T190000
DTSTAMP:20260421T143441
CREATED:20250724T120311Z
LAST-MODIFIED:20260406T182700Z
UID:10006653-1875031200-1875034800@templeisraelorlando.org
SUMMARY:Kabbalat Shabbat
DESCRIPTION:
URL:https://templeisraelorlando.org/event/kabbalat-shabbat-2-2/2029-06-01/
LOCATION:Temple Israel\, 50 S Moss Road\, Winter Springs\, FL\, 32708\, United States
CATEGORIES:Services
END:VEVENT
BEGIN:VEVENT
DTSTART;TZID=America/New_York:20290602T093000
DTEND;TZID=America/New_York:20290602T120000
DTSTAMP:20260421T143441
CREATED:20250715T172155Z
LAST-MODIFIED:20250715T172816Z
UID:10006287-1875087000-1875096000@templeisraelorlando.org
SUMMARY:Shabbat Services
DESCRIPTION:
URL:https://templeisraelorlando.org/event/shabbat-services-2/2029-06-02/
LOCATION:Temple Israel\, 50 S Moss Road\, Winter Springs\, FL\, 32708\, United States
CATEGORIES:Services
END:VEVENT
BEGIN:VEVENT
DTSTART;TZID=America/New_York:20290603T090000
DTEND;TZID=America/New_York:20290603T093000
DTSTAMP:20260421T143441
CREATED:20240507T021438Z
LAST-MODIFIED:20250715T172314Z
UID:10005588-1875171600-1875173400@templeisraelorlando.org
SUMMARY:Sunday Minyan
DESCRIPTION:Our minyan starts at 9:00am in person and on zoom. \nhttps://us02web.zoom.us/j/83885789313?pwd=UkdrN25yMGRpTUIzNlRwejd1UWpjQT09 \nMeeting ID: 838 8578 9313\nPasscode: 165936
URL:https://templeisraelorlando.org/event/sunday-minyan/2029-06-03/
LOCATION:Temple Israel\, 50 S Moss Road\, Winter Springs\, FL\, 32708\, United States
CATEGORIES:Services
END:VEVENT
BEGIN:VEVENT
DTSTART;TZID=America/New_York:20290606T120000
DTEND;TZID=America/New_York:20290606T130000
DTSTAMP:20260421T143441
CREATED:20260224T125059Z
LAST-MODIFIED:20260318T180202Z
UID:10007072-1875441600-1875445200@templeisraelorlando.org
SUMMARY:Lunchtime class with Rabbi Neely
DESCRIPTION:
URL:https://templeisraelorlando.org/event/lunchtime-class-with-rabbi-neely/2029-06-06/
CATEGORIES:Classes
END:VEVENT
BEGIN:VEVENT
DTSTART;TZID=America/New_York:20290608T170000
DTEND;TZID=America/New_York:20290608T183000
DTSTAMP:20260421T143441
CREATED:20260412T164837Z
LAST-MODIFIED:20260412T165527Z
UID:10007250-1875632400-1875637800@templeisraelorlando.org
SUMMARY:TI Men's Club Warm-Up Dinner @ Corfu Restaurant
DESCRIPTION:Join Men’s Club for dinner on the 2nd Friday of each month at Corfu Restaurant\, 124 W SR 434\, Winter Springs.
URL:https://templeisraelorlando.org/event/ti-mens-club-warm-up-dinner/2029-06-08/
CATEGORIES:Event
END:VEVENT
BEGIN:VEVENT
DTSTART;TZID=America/New_York:20290608T190000
DTEND;TZID=America/New_York:20290608T200000
DTSTAMP:20260421T143441
CREATED:20240507T020417Z
LAST-MODIFIED:20260108T191902Z
UID:10004874-1875639600-1875643200@templeisraelorlando.org
SUMMARY:Kabbalat Shabbat
DESCRIPTION:
URL:https://templeisraelorlando.org/event/kabbalat-shabbat/2029-06-08/
CATEGORIES:Services
END:VEVENT
BEGIN:VEVENT
DTSTART;TZID=America/New_York:20290609T093000
DTEND;TZID=America/New_York:20290609T120000
DTSTAMP:20260421T143441
CREATED:20250715T172155Z
LAST-MODIFIED:20250715T172816Z
UID:10006288-1875691800-1875700800@templeisraelorlando.org
SUMMARY:Shabbat Services
DESCRIPTION:
URL:https://templeisraelorlando.org/event/shabbat-services-2/2029-06-09/
LOCATION:Temple Israel\, 50 S Moss Road\, Winter Springs\, FL\, 32708\, United States
CATEGORIES:Services
END:VEVENT
BEGIN:VEVENT
DTSTART;TZID=America/New_York:20290610T090000
DTEND;TZID=America/New_York:20290610T093000
DTSTAMP:20260421T143441
CREATED:20240507T021438Z
LAST-MODIFIED:20250715T172314Z
UID:10005589-1875776400-1875778200@templeisraelorlando.org
SUMMARY:Sunday Minyan
DESCRIPTION:Our minyan starts at 9:00am in person and on zoom. \nhttps://us02web.zoom.us/j/83885789313?pwd=UkdrN25yMGRpTUIzNlRwejd1UWpjQT09 \nMeeting ID: 838 8578 9313\nPasscode: 165936
URL:https://templeisraelorlando.org/event/sunday-minyan/2029-06-10/
LOCATION:Temple Israel\, 50 S Moss Road\, Winter Springs\, FL\, 32708\, United States
CATEGORIES:Services
END:VEVENT
BEGIN:VEVENT
DTSTART;TZID=America/New_York:20290611T190000
DTEND;TZID=America/New_York:20290611T200000
DTSTAMP:20260421T143441
CREATED:20240827T002911Z
LAST-MODIFIED:20250928T233226Z
UID:10006461-1875898800-1875902400@templeisraelorlando.org
SUMMARY:Executive Committee
DESCRIPTION:
URL:https://templeisraelorlando.org/event/executive-committee-2-2/2029-06-11/
END:VEVENT
BEGIN:VEVENT
DTSTART;TZID=America/New_York:20290613T120000
DTEND;TZID=America/New_York:20290613T130000
DTSTAMP:20260421T143441
CREATED:20260224T125059Z
LAST-MODIFIED:20260318T180202Z
UID:10007073-1876046400-1876050000@templeisraelorlando.org
SUMMARY:Lunchtime class with Rabbi Neely
DESCRIPTION:
URL:https://templeisraelorlando.org/event/lunchtime-class-with-rabbi-neely/2029-06-13/
CATEGORIES:Classes
END:VEVENT
BEGIN:VEVENT
DTSTART;TZID=America/New_York:20290615T190000
DTEND;TZID=America/New_York:20290615T200000
DTSTAMP:20260421T143441
CREATED:20240507T020417Z
LAST-MODIFIED:20260108T191902Z
UID:10004875-1876244400-1876248000@templeisraelorlando.org
SUMMARY:Kabbalat Shabbat
DESCRIPTION:
URL:https://templeisraelorlando.org/event/kabbalat-shabbat/2029-06-15/
CATEGORIES:Services
END:VEVENT
BEGIN:VEVENT
DTSTART;TZID=America/New_York:20290616T093000
DTEND;TZID=America/New_York:20290616T120000
DTSTAMP:20260421T143441
CREATED:20250715T172155Z
LAST-MODIFIED:20250715T172816Z
UID:10006289-1876296600-1876305600@templeisraelorlando.org
SUMMARY:Shabbat Services
DESCRIPTION:
URL:https://templeisraelorlando.org/event/shabbat-services-2/2029-06-16/
LOCATION:Temple Israel\, 50 S Moss Road\, Winter Springs\, FL\, 32708\, United States
CATEGORIES:Services
END:VEVENT
BEGIN:VEVENT
DTSTART;TZID=America/New_York:20290616T110000
DTEND;TZID=America/New_York:20290616T234500
DTSTAMP:20260421T143441
CREATED:20240507T033334Z
LAST-MODIFIED:20250715T172956Z
UID:10006402-1876302000-1876347900@templeisraelorlando.org
SUMMARY:Tot Shabbat
DESCRIPTION:
URL:https://templeisraelorlando.org/event/tot-shabbat/2029-06-16/
CATEGORIES:Family
END:VEVENT
BEGIN:VEVENT
DTSTART;TZID=America/New_York:20290617T090000
DTEND;TZID=America/New_York:20290617T093000
DTSTAMP:20260421T143441
CREATED:20240507T021438Z
LAST-MODIFIED:20250715T172314Z
UID:10005590-1876381200-1876383000@templeisraelorlando.org
SUMMARY:Sunday Minyan
DESCRIPTION:Our minyan starts at 9:00am in person and on zoom. \nhttps://us02web.zoom.us/j/83885789313?pwd=UkdrN25yMGRpTUIzNlRwejd1UWpjQT09 \nMeeting ID: 838 8578 9313\nPasscode: 165936
URL:https://templeisraelorlando.org/event/sunday-minyan/2029-06-17/
LOCATION:Temple Israel\, 50 S Moss Road\, Winter Springs\, FL\, 32708\, United States
CATEGORIES:Services
END:VEVENT
BEGIN:VEVENT
DTSTART;TZID=America/New_York:20290620T120000
DTEND;TZID=America/New_York:20290620T130000
DTSTAMP:20260421T143441
CREATED:20260224T125059Z
LAST-MODIFIED:20260318T180202Z
UID:10007074-1876651200-1876654800@templeisraelorlando.org
SUMMARY:Lunchtime class with Rabbi Neely
DESCRIPTION:
URL:https://templeisraelorlando.org/event/lunchtime-class-with-rabbi-neely/2029-06-20/
CATEGORIES:Classes
END:VEVENT
END:VCALENDAR