BEGIN:VCALENDAR
VERSION:2.0
PRODID:-//Temple Israel - ECPv6.15.17.1//NONSGML v1.0//EN
CALSCALE:GREGORIAN
METHOD:PUBLISH
X-ORIGINAL-URL:https://templeisraelorlando.org
X-WR-CALDESC:Events for Temple Israel
REFRESH-INTERVAL;VALUE=DURATION:PT1H
X-Robots-Tag:noindex
X-PUBLISHED-TTL:PT1H
BEGIN:VTIMEZONE
TZID:America/New_York
BEGIN:DAYLIGHT
TZOFFSETFROM:-0500
TZOFFSETTO:-0400
TZNAME:EDT
DTSTART:20260308T070000
END:DAYLIGHT
BEGIN:STANDARD
TZOFFSETFROM:-0400
TZOFFSETTO:-0500
TZNAME:EST
DTSTART:20261101T060000
END:STANDARD
BEGIN:DAYLIGHT
TZOFFSETFROM:-0500
TZOFFSETTO:-0400
TZNAME:EDT
DTSTART:20270314T070000
END:DAYLIGHT
BEGIN:STANDARD
TZOFFSETFROM:-0400
TZOFFSETTO:-0500
TZNAME:EST
DTSTART:20271107T060000
END:STANDARD
BEGIN:DAYLIGHT
TZOFFSETFROM:-0500
TZOFFSETTO:-0400
TZNAME:EDT
DTSTART:20280312T070000
END:DAYLIGHT
BEGIN:STANDARD
TZOFFSETFROM:-0400
TZOFFSETTO:-0500
TZNAME:EST
DTSTART:20281105T060000
END:STANDARD
END:VTIMEZONE
BEGIN:VEVENT
DTSTART;TZID=America/New_York:20270910T190000
DTEND;TZID=America/New_York:20270910T200000
DTSTAMP:20260420T005937
CREATED:20240507T020417Z
LAST-MODIFIED:20260108T191902Z
UID:10004804-1820602800-1820606400@templeisraelorlando.org
SUMMARY:Kabbalat Shabbat
DESCRIPTION:
URL:https://templeisraelorlando.org/event/kabbalat-shabbat/2027-09-10/
CATEGORIES:Services
END:VEVENT
BEGIN:VEVENT
DTSTART;TZID=America/New_York:20270911T093000
DTEND;TZID=America/New_York:20270911T120000
DTSTAMP:20260420T005937
CREATED:20250715T172155Z
LAST-MODIFIED:20250715T172816Z
UID:10006197-1820655000-1820664000@templeisraelorlando.org
SUMMARY:Shabbat Services
DESCRIPTION:
URL:https://templeisraelorlando.org/event/shabbat-services-2/2027-09-11/
LOCATION:Temple Israel\, 50 S Moss Road\, Winter Springs\, FL\, 32708\, United States
CATEGORIES:Services
END:VEVENT
BEGIN:VEVENT
DTSTART;TZID=America/New_York:20270912T090000
DTEND;TZID=America/New_York:20270912T093000
DTSTAMP:20260420T005937
CREATED:20240507T021438Z
LAST-MODIFIED:20250715T172314Z
UID:10005498-1820739600-1820741400@templeisraelorlando.org
SUMMARY:Sunday Minyan
DESCRIPTION:Our minyan starts at 9:00am in person and on zoom. \nhttps://us02web.zoom.us/j/83885789313?pwd=UkdrN25yMGRpTUIzNlRwejd1UWpjQT09 \nMeeting ID: 838 8578 9313\nPasscode: 165936
URL:https://templeisraelorlando.org/event/sunday-minyan/2027-09-12/
LOCATION:Temple Israel\, 50 S Moss Road\, Winter Springs\, FL\, 32708\, United States
CATEGORIES:Services
END:VEVENT
BEGIN:VEVENT
DTSTART;TZID=America/New_York:20270913T190000
DTEND;TZID=America/New_York:20270913T200000
DTSTAMP:20260420T005937
CREATED:20240827T002911Z
LAST-MODIFIED:20250928T233226Z
UID:10006440-1820862000-1820865600@templeisraelorlando.org
SUMMARY:Executive Committee
DESCRIPTION:
URL:https://templeisraelorlando.org/event/executive-committee-2-2/2027-09-13/
END:VEVENT
BEGIN:VEVENT
DTSTART;TZID=America/New_York:20270915T120000
DTEND;TZID=America/New_York:20270915T130000
DTSTAMP:20260420T005937
CREATED:20260224T125059Z
LAST-MODIFIED:20260318T180202Z
UID:10006982-1821009600-1821013200@templeisraelorlando.org
SUMMARY:Lunchtime class with Rabbi Neely
DESCRIPTION:
URL:https://templeisraelorlando.org/event/lunchtime-class-with-rabbi-neely/2027-09-15/
CATEGORIES:Classes
END:VEVENT
BEGIN:VEVENT
DTSTART;TZID=America/New_York:20270917T190000
DTEND;TZID=America/New_York:20270917T200000
DTSTAMP:20260420T005937
CREATED:20240507T020417Z
LAST-MODIFIED:20260108T191902Z
UID:10004805-1821207600-1821211200@templeisraelorlando.org
SUMMARY:Kabbalat Shabbat
DESCRIPTION:
URL:https://templeisraelorlando.org/event/kabbalat-shabbat/2027-09-17/
CATEGORIES:Services
END:VEVENT
BEGIN:VEVENT
DTSTART;TZID=America/New_York:20270918T093000
DTEND;TZID=America/New_York:20270918T120000
DTSTAMP:20260420T005937
CREATED:20250715T172155Z
LAST-MODIFIED:20250715T172816Z
UID:10006198-1821259800-1821268800@templeisraelorlando.org
SUMMARY:Shabbat Services
DESCRIPTION:
URL:https://templeisraelorlando.org/event/shabbat-services-2/2027-09-18/
LOCATION:Temple Israel\, 50 S Moss Road\, Winter Springs\, FL\, 32708\, United States
CATEGORIES:Services
END:VEVENT
BEGIN:VEVENT
DTSTART;TZID=America/New_York:20270918T110000
DTEND;TZID=America/New_York:20270918T234500
DTSTAMP:20260420T005937
CREATED:20240507T033334Z
LAST-MODIFIED:20250715T172956Z
UID:10006381-1821265200-1821311100@templeisraelorlando.org
SUMMARY:Tot Shabbat
DESCRIPTION:
URL:https://templeisraelorlando.org/event/tot-shabbat/2027-09-18/
CATEGORIES:Family
END:VEVENT
BEGIN:VEVENT
DTSTART;TZID=America/New_York:20270919T090000
DTEND;TZID=America/New_York:20270919T093000
DTSTAMP:20260420T005937
CREATED:20240507T021438Z
LAST-MODIFIED:20250715T172314Z
UID:10005499-1821344400-1821346200@templeisraelorlando.org
SUMMARY:Sunday Minyan
DESCRIPTION:Our minyan starts at 9:00am in person and on zoom. \nhttps://us02web.zoom.us/j/83885789313?pwd=UkdrN25yMGRpTUIzNlRwejd1UWpjQT09 \nMeeting ID: 838 8578 9313\nPasscode: 165936
URL:https://templeisraelorlando.org/event/sunday-minyan/2027-09-19/
LOCATION:Temple Israel\, 50 S Moss Road\, Winter Springs\, FL\, 32708\, United States
CATEGORIES:Services
END:VEVENT
BEGIN:VEVENT
DTSTART;TZID=America/New_York:20270922T120000
DTEND;TZID=America/New_York:20270922T130000
DTSTAMP:20260420T005937
CREATED:20260224T125059Z
LAST-MODIFIED:20260318T180202Z
UID:10006983-1821614400-1821618000@templeisraelorlando.org
SUMMARY:Lunchtime class with Rabbi Neely
DESCRIPTION:
URL:https://templeisraelorlando.org/event/lunchtime-class-with-rabbi-neely/2027-09-22/
CATEGORIES:Classes
END:VEVENT
BEGIN:VEVENT
DTSTART;TZID=America/New_York:20270923T190000
DTEND;TZID=America/New_York:20270923T203000
DTSTAMP:20260420T005937
CREATED:20260412T165154Z
LAST-MODIFIED:20260412T165154Z
UID:10007290-1821726000-1821731400@templeisraelorlando.org
SUMMARY:TI Men's Club Monthly Social @ The Back Porch
DESCRIPTION:Join Men’s Club on the 4th Thursday of each month @ 7 PM at The Back Porch\, 145 Wekiva Springs Rd #161\, Longwood.
URL:https://templeisraelorlando.org/event/ti-mens-club-monthly-social-the-back-porch/2027-09-23/
CATEGORIES:Event
END:VEVENT
BEGIN:VEVENT
DTSTART;TZID=America/New_York:20270924T190000
DTEND;TZID=America/New_York:20270924T200000
DTSTAMP:20260420T005937
CREATED:20240507T020417Z
LAST-MODIFIED:20260108T191902Z
UID:10004806-1821812400-1821816000@templeisraelorlando.org
SUMMARY:Kabbalat Shabbat
DESCRIPTION:
URL:https://templeisraelorlando.org/event/kabbalat-shabbat/2027-09-24/
CATEGORIES:Services
END:VEVENT
BEGIN:VEVENT
DTSTART;TZID=America/New_York:20270925T093000
DTEND;TZID=America/New_York:20270925T120000
DTSTAMP:20260420T005937
CREATED:20250715T172155Z
LAST-MODIFIED:20250715T172816Z
UID:10006199-1821864600-1821873600@templeisraelorlando.org
SUMMARY:Shabbat Services
DESCRIPTION:
URL:https://templeisraelorlando.org/event/shabbat-services-2/2027-09-25/
LOCATION:Temple Israel\, 50 S Moss Road\, Winter Springs\, FL\, 32708\, United States
CATEGORIES:Services
END:VEVENT
BEGIN:VEVENT
DTSTART;TZID=America/New_York:20270926T090000
DTEND;TZID=America/New_York:20270926T093000
DTSTAMP:20260420T005937
CREATED:20240507T021438Z
LAST-MODIFIED:20250715T172314Z
UID:10005500-1821949200-1821951000@templeisraelorlando.org
SUMMARY:Sunday Minyan
DESCRIPTION:Our minyan starts at 9:00am in person and on zoom. \nhttps://us02web.zoom.us/j/83885789313?pwd=UkdrN25yMGRpTUIzNlRwejd1UWpjQT09 \nMeeting ID: 838 8578 9313\nPasscode: 165936
URL:https://templeisraelorlando.org/event/sunday-minyan/2027-09-26/
LOCATION:Temple Israel\, 50 S Moss Road\, Winter Springs\, FL\, 32708\, United States
CATEGORIES:Services
END:VEVENT
BEGIN:VEVENT
DTSTART;TZID=America/New_York:20270927T190000
DTEND;TZID=America/New_York:20270927T200000
DTSTAMP:20260420T005937
CREATED:20240507T032905Z
LAST-MODIFIED:20250825T133443Z
UID:10006509-1822071600-1822075200@templeisraelorlando.org
SUMMARY:Board of Directors
DESCRIPTION:
URL:https://templeisraelorlando.org/event/board-of-directors/2027-09-27/
CATEGORIES:Committee meeting
END:VEVENT
BEGIN:VEVENT
DTSTART;TZID=America/New_York:20270928T193000
DTEND;TZID=America/New_York:20270928T203000
DTSTAMP:20260420T005937
CREATED:20250630T172741Z
LAST-MODIFIED:20250825T133756Z
UID:10003140-1822159800-1822163400@templeisraelorlando.org
SUMMARY:Membership Committee Meeting
DESCRIPTION:
URL:https://templeisraelorlando.org/event/membership-committee-meeting-3/2027-09-28/
CATEGORIES:Committee meeting
END:VEVENT
BEGIN:VEVENT
DTSTART;TZID=America/New_York:20270929T120000
DTEND;TZID=America/New_York:20270929T130000
DTSTAMP:20260420T005937
CREATED:20260224T125059Z
LAST-MODIFIED:20260318T180202Z
UID:10006984-1822219200-1822222800@templeisraelorlando.org
SUMMARY:Lunchtime class with Rabbi Neely
DESCRIPTION:
URL:https://templeisraelorlando.org/event/lunchtime-class-with-rabbi-neely/2027-09-29/
CATEGORIES:Classes
END:VEVENT
BEGIN:VEVENT
DTSTART;TZID=America/New_York:20271001T180000
DTEND;TZID=America/New_York:20271001T190000
DTSTAMP:20260420T005937
CREATED:20250724T120311Z
LAST-MODIFIED:20260406T182700Z
UID:10006633-1822413600-1822417200@templeisraelorlando.org
SUMMARY:Kabbalat Shabbat
DESCRIPTION:
URL:https://templeisraelorlando.org/event/kabbalat-shabbat-2-2/2027-10-01/
LOCATION:Temple Israel\, 50 S Moss Road\, Winter Springs\, FL\, 32708\, United States
CATEGORIES:Services
END:VEVENT
BEGIN:VEVENT
DTSTART;TZID=America/New_York:20271002T093000
DTEND;TZID=America/New_York:20271002T120000
DTSTAMP:20260420T005937
CREATED:20250715T172155Z
LAST-MODIFIED:20250715T172816Z
UID:10006200-1822469400-1822478400@templeisraelorlando.org
SUMMARY:Shabbat Services
DESCRIPTION:
URL:https://templeisraelorlando.org/event/shabbat-services-2/2027-10-02/
LOCATION:Temple Israel\, 50 S Moss Road\, Winter Springs\, FL\, 32708\, United States
CATEGORIES:Services
END:VEVENT
BEGIN:VEVENT
DTSTART;TZID=America/New_York:20271003T090000
DTEND;TZID=America/New_York:20271003T093000
DTSTAMP:20260420T005937
CREATED:20240507T021438Z
LAST-MODIFIED:20250715T172314Z
UID:10005501-1822554000-1822555800@templeisraelorlando.org
SUMMARY:Sunday Minyan
DESCRIPTION:Our minyan starts at 9:00am in person and on zoom. \nhttps://us02web.zoom.us/j/83885789313?pwd=UkdrN25yMGRpTUIzNlRwejd1UWpjQT09 \nMeeting ID: 838 8578 9313\nPasscode: 165936
URL:https://templeisraelorlando.org/event/sunday-minyan/2027-10-03/
LOCATION:Temple Israel\, 50 S Moss Road\, Winter Springs\, FL\, 32708\, United States
CATEGORIES:Services
END:VEVENT
BEGIN:VEVENT
DTSTART;TZID=America/New_York:20271006T120000
DTEND;TZID=America/New_York:20271006T130000
DTSTAMP:20260420T005937
CREATED:20260224T125059Z
LAST-MODIFIED:20260318T180202Z
UID:10006985-1822824000-1822827600@templeisraelorlando.org
SUMMARY:Lunchtime class with Rabbi Neely
DESCRIPTION:
URL:https://templeisraelorlando.org/event/lunchtime-class-with-rabbi-neely/2027-10-06/
CATEGORIES:Classes
END:VEVENT
BEGIN:VEVENT
DTSTART;TZID=America/New_York:20271008T170000
DTEND;TZID=America/New_York:20271008T183000
DTSTAMP:20260420T005937
CREATED:20260412T164837Z
LAST-MODIFIED:20260412T165527Z
UID:10007230-1823014800-1823020200@templeisraelorlando.org
SUMMARY:TI Men's Club Warm-Up Dinner @ Corfu Restaurant
DESCRIPTION:Join Men’s Club for dinner on the 2nd Friday of each month at Corfu Restaurant\, 124 W SR 434\, Winter Springs.
URL:https://templeisraelorlando.org/event/ti-mens-club-warm-up-dinner/2027-10-08/
CATEGORIES:Event
END:VEVENT
BEGIN:VEVENT
DTSTART;TZID=America/New_York:20271008T190000
DTEND;TZID=America/New_York:20271008T200000
DTSTAMP:20260420T005937
CREATED:20240507T020417Z
LAST-MODIFIED:20260108T191902Z
UID:10004807-1823022000-1823025600@templeisraelorlando.org
SUMMARY:Kabbalat Shabbat
DESCRIPTION:
URL:https://templeisraelorlando.org/event/kabbalat-shabbat/2027-10-08/
CATEGORIES:Services
END:VEVENT
BEGIN:VEVENT
DTSTART;TZID=America/New_York:20271009T093000
DTEND;TZID=America/New_York:20271009T120000
DTSTAMP:20260420T005937
CREATED:20250715T172155Z
LAST-MODIFIED:20250715T172816Z
UID:10006201-1823074200-1823083200@templeisraelorlando.org
SUMMARY:Shabbat Services
DESCRIPTION:
URL:https://templeisraelorlando.org/event/shabbat-services-2/2027-10-09/
LOCATION:Temple Israel\, 50 S Moss Road\, Winter Springs\, FL\, 32708\, United States
CATEGORIES:Services
END:VEVENT
BEGIN:VEVENT
DTSTART;TZID=America/New_York:20271010T090000
DTEND;TZID=America/New_York:20271010T093000
DTSTAMP:20260420T005937
CREATED:20240507T021438Z
LAST-MODIFIED:20250715T172314Z
UID:10005502-1823158800-1823160600@templeisraelorlando.org
SUMMARY:Sunday Minyan
DESCRIPTION:Our minyan starts at 9:00am in person and on zoom. \nhttps://us02web.zoom.us/j/83885789313?pwd=UkdrN25yMGRpTUIzNlRwejd1UWpjQT09 \nMeeting ID: 838 8578 9313\nPasscode: 165936
URL:https://templeisraelorlando.org/event/sunday-minyan/2027-10-10/
LOCATION:Temple Israel\, 50 S Moss Road\, Winter Springs\, FL\, 32708\, United States
CATEGORIES:Services
END:VEVENT
BEGIN:VEVENT
DTSTART;TZID=America/New_York:20271011T190000
DTEND;TZID=America/New_York:20271011T200000
DTSTAMP:20260420T005937
CREATED:20240827T002911Z
LAST-MODIFIED:20250928T233226Z
UID:10006441-1823281200-1823284800@templeisraelorlando.org
SUMMARY:Executive Committee
DESCRIPTION:
URL:https://templeisraelorlando.org/event/executive-committee-2-2/2027-10-11/
END:VEVENT
BEGIN:VEVENT
DTSTART;TZID=America/New_York:20271013T120000
DTEND;TZID=America/New_York:20271013T130000
DTSTAMP:20260420T005937
CREATED:20260224T125059Z
LAST-MODIFIED:20260318T180202Z
UID:10006986-1823428800-1823432400@templeisraelorlando.org
SUMMARY:Lunchtime class with Rabbi Neely
DESCRIPTION:
URL:https://templeisraelorlando.org/event/lunchtime-class-with-rabbi-neely/2027-10-13/
CATEGORIES:Classes
END:VEVENT
BEGIN:VEVENT
DTSTART;TZID=America/New_York:20271015T190000
DTEND;TZID=America/New_York:20271015T200000
DTSTAMP:20260420T005937
CREATED:20240507T020417Z
LAST-MODIFIED:20260108T191902Z
UID:10004808-1823626800-1823630400@templeisraelorlando.org
SUMMARY:Kabbalat Shabbat
DESCRIPTION:
URL:https://templeisraelorlando.org/event/kabbalat-shabbat/2027-10-15/
CATEGORIES:Services
END:VEVENT
BEGIN:VEVENT
DTSTART;TZID=America/New_York:20271016T093000
DTEND;TZID=America/New_York:20271016T120000
DTSTAMP:20260420T005937
CREATED:20250715T172155Z
LAST-MODIFIED:20250715T172816Z
UID:10006202-1823679000-1823688000@templeisraelorlando.org
SUMMARY:Shabbat Services
DESCRIPTION:
URL:https://templeisraelorlando.org/event/shabbat-services-2/2027-10-16/
LOCATION:Temple Israel\, 50 S Moss Road\, Winter Springs\, FL\, 32708\, United States
CATEGORIES:Services
END:VEVENT
BEGIN:VEVENT
DTSTART;TZID=America/New_York:20271016T110000
DTEND;TZID=America/New_York:20271016T234500
DTSTAMP:20260420T005937
CREATED:20240507T033334Z
LAST-MODIFIED:20250715T172956Z
UID:10006382-1823684400-1823730300@templeisraelorlando.org
SUMMARY:Tot Shabbat
DESCRIPTION:
URL:https://templeisraelorlando.org/event/tot-shabbat/2027-10-16/
CATEGORIES:Family
END:VEVENT
END:VCALENDAR