BEGIN:VCALENDAR
VERSION:2.0
PRODID:-//Temple Israel - ECPv6.15.17.1//NONSGML v1.0//EN
CALSCALE:GREGORIAN
METHOD:PUBLISH
X-ORIGINAL-URL:https://templeisraelorlando.org
X-WR-CALDESC:Events for Temple Israel
REFRESH-INTERVAL;VALUE=DURATION:PT1H
X-Robots-Tag:noindex
X-PUBLISHED-TTL:PT1H
BEGIN:VTIMEZONE
TZID:America/New_York
BEGIN:DAYLIGHT
TZOFFSETFROM:-0500
TZOFFSETTO:-0400
TZNAME:EDT
DTSTART:20260308T070000
END:DAYLIGHT
BEGIN:STANDARD
TZOFFSETFROM:-0400
TZOFFSETTO:-0500
TZNAME:EST
DTSTART:20261101T060000
END:STANDARD
BEGIN:DAYLIGHT
TZOFFSETFROM:-0500
TZOFFSETTO:-0400
TZNAME:EDT
DTSTART:20270314T070000
END:DAYLIGHT
BEGIN:STANDARD
TZOFFSETFROM:-0400
TZOFFSETTO:-0500
TZNAME:EST
DTSTART:20271107T060000
END:STANDARD
BEGIN:DAYLIGHT
TZOFFSETFROM:-0500
TZOFFSETTO:-0400
TZNAME:EDT
DTSTART:20280312T070000
END:DAYLIGHT
BEGIN:STANDARD
TZOFFSETFROM:-0400
TZOFFSETTO:-0500
TZNAME:EST
DTSTART:20281105T060000
END:STANDARD
BEGIN:DAYLIGHT
TZOFFSETFROM:-0500
TZOFFSETTO:-0400
TZNAME:EDT
DTSTART:20290311T070000
END:DAYLIGHT
BEGIN:STANDARD
TZOFFSETFROM:-0400
TZOFFSETTO:-0500
TZNAME:EST
DTSTART:20291104T060000
END:STANDARD
END:VTIMEZONE
BEGIN:VEVENT
DTSTART;TZID=America/New_York:20271223T190000
DTEND;TZID=America/New_York:20271223T203000
DTSTAMP:20260419T233818
CREATED:20260412T165154Z
LAST-MODIFIED:20260412T165154Z
UID:10007293-1829588400-1829593800@templeisraelorlando.org
SUMMARY:TI Men's Club Monthly Social @ The Back Porch
DESCRIPTION:Join Men’s Club on the 4th Thursday of each month @ 7 PM at The Back Porch\, 145 Wekiva Springs Rd #161\, Longwood.
URL:https://templeisraelorlando.org/event/ti-mens-club-monthly-social-the-back-porch/2027-12-23/
CATEGORIES:Event
END:VEVENT
BEGIN:VEVENT
DTSTART;TZID=America/New_York:20271224T190000
DTEND;TZID=America/New_York:20271224T200000
DTSTAMP:20260419T233818
CREATED:20240507T020417Z
LAST-MODIFIED:20260108T191902Z
UID:10004816-1829674800-1829678400@templeisraelorlando.org
SUMMARY:Kabbalat Shabbat
DESCRIPTION:
URL:https://templeisraelorlando.org/event/kabbalat-shabbat/2027-12-24/
CATEGORIES:Services
END:VEVENT
BEGIN:VEVENT
DTSTART;TZID=America/New_York:20271225T093000
DTEND;TZID=America/New_York:20271225T120000
DTSTAMP:20260419T233818
CREATED:20250715T172155Z
LAST-MODIFIED:20250715T172816Z
UID:10006212-1829727000-1829736000@templeisraelorlando.org
SUMMARY:Shabbat Services
DESCRIPTION:
URL:https://templeisraelorlando.org/event/shabbat-services-2/2027-12-25/
LOCATION:Temple Israel\, 50 S Moss Road\, Winter Springs\, FL\, 32708\, United States
CATEGORIES:Services
END:VEVENT
BEGIN:VEVENT
DTSTART;TZID=America/New_York:20271226T090000
DTEND;TZID=America/New_York:20271226T093000
DTSTAMP:20260419T233818
CREATED:20240507T021438Z
LAST-MODIFIED:20250715T172314Z
UID:10005513-1829811600-1829813400@templeisraelorlando.org
SUMMARY:Sunday Minyan
DESCRIPTION:Our minyan starts at 9:00am in person and on zoom. \nhttps://us02web.zoom.us/j/83885789313?pwd=UkdrN25yMGRpTUIzNlRwejd1UWpjQT09 \nMeeting ID: 838 8578 9313\nPasscode: 165936
URL:https://templeisraelorlando.org/event/sunday-minyan/2027-12-26/
LOCATION:Temple Israel\, 50 S Moss Road\, Winter Springs\, FL\, 32708\, United States
CATEGORIES:Services
END:VEVENT
BEGIN:VEVENT
DTSTART;TZID=America/New_York:20271227T190000
DTEND;TZID=America/New_York:20271227T200000
DTSTAMP:20260419T233818
CREATED:20240507T032905Z
LAST-MODIFIED:20250825T133443Z
UID:10006512-1829934000-1829937600@templeisraelorlando.org
SUMMARY:Board of Directors
DESCRIPTION:
URL:https://templeisraelorlando.org/event/board-of-directors/2027-12-27/
CATEGORIES:Committee meeting
END:VEVENT
BEGIN:VEVENT
DTSTART;TZID=America/New_York:20271228T193000
DTEND;TZID=America/New_York:20271228T203000
DTSTAMP:20260419T233818
CREATED:20250630T172741Z
LAST-MODIFIED:20250825T133756Z
UID:10003143-1830022200-1830025800@templeisraelorlando.org
SUMMARY:Membership Committee Meeting
DESCRIPTION:
URL:https://templeisraelorlando.org/event/membership-committee-meeting-3/2027-12-28/
CATEGORIES:Committee meeting
END:VEVENT
BEGIN:VEVENT
DTSTART;TZID=America/New_York:20271229T120000
DTEND;TZID=America/New_York:20271229T130000
DTSTAMP:20260419T233818
CREATED:20260224T125059Z
LAST-MODIFIED:20260318T180202Z
UID:10006997-1830081600-1830085200@templeisraelorlando.org
SUMMARY:Lunchtime class with Rabbi Neely
DESCRIPTION:
URL:https://templeisraelorlando.org/event/lunchtime-class-with-rabbi-neely/2027-12-29/
CATEGORIES:Classes
END:VEVENT
BEGIN:VEVENT
DTSTART;TZID=America/New_York:20271231T190000
DTEND;TZID=America/New_York:20271231T200000
DTSTAMP:20260419T233818
CREATED:20240507T020417Z
LAST-MODIFIED:20260108T191902Z
UID:10004817-1830279600-1830283200@templeisraelorlando.org
SUMMARY:Kabbalat Shabbat
DESCRIPTION:
URL:https://templeisraelorlando.org/event/kabbalat-shabbat/2027-12-31/
CATEGORIES:Services
END:VEVENT
BEGIN:VEVENT
DTSTART;TZID=America/New_York:20280101T093000
DTEND;TZID=America/New_York:20280101T120000
DTSTAMP:20260419T233818
CREATED:20250715T172155Z
LAST-MODIFIED:20250715T172816Z
UID:10006213-1830331800-1830340800@templeisraelorlando.org
SUMMARY:Shabbat Services
DESCRIPTION:
URL:https://templeisraelorlando.org/event/shabbat-services-2/2028-01-01/
LOCATION:Temple Israel\, 50 S Moss Road\, Winter Springs\, FL\, 32708\, United States
CATEGORIES:Services
END:VEVENT
BEGIN:VEVENT
DTSTART;TZID=America/New_York:20280102T090000
DTEND;TZID=America/New_York:20280102T093000
DTSTAMP:20260419T233818
CREATED:20240507T021438Z
LAST-MODIFIED:20250715T172314Z
UID:10005514-1830416400-1830418200@templeisraelorlando.org
SUMMARY:Sunday Minyan
DESCRIPTION:Our minyan starts at 9:00am in person and on zoom. \nhttps://us02web.zoom.us/j/83885789313?pwd=UkdrN25yMGRpTUIzNlRwejd1UWpjQT09 \nMeeting ID: 838 8578 9313\nPasscode: 165936
URL:https://templeisraelorlando.org/event/sunday-minyan/2028-01-02/
LOCATION:Temple Israel\, 50 S Moss Road\, Winter Springs\, FL\, 32708\, United States
CATEGORIES:Services
END:VEVENT
BEGIN:VEVENT
DTSTART;TZID=America/New_York:20280105T120000
DTEND;TZID=America/New_York:20280105T130000
DTSTAMP:20260419T233818
CREATED:20260224T125059Z
LAST-MODIFIED:20260318T180202Z
UID:10006998-1830686400-1830690000@templeisraelorlando.org
SUMMARY:Lunchtime class with Rabbi Neely
DESCRIPTION:
URL:https://templeisraelorlando.org/event/lunchtime-class-with-rabbi-neely/2028-01-05/
CATEGORIES:Classes
END:VEVENT
BEGIN:VEVENT
DTSTART;TZID=America/New_York:20280107T180000
DTEND;TZID=America/New_York:20280107T190000
DTSTAMP:20260419T233818
CREATED:20250724T120311Z
LAST-MODIFIED:20260406T182700Z
UID:10006636-1830880800-1830884400@templeisraelorlando.org
SUMMARY:Kabbalat Shabbat
DESCRIPTION:
URL:https://templeisraelorlando.org/event/kabbalat-shabbat-2-2/2028-01-07/
LOCATION:Temple Israel\, 50 S Moss Road\, Winter Springs\, FL\, 32708\, United States
CATEGORIES:Services
END:VEVENT
BEGIN:VEVENT
DTSTART;TZID=America/New_York:20280108T093000
DTEND;TZID=America/New_York:20280108T120000
DTSTAMP:20260419T233818
CREATED:20250715T172155Z
LAST-MODIFIED:20250715T172816Z
UID:10006214-1830936600-1830945600@templeisraelorlando.org
SUMMARY:Shabbat Services
DESCRIPTION:
URL:https://templeisraelorlando.org/event/shabbat-services-2/2028-01-08/
LOCATION:Temple Israel\, 50 S Moss Road\, Winter Springs\, FL\, 32708\, United States
CATEGORIES:Services
END:VEVENT
BEGIN:VEVENT
DTSTART;TZID=America/New_York:20280109T090000
DTEND;TZID=America/New_York:20280109T093000
DTSTAMP:20260419T233818
CREATED:20240507T021438Z
LAST-MODIFIED:20250715T172314Z
UID:10005515-1831021200-1831023000@templeisraelorlando.org
SUMMARY:Sunday Minyan
DESCRIPTION:Our minyan starts at 9:00am in person and on zoom. \nhttps://us02web.zoom.us/j/83885789313?pwd=UkdrN25yMGRpTUIzNlRwejd1UWpjQT09 \nMeeting ID: 838 8578 9313\nPasscode: 165936
URL:https://templeisraelorlando.org/event/sunday-minyan/2028-01-09/
LOCATION:Temple Israel\, 50 S Moss Road\, Winter Springs\, FL\, 32708\, United States
CATEGORIES:Services
END:VEVENT
BEGIN:VEVENT
DTSTART;TZID=America/New_York:20280110T190000
DTEND;TZID=America/New_York:20280110T200000
DTSTAMP:20260419T233818
CREATED:20240827T002911Z
LAST-MODIFIED:20250928T233226Z
UID:10006444-1831143600-1831147200@templeisraelorlando.org
SUMMARY:Executive Committee
DESCRIPTION:
URL:https://templeisraelorlando.org/event/executive-committee-2-2/2028-01-10/
END:VEVENT
BEGIN:VEVENT
DTSTART;TZID=America/New_York:20280112T120000
DTEND;TZID=America/New_York:20280112T130000
DTSTAMP:20260419T233818
CREATED:20260224T125059Z
LAST-MODIFIED:20260318T180202Z
UID:10006999-1831291200-1831294800@templeisraelorlando.org
SUMMARY:Lunchtime class with Rabbi Neely
DESCRIPTION:
URL:https://templeisraelorlando.org/event/lunchtime-class-with-rabbi-neely/2028-01-12/
CATEGORIES:Classes
END:VEVENT
BEGIN:VEVENT
DTSTART;TZID=America/New_York:20280114T170000
DTEND;TZID=America/New_York:20280114T183000
DTSTAMP:20260419T233818
CREATED:20260412T164837Z
LAST-MODIFIED:20260412T165527Z
UID:10007233-1831482000-1831487400@templeisraelorlando.org
SUMMARY:TI Men's Club Warm-Up Dinner @ Corfu Restaurant
DESCRIPTION:Join Men’s Club for dinner on the 2nd Friday of each month at Corfu Restaurant\, 124 W SR 434\, Winter Springs.
URL:https://templeisraelorlando.org/event/ti-mens-club-warm-up-dinner/2028-01-14/
CATEGORIES:Event
END:VEVENT
BEGIN:VEVENT
DTSTART;TZID=America/New_York:20280114T190000
DTEND;TZID=America/New_York:20280114T200000
DTSTAMP:20260419T233818
CREATED:20240507T020417Z
LAST-MODIFIED:20260108T191902Z
UID:10004818-1831489200-1831492800@templeisraelorlando.org
SUMMARY:Kabbalat Shabbat
DESCRIPTION:
URL:https://templeisraelorlando.org/event/kabbalat-shabbat/2028-01-14/
CATEGORIES:Services
END:VEVENT
BEGIN:VEVENT
DTSTART;TZID=America/New_York:20280115T093000
DTEND;TZID=America/New_York:20280115T120000
DTSTAMP:20260419T233818
CREATED:20250715T172155Z
LAST-MODIFIED:20250715T172816Z
UID:10006215-1831541400-1831550400@templeisraelorlando.org
SUMMARY:Shabbat Services
DESCRIPTION:
URL:https://templeisraelorlando.org/event/shabbat-services-2/2028-01-15/
LOCATION:Temple Israel\, 50 S Moss Road\, Winter Springs\, FL\, 32708\, United States
CATEGORIES:Services
END:VEVENT
BEGIN:VEVENT
DTSTART;TZID=America/New_York:20280115T110000
DTEND;TZID=America/New_York:20280115T234500
DTSTAMP:20260419T233818
CREATED:20240507T033334Z
LAST-MODIFIED:20250715T172956Z
UID:10006385-1831546800-1831592700@templeisraelorlando.org
SUMMARY:Tot Shabbat
DESCRIPTION:
URL:https://templeisraelorlando.org/event/tot-shabbat/2028-01-15/
CATEGORIES:Family
END:VEVENT
BEGIN:VEVENT
DTSTART;TZID=America/New_York:20280116T090000
DTEND;TZID=America/New_York:20280116T093000
DTSTAMP:20260419T233818
CREATED:20240507T021438Z
LAST-MODIFIED:20250715T172314Z
UID:10005516-1831626000-1831627800@templeisraelorlando.org
SUMMARY:Sunday Minyan
DESCRIPTION:Our minyan starts at 9:00am in person and on zoom. \nhttps://us02web.zoom.us/j/83885789313?pwd=UkdrN25yMGRpTUIzNlRwejd1UWpjQT09 \nMeeting ID: 838 8578 9313\nPasscode: 165936
URL:https://templeisraelorlando.org/event/sunday-minyan/2028-01-16/
LOCATION:Temple Israel\, 50 S Moss Road\, Winter Springs\, FL\, 32708\, United States
CATEGORIES:Services
END:VEVENT
BEGIN:VEVENT
DTSTART;TZID=America/New_York:20280119T120000
DTEND;TZID=America/New_York:20280119T130000
DTSTAMP:20260419T233818
CREATED:20260224T125059Z
LAST-MODIFIED:20260318T180202Z
UID:10007000-1831896000-1831899600@templeisraelorlando.org
SUMMARY:Lunchtime class with Rabbi Neely
DESCRIPTION:
URL:https://templeisraelorlando.org/event/lunchtime-class-with-rabbi-neely/2028-01-19/
CATEGORIES:Classes
END:VEVENT
BEGIN:VEVENT
DTSTART;TZID=America/New_York:20280121T190000
DTEND;TZID=America/New_York:20280121T200000
DTSTAMP:20260419T233818
CREATED:20240507T020417Z
LAST-MODIFIED:20260108T191902Z
UID:10004819-1832094000-1832097600@templeisraelorlando.org
SUMMARY:Kabbalat Shabbat
DESCRIPTION:
URL:https://templeisraelorlando.org/event/kabbalat-shabbat/2028-01-21/
CATEGORIES:Services
END:VEVENT
BEGIN:VEVENT
DTSTART;TZID=America/New_York:20280122T093000
DTEND;TZID=America/New_York:20280122T120000
DTSTAMP:20260419T233818
CREATED:20250715T172155Z
LAST-MODIFIED:20250715T172816Z
UID:10006216-1832146200-1832155200@templeisraelorlando.org
SUMMARY:Shabbat Services
DESCRIPTION:
URL:https://templeisraelorlando.org/event/shabbat-services-2/2028-01-22/
LOCATION:Temple Israel\, 50 S Moss Road\, Winter Springs\, FL\, 32708\, United States
CATEGORIES:Services
END:VEVENT
BEGIN:VEVENT
DTSTART;TZID=America/New_York:20280123T090000
DTEND;TZID=America/New_York:20280123T093000
DTSTAMP:20260419T233818
CREATED:20240507T021438Z
LAST-MODIFIED:20250715T172314Z
UID:10005517-1832230800-1832232600@templeisraelorlando.org
SUMMARY:Sunday Minyan
DESCRIPTION:Our minyan starts at 9:00am in person and on zoom. \nhttps://us02web.zoom.us/j/83885789313?pwd=UkdrN25yMGRpTUIzNlRwejd1UWpjQT09 \nMeeting ID: 838 8578 9313\nPasscode: 165936
URL:https://templeisraelorlando.org/event/sunday-minyan/2028-01-23/
LOCATION:Temple Israel\, 50 S Moss Road\, Winter Springs\, FL\, 32708\, United States
CATEGORIES:Services
END:VEVENT
BEGIN:VEVENT
DTSTART;TZID=America/New_York:20280124T190000
DTEND;TZID=America/New_York:20280124T200000
DTSTAMP:20260419T233818
CREATED:20240507T032905Z
LAST-MODIFIED:20250825T133443Z
UID:10006513-1832353200-1832356800@templeisraelorlando.org
SUMMARY:Board of Directors
DESCRIPTION:
URL:https://templeisraelorlando.org/event/board-of-directors/2028-01-24/
CATEGORIES:Committee meeting
END:VEVENT
BEGIN:VEVENT
DTSTART;TZID=America/New_York:20280125T193000
DTEND;TZID=America/New_York:20280125T203000
DTSTAMP:20260419T233818
CREATED:20250630T172741Z
LAST-MODIFIED:20250825T133756Z
UID:10003144-1832441400-1832445000@templeisraelorlando.org
SUMMARY:Membership Committee Meeting
DESCRIPTION:
URL:https://templeisraelorlando.org/event/membership-committee-meeting-3/2028-01-25/
CATEGORIES:Committee meeting
END:VEVENT
BEGIN:VEVENT
DTSTART;TZID=America/New_York:20280126T120000
DTEND;TZID=America/New_York:20280126T130000
DTSTAMP:20260419T233818
CREATED:20260224T125059Z
LAST-MODIFIED:20260318T180202Z
UID:10007001-1832500800-1832504400@templeisraelorlando.org
SUMMARY:Lunchtime class with Rabbi Neely
DESCRIPTION:
URL:https://templeisraelorlando.org/event/lunchtime-class-with-rabbi-neely/2028-01-26/
CATEGORIES:Classes
END:VEVENT
BEGIN:VEVENT
DTSTART;TZID=America/New_York:20280127T190000
DTEND;TZID=America/New_York:20280127T203000
DTSTAMP:20260419T233818
CREATED:20260412T165154Z
LAST-MODIFIED:20260412T165154Z
UID:10007294-1832612400-1832617800@templeisraelorlando.org
SUMMARY:TI Men's Club Monthly Social @ The Back Porch
DESCRIPTION:Join Men’s Club on the 4th Thursday of each month @ 7 PM at The Back Porch\, 145 Wekiva Springs Rd #161\, Longwood.
URL:https://templeisraelorlando.org/event/ti-mens-club-monthly-social-the-back-porch/2028-01-27/
CATEGORIES:Event
END:VEVENT
BEGIN:VEVENT
DTSTART;TZID=America/New_York:20280128T190000
DTEND;TZID=America/New_York:20280128T200000
DTSTAMP:20260419T233818
CREATED:20240507T020417Z
LAST-MODIFIED:20260108T191902Z
UID:10004820-1832698800-1832702400@templeisraelorlando.org
SUMMARY:Kabbalat Shabbat
DESCRIPTION:
URL:https://templeisraelorlando.org/event/kabbalat-shabbat/2028-01-28/
CATEGORIES:Services
END:VEVENT
END:VCALENDAR