BEGIN:VCALENDAR
VERSION:2.0
PRODID:-//Temple Israel - ECPv6.15.17.1//NONSGML v1.0//EN
CALSCALE:GREGORIAN
METHOD:PUBLISH
X-WR-CALNAME:Temple Israel
X-ORIGINAL-URL:https://templeisraelorlando.org
X-WR-CALDESC:Events for Temple Israel
REFRESH-INTERVAL;VALUE=DURATION:PT1H
X-Robots-Tag:noindex
X-PUBLISHED-TTL:PT1H
BEGIN:VTIMEZONE
TZID:UTC
BEGIN:STANDARD
TZOFFSETFROM:+0000
TZOFFSETTO:+0000
TZNAME:UTC
DTSTART:20230101T000000
END:STANDARD
END:VTIMEZONE
BEGIN:VEVENT
DTSTART;TZID=UTC:20240428T100000
DTEND;TZID=UTC:20240428T120000
DTSTAMP:20260423T205255
CREATED:20240411T003159Z
LAST-MODIFIED:20240418T123335Z
UID:10000009-1714298400-1714305600@templeisraelorlando.org
SUMMARY:Paint-by-Numbers Sisterhood Event
DESCRIPTION:The last session of this 4-part event is April 28th from 10 am to 12 noon. There is still time to join us! Just contact Yaela Marks by email (yaelamarks@gmail.com) to pick out your picture as soon as possible!
URL:https://templeisraelorlando.org/event/paint-by-numbers-sisterhood-event/
ATTACH;FMTTYPE=image/png:https://templeisraelorlando.org/wp-content/uploads/2024/04/Copy-of-The-second-session-of-Sisterhoods-Paint-by-Numbers-event-was-absolutely-fabulous-We-doubled-the-number-of-participants-and-it-was-such-fun-Thank-you-to-Yaela-Marks-for-organizing-everyt-2.png
END:VEVENT
BEGIN:VEVENT
DTSTART;TZID=UTC:20240326T080000
DTEND;TZID=UTC:20240326T170000
DTSTAMP:20260423T205255
CREATED:20211106T210849Z
LAST-MODIFIED:20240325T180134Z
UID:10000008-1711440000-1711472400@templeisraelorlando.org
SUMMARY:Event 4
DESCRIPTION:LOREM ISPUSM
URL:https://templeisraelorlando.org/event/event-4/
CATEGORIES:Featured
ATTACH;FMTTYPE=image/jpeg:https://templeisraelorlando.org/wp-content/uploads/2023/06/TIEventWedding.jpeg
END:VEVENT
END:VCALENDAR