BEGIN:VCALENDAR
VERSION:2.0
PRODID:-//Temple Israel - ECPv6.15.17.1//NONSGML v1.0//EN
CALSCALE:GREGORIAN
METHOD:PUBLISH
X-WR-CALNAME:Temple Israel
X-ORIGINAL-URL:https://templeisraelorlando.org
X-WR-CALDESC:Events for Temple Israel
REFRESH-INTERVAL;VALUE=DURATION:PT1H
X-Robots-Tag:noindex
X-PUBLISHED-TTL:PT1H
BEGIN:VTIMEZONE
TZID:America/New_York
BEGIN:DAYLIGHT
TZOFFSETFROM:-0500
TZOFFSETTO:-0400
TZNAME:EDT
DTSTART:20290311T070000
END:DAYLIGHT
BEGIN:STANDARD
TZOFFSETFROM:-0400
TZOFFSETTO:-0500
TZNAME:EST
DTSTART:20291104T060000
END:STANDARD
BEGIN:DAYLIGHT
TZOFFSETFROM:-0500
TZOFFSETTO:-0400
TZNAME:EDT
DTSTART:20300310T070000
END:DAYLIGHT
BEGIN:STANDARD
TZOFFSETFROM:-0400
TZOFFSETTO:-0500
TZNAME:EST
DTSTART:20301103T060000
END:STANDARD
BEGIN:DAYLIGHT
TZOFFSETFROM:-0500
TZOFFSETTO:-0400
TZNAME:EDT
DTSTART:20310309T070000
END:DAYLIGHT
BEGIN:STANDARD
TZOFFSETFROM:-0400
TZOFFSETTO:-0500
TZNAME:EST
DTSTART:20311102T060000
END:STANDARD
END:VTIMEZONE
BEGIN:VEVENT
DTSTART;TZID=America/New_York:20300519T090000
DTEND;TZID=America/New_York:20300519T093000
DTSTAMP:20260423T200931
CREATED:20240507T021438Z
LAST-MODIFIED:20250715T172314Z
UID:10005638-1905411600-1905413400@templeisraelorlando.org
SUMMARY:Sunday Minyan
DESCRIPTION:Our minyan starts at 9:00am in person and on zoom. \nhttps://us02web.zoom.us/j/83885789313?pwd=UkdrN25yMGRpTUIzNlRwejd1UWpjQT09 \nMeeting ID: 838 8578 9313\nPasscode: 165936
URL:https://templeisraelorlando.org/event/sunday-minyan/2030-05-19/
LOCATION:Temple Israel\, 50 S Moss Road\, Winter Springs\, FL\, 32708\, United States
CATEGORIES:Services
END:VEVENT
BEGIN:VEVENT
DTSTART;TZID=America/New_York:20300522T120000
DTEND;TZID=America/New_York:20300522T130000
DTSTAMP:20260423T200931
CREATED:20260224T125059Z
LAST-MODIFIED:20260318T180202Z
UID:10007122-1905681600-1905685200@templeisraelorlando.org
SUMMARY:Lunchtime class with Rabbi Neely
DESCRIPTION:
URL:https://templeisraelorlando.org/event/lunchtime-class-with-rabbi-neely/2030-05-22/
LOCATION:FL
CATEGORIES:Classes
END:VEVENT
BEGIN:VEVENT
DTSTART;TZID=America/New_York:20300523T190000
DTEND;TZID=America/New_York:20300523T203000
DTSTAMP:20260423T200931
CREATED:20260412T165154Z
LAST-MODIFIED:20260412T165154Z
UID:10007322-1905793200-1905798600@templeisraelorlando.org
SUMMARY:TI Men's Club Monthly Social @ The Back Porch
DESCRIPTION:Join Men’s Club on the 4th Thursday of each month @ 7 PM at The Back Porch\, 145 Wekiva Springs Rd #161\, Longwood.
URL:https://templeisraelorlando.org/event/ti-mens-club-monthly-social-the-back-porch/2030-05-23/
LOCATION:FL
CATEGORIES:Event
END:VEVENT
BEGIN:VEVENT
DTSTART;TZID=America/New_York:20300524T190000
DTEND;TZID=America/New_York:20300524T200000
DTSTAMP:20260423T200931
CREATED:20240507T020417Z
LAST-MODIFIED:20260108T191902Z
UID:10004913-1905879600-1905883200@templeisraelorlando.org
SUMMARY:Kabbalat Shabbat
DESCRIPTION:
URL:https://templeisraelorlando.org/event/kabbalat-shabbat/2030-05-24/
LOCATION:FL
CATEGORIES:Services
END:VEVENT
BEGIN:VEVENT
DTSTART;TZID=America/New_York:20300525T093000
DTEND;TZID=America/New_York:20300525T120000
DTSTAMP:20260423T200931
CREATED:20250715T172155Z
LAST-MODIFIED:20250715T172816Z
UID:10006338-1905931800-1905940800@templeisraelorlando.org
SUMMARY:Shabbat Services
DESCRIPTION:
URL:https://templeisraelorlando.org/event/shabbat-services-2/2030-05-25/
LOCATION:Temple Israel\, 50 S Moss Road\, Winter Springs\, FL\, 32708\, United States
CATEGORIES:Services
END:VEVENT
BEGIN:VEVENT
DTSTART;TZID=America/New_York:20300526T090000
DTEND;TZID=America/New_York:20300526T093000
DTSTAMP:20260423T200931
CREATED:20240507T021438Z
LAST-MODIFIED:20250715T172314Z
UID:10005639-1906016400-1906018200@templeisraelorlando.org
SUMMARY:Sunday Minyan
DESCRIPTION:Our minyan starts at 9:00am in person and on zoom. \nhttps://us02web.zoom.us/j/83885789313?pwd=UkdrN25yMGRpTUIzNlRwejd1UWpjQT09 \nMeeting ID: 838 8578 9313\nPasscode: 165936
URL:https://templeisraelorlando.org/event/sunday-minyan/2030-05-26/
LOCATION:Temple Israel\, 50 S Moss Road\, Winter Springs\, FL\, 32708\, United States
CATEGORIES:Services
END:VEVENT
BEGIN:VEVENT
DTSTART;TZID=America/New_York:20300527T190000
DTEND;TZID=America/New_York:20300527T200000
DTSTAMP:20260423T200931
CREATED:20240507T032905Z
LAST-MODIFIED:20250825T133443Z
UID:10006541-1906138800-1906142400@templeisraelorlando.org
SUMMARY:Board of Directors
DESCRIPTION:
URL:https://templeisraelorlando.org/event/board-of-directors/2030-05-27/
LOCATION:FL
CATEGORIES:Committee meeting
END:VEVENT
BEGIN:VEVENT
DTSTART;TZID=America/New_York:20300528T193000
DTEND;TZID=America/New_York:20300528T203000
DTSTAMP:20260423T200931
CREATED:20250630T172741Z
LAST-MODIFIED:20250825T133756Z
UID:10003172-1906227000-1906230600@templeisraelorlando.org
SUMMARY:Membership Committee Meeting
DESCRIPTION:
URL:https://templeisraelorlando.org/event/membership-committee-meeting-3/2030-05-28/
LOCATION:FL
CATEGORIES:Committee meeting
END:VEVENT
BEGIN:VEVENT
DTSTART;TZID=America/New_York:20300529T120000
DTEND;TZID=America/New_York:20300529T130000
DTSTAMP:20260423T200931
CREATED:20260224T125059Z
LAST-MODIFIED:20260318T180202Z
UID:10007123-1906286400-1906290000@templeisraelorlando.org
SUMMARY:Lunchtime class with Rabbi Neely
DESCRIPTION:
URL:https://templeisraelorlando.org/event/lunchtime-class-with-rabbi-neely/2030-05-29/
LOCATION:FL
CATEGORIES:Classes
END:VEVENT
BEGIN:VEVENT
DTSTART;TZID=America/New_York:20300531T190000
DTEND;TZID=America/New_York:20300531T200000
DTSTAMP:20260423T200931
CREATED:20240507T020417Z
LAST-MODIFIED:20260108T191902Z
UID:10004914-1906484400-1906488000@templeisraelorlando.org
SUMMARY:Kabbalat Shabbat
DESCRIPTION:
URL:https://templeisraelorlando.org/event/kabbalat-shabbat/2030-05-31/
LOCATION:FL
CATEGORIES:Services
END:VEVENT
BEGIN:VEVENT
DTSTART;TZID=America/New_York:20300601T093000
DTEND;TZID=America/New_York:20300601T120000
DTSTAMP:20260423T200931
CREATED:20250715T172155Z
LAST-MODIFIED:20250715T172816Z
UID:10006339-1906536600-1906545600@templeisraelorlando.org
SUMMARY:Shabbat Services
DESCRIPTION:
URL:https://templeisraelorlando.org/event/shabbat-services-2/2030-06-01/
LOCATION:Temple Israel\, 50 S Moss Road\, Winter Springs\, FL\, 32708\, United States
CATEGORIES:Services
END:VEVENT
BEGIN:VEVENT
DTSTART;TZID=America/New_York:20300602T090000
DTEND;TZID=America/New_York:20300602T093000
DTSTAMP:20260423T200931
CREATED:20240507T021438Z
LAST-MODIFIED:20250715T172314Z
UID:10005640-1906621200-1906623000@templeisraelorlando.org
SUMMARY:Sunday Minyan
DESCRIPTION:Our minyan starts at 9:00am in person and on zoom. \nhttps://us02web.zoom.us/j/83885789313?pwd=UkdrN25yMGRpTUIzNlRwejd1UWpjQT09 \nMeeting ID: 838 8578 9313\nPasscode: 165936
URL:https://templeisraelorlando.org/event/sunday-minyan/2030-06-02/
LOCATION:Temple Israel\, 50 S Moss Road\, Winter Springs\, FL\, 32708\, United States
CATEGORIES:Services
END:VEVENT
BEGIN:VEVENT
DTSTART;TZID=America/New_York:20300605T120000
DTEND;TZID=America/New_York:20300605T130000
DTSTAMP:20260423T200931
CREATED:20260224T125059Z
LAST-MODIFIED:20260318T180202Z
UID:10007124-1906891200-1906894800@templeisraelorlando.org
SUMMARY:Lunchtime class with Rabbi Neely
DESCRIPTION:
URL:https://templeisraelorlando.org/event/lunchtime-class-with-rabbi-neely/2030-06-05/
LOCATION:FL
CATEGORIES:Classes
END:VEVENT
BEGIN:VEVENT
DTSTART;TZID=America/New_York:20300607T180000
DTEND;TZID=America/New_York:20300607T190000
DTSTAMP:20260423T200931
CREATED:20250724T120311Z
LAST-MODIFIED:20260406T182700Z
UID:10006665-1907085600-1907089200@templeisraelorlando.org
SUMMARY:Kabbalat Shabbat
DESCRIPTION:
URL:https://templeisraelorlando.org/event/kabbalat-shabbat-2-2/2030-06-07/
LOCATION:Temple Israel\, 50 S Moss Road\, Winter Springs\, FL\, 32708\, United States
CATEGORIES:Services
END:VEVENT
BEGIN:VEVENT
DTSTART;TZID=America/New_York:20300608T093000
DTEND;TZID=America/New_York:20300608T120000
DTSTAMP:20260423T200931
CREATED:20250715T172155Z
LAST-MODIFIED:20250715T172816Z
UID:10006340-1907141400-1907150400@templeisraelorlando.org
SUMMARY:Shabbat Services
DESCRIPTION:
URL:https://templeisraelorlando.org/event/shabbat-services-2/2030-06-08/
LOCATION:Temple Israel\, 50 S Moss Road\, Winter Springs\, FL\, 32708\, United States
CATEGORIES:Services
END:VEVENT
BEGIN:VEVENT
DTSTART;TZID=America/New_York:20300609T090000
DTEND;TZID=America/New_York:20300609T093000
DTSTAMP:20260423T200931
CREATED:20240507T021438Z
LAST-MODIFIED:20250715T172314Z
UID:10005641-1907226000-1907227800@templeisraelorlando.org
SUMMARY:Sunday Minyan
DESCRIPTION:Our minyan starts at 9:00am in person and on zoom. \nhttps://us02web.zoom.us/j/83885789313?pwd=UkdrN25yMGRpTUIzNlRwejd1UWpjQT09 \nMeeting ID: 838 8578 9313\nPasscode: 165936
URL:https://templeisraelorlando.org/event/sunday-minyan/2030-06-09/
LOCATION:Temple Israel\, 50 S Moss Road\, Winter Springs\, FL\, 32708\, United States
CATEGORIES:Services
END:VEVENT
BEGIN:VEVENT
DTSTART;TZID=America/New_York:20300610T190000
DTEND;TZID=America/New_York:20300610T200000
DTSTAMP:20260423T200931
CREATED:20240827T002911Z
LAST-MODIFIED:20250928T233226Z
UID:10006473-1907348400-1907352000@templeisraelorlando.org
SUMMARY:Executive Committee
DESCRIPTION:
URL:https://templeisraelorlando.org/event/executive-committee-2-2/2030-06-10/
LOCATION:FL
END:VEVENT
BEGIN:VEVENT
DTSTART;TZID=America/New_York:20300612T120000
DTEND;TZID=America/New_York:20300612T130000
DTSTAMP:20260423T200931
CREATED:20260224T125059Z
LAST-MODIFIED:20260318T180202Z
UID:10007125-1907496000-1907499600@templeisraelorlando.org
SUMMARY:Lunchtime class with Rabbi Neely
DESCRIPTION:
URL:https://templeisraelorlando.org/event/lunchtime-class-with-rabbi-neely/2030-06-12/
LOCATION:FL
CATEGORIES:Classes
END:VEVENT
BEGIN:VEVENT
DTSTART;TZID=America/New_York:20300614T170000
DTEND;TZID=America/New_York:20300614T183000
DTSTAMP:20260423T200931
CREATED:20260412T164837Z
LAST-MODIFIED:20260412T165527Z
UID:10007262-1907686800-1907692200@templeisraelorlando.org
SUMMARY:TI Men's Club Warm-Up Dinner @ Corfu Restaurant
DESCRIPTION:Join Men’s Club for dinner on the 2nd Friday of each month at Corfu Restaurant\, 124 W SR 434\, Winter Springs.
URL:https://templeisraelorlando.org/event/ti-mens-club-warm-up-dinner/2030-06-14/
LOCATION:FL
CATEGORIES:Event
END:VEVENT
BEGIN:VEVENT
DTSTART;TZID=America/New_York:20300614T190000
DTEND;TZID=America/New_York:20300614T200000
DTSTAMP:20260423T200931
CREATED:20240507T020417Z
LAST-MODIFIED:20260108T191902Z
UID:10004915-1907694000-1907697600@templeisraelorlando.org
SUMMARY:Kabbalat Shabbat
DESCRIPTION:
URL:https://templeisraelorlando.org/event/kabbalat-shabbat/2030-06-14/
LOCATION:FL
CATEGORIES:Services
END:VEVENT
BEGIN:VEVENT
DTSTART;TZID=America/New_York:20300615T093000
DTEND;TZID=America/New_York:20300615T120000
DTSTAMP:20260423T200931
CREATED:20250715T172155Z
LAST-MODIFIED:20250715T172816Z
UID:10006341-1907746200-1907755200@templeisraelorlando.org
SUMMARY:Shabbat Services
DESCRIPTION:
URL:https://templeisraelorlando.org/event/shabbat-services-2/2030-06-15/
LOCATION:Temple Israel\, 50 S Moss Road\, Winter Springs\, FL\, 32708\, United States
CATEGORIES:Services
END:VEVENT
BEGIN:VEVENT
DTSTART;TZID=America/New_York:20300615T110000
DTEND;TZID=America/New_York:20300615T234500
DTSTAMP:20260423T200931
CREATED:20240507T033334Z
LAST-MODIFIED:20250715T172956Z
UID:10006414-1907751600-1907797500@templeisraelorlando.org
SUMMARY:Tot Shabbat
DESCRIPTION:
URL:https://templeisraelorlando.org/event/tot-shabbat/2030-06-15/
LOCATION:FL
CATEGORIES:Family
END:VEVENT
BEGIN:VEVENT
DTSTART;TZID=America/New_York:20300616T090000
DTEND;TZID=America/New_York:20300616T093000
DTSTAMP:20260423T200931
CREATED:20240507T021438Z
LAST-MODIFIED:20250715T172314Z
UID:10005642-1907830800-1907832600@templeisraelorlando.org
SUMMARY:Sunday Minyan
DESCRIPTION:Our minyan starts at 9:00am in person and on zoom. \nhttps://us02web.zoom.us/j/83885789313?pwd=UkdrN25yMGRpTUIzNlRwejd1UWpjQT09 \nMeeting ID: 838 8578 9313\nPasscode: 165936
URL:https://templeisraelorlando.org/event/sunday-minyan/2030-06-16/
LOCATION:Temple Israel\, 50 S Moss Road\, Winter Springs\, FL\, 32708\, United States
CATEGORIES:Services
END:VEVENT
BEGIN:VEVENT
DTSTART;TZID=America/New_York:20300619T120000
DTEND;TZID=America/New_York:20300619T130000
DTSTAMP:20260423T200931
CREATED:20260224T125059Z
LAST-MODIFIED:20260318T180202Z
UID:10007126-1908100800-1908104400@templeisraelorlando.org
SUMMARY:Lunchtime class with Rabbi Neely
DESCRIPTION:
URL:https://templeisraelorlando.org/event/lunchtime-class-with-rabbi-neely/2030-06-19/
LOCATION:FL
CATEGORIES:Classes
END:VEVENT
BEGIN:VEVENT
DTSTART;TZID=America/New_York:20300621T190000
DTEND;TZID=America/New_York:20300621T200000
DTSTAMP:20260423T200931
CREATED:20240507T020417Z
LAST-MODIFIED:20260108T191902Z
UID:10004916-1908298800-1908302400@templeisraelorlando.org
SUMMARY:Kabbalat Shabbat
DESCRIPTION:
URL:https://templeisraelorlando.org/event/kabbalat-shabbat/2030-06-21/
LOCATION:FL
CATEGORIES:Services
END:VEVENT
BEGIN:VEVENT
DTSTART;TZID=America/New_York:20300622T093000
DTEND;TZID=America/New_York:20300622T120000
DTSTAMP:20260423T200931
CREATED:20250715T172155Z
LAST-MODIFIED:20250715T172816Z
UID:10006342-1908351000-1908360000@templeisraelorlando.org
SUMMARY:Shabbat Services
DESCRIPTION:
URL:https://templeisraelorlando.org/event/shabbat-services-2/2030-06-22/
LOCATION:Temple Israel\, 50 S Moss Road\, Winter Springs\, FL\, 32708\, United States
CATEGORIES:Services
END:VEVENT
BEGIN:VEVENT
DTSTART;TZID=America/New_York:20300623T090000
DTEND;TZID=America/New_York:20300623T093000
DTSTAMP:20260423T200931
CREATED:20240507T021438Z
LAST-MODIFIED:20250715T172314Z
UID:10005643-1908435600-1908437400@templeisraelorlando.org
SUMMARY:Sunday Minyan
DESCRIPTION:Our minyan starts at 9:00am in person and on zoom. \nhttps://us02web.zoom.us/j/83885789313?pwd=UkdrN25yMGRpTUIzNlRwejd1UWpjQT09 \nMeeting ID: 838 8578 9313\nPasscode: 165936
URL:https://templeisraelorlando.org/event/sunday-minyan/2030-06-23/
LOCATION:Temple Israel\, 50 S Moss Road\, Winter Springs\, FL\, 32708\, United States
CATEGORIES:Services
END:VEVENT
BEGIN:VEVENT
DTSTART;TZID=America/New_York:20300624T190000
DTEND;TZID=America/New_York:20300624T200000
DTSTAMP:20260423T200931
CREATED:20240507T032905Z
LAST-MODIFIED:20250825T133443Z
UID:10006542-1908558000-1908561600@templeisraelorlando.org
SUMMARY:Board of Directors
DESCRIPTION:
URL:https://templeisraelorlando.org/event/board-of-directors/2030-06-24/
LOCATION:FL
CATEGORIES:Committee meeting
END:VEVENT
BEGIN:VEVENT
DTSTART;TZID=America/New_York:20300625T193000
DTEND;TZID=America/New_York:20300625T203000
DTSTAMP:20260423T200931
CREATED:20250630T172741Z
LAST-MODIFIED:20250825T133756Z
UID:10003173-1908646200-1908649800@templeisraelorlando.org
SUMMARY:Membership Committee Meeting
DESCRIPTION:
URL:https://templeisraelorlando.org/event/membership-committee-meeting-3/2030-06-25/
LOCATION:FL
CATEGORIES:Committee meeting
END:VEVENT
BEGIN:VEVENT
DTSTART;TZID=America/New_York:20300626T120000
DTEND;TZID=America/New_York:20300626T130000
DTSTAMP:20260423T200931
CREATED:20260224T125059Z
LAST-MODIFIED:20260318T180202Z
UID:10007127-1908705600-1908709200@templeisraelorlando.org
SUMMARY:Lunchtime class with Rabbi Neely
DESCRIPTION:
URL:https://templeisraelorlando.org/event/lunchtime-class-with-rabbi-neely/2030-06-26/
LOCATION:FL
CATEGORIES:Classes
END:VEVENT
END:VCALENDAR