BEGIN:VCALENDAR
VERSION:2.0
PRODID:-//Temple Israel - ECPv6.15.17.1//NONSGML v1.0//EN
CALSCALE:GREGORIAN
METHOD:PUBLISH
X-WR-CALNAME:Temple Israel
X-ORIGINAL-URL:https://templeisraelorlando.org
X-WR-CALDESC:Events for Temple Israel
REFRESH-INTERVAL;VALUE=DURATION:PT1H
X-Robots-Tag:noindex
X-PUBLISHED-TTL:PT1H
BEGIN:VTIMEZONE
TZID:America/New_York
BEGIN:DAYLIGHT
TZOFFSETFROM:-0500
TZOFFSETTO:-0400
TZNAME:EDT
DTSTART:20270314T070000
END:DAYLIGHT
BEGIN:STANDARD
TZOFFSETFROM:-0400
TZOFFSETTO:-0500
TZNAME:EST
DTSTART:20271107T060000
END:STANDARD
BEGIN:DAYLIGHT
TZOFFSETFROM:-0500
TZOFFSETTO:-0400
TZNAME:EDT
DTSTART:20280312T070000
END:DAYLIGHT
BEGIN:STANDARD
TZOFFSETFROM:-0400
TZOFFSETTO:-0500
TZNAME:EST
DTSTART:20281105T060000
END:STANDARD
BEGIN:DAYLIGHT
TZOFFSETFROM:-0500
TZOFFSETTO:-0400
TZNAME:EDT
DTSTART:20290311T070000
END:DAYLIGHT
BEGIN:STANDARD
TZOFFSETFROM:-0400
TZOFFSETTO:-0500
TZNAME:EST
DTSTART:20291104T060000
END:STANDARD
END:VTIMEZONE
BEGIN:VEVENT
DTSTART;TZID=America/New_York:20280923T093000
DTEND;TZID=America/New_York:20280923T120000
DTSTAMP:20260421T012839
CREATED:20250715T172155Z
LAST-MODIFIED:20250715T172816Z
UID:10006251-1853314200-1853323200@templeisraelorlando.org
SUMMARY:Shabbat Services
DESCRIPTION:
URL:https://templeisraelorlando.org/event/shabbat-services-2/2028-09-23/
LOCATION:Temple Israel\, 50 S Moss Road\, Winter Springs\, FL\, 32708\, United States
CATEGORIES:Services
END:VEVENT
BEGIN:VEVENT
DTSTART;TZID=America/New_York:20280924T090000
DTEND;TZID=America/New_York:20280924T093000
DTSTAMP:20260421T012839
CREATED:20240507T021438Z
LAST-MODIFIED:20250715T172314Z
UID:10005552-1853398800-1853400600@templeisraelorlando.org
SUMMARY:Sunday Minyan
DESCRIPTION:Our minyan starts at 9:00am in person and on zoom. \nhttps://us02web.zoom.us/j/83885789313?pwd=UkdrN25yMGRpTUIzNlRwejd1UWpjQT09 \nMeeting ID: 838 8578 9313\nPasscode: 165936
URL:https://templeisraelorlando.org/event/sunday-minyan/2028-09-24/
LOCATION:Temple Israel\, 50 S Moss Road\, Winter Springs\, FL\, 32708\, United States
CATEGORIES:Services
END:VEVENT
BEGIN:VEVENT
DTSTART;TZID=America/New_York:20280925T190000
DTEND;TZID=America/New_York:20280925T200000
DTSTAMP:20260421T012839
CREATED:20240507T032905Z
LAST-MODIFIED:20250825T133443Z
UID:10006521-1853521200-1853524800@templeisraelorlando.org
SUMMARY:Board of Directors
DESCRIPTION:
URL:https://templeisraelorlando.org/event/board-of-directors/2028-09-25/
CATEGORIES:Committee meeting
END:VEVENT
BEGIN:VEVENT
DTSTART;TZID=America/New_York:20280926T193000
DTEND;TZID=America/New_York:20280926T203000
DTSTAMP:20260421T012839
CREATED:20250630T172741Z
LAST-MODIFIED:20250825T133756Z
UID:10003152-1853609400-1853613000@templeisraelorlando.org
SUMMARY:Membership Committee Meeting
DESCRIPTION:
URL:https://templeisraelorlando.org/event/membership-committee-meeting-3/2028-09-26/
CATEGORIES:Committee meeting
END:VEVENT
BEGIN:VEVENT
DTSTART;TZID=America/New_York:20280927T120000
DTEND;TZID=America/New_York:20280927T130000
DTSTAMP:20260421T012839
CREATED:20260224T125059Z
LAST-MODIFIED:20260318T180202Z
UID:10007036-1853668800-1853672400@templeisraelorlando.org
SUMMARY:Lunchtime class with Rabbi Neely
DESCRIPTION:
URL:https://templeisraelorlando.org/event/lunchtime-class-with-rabbi-neely/2028-09-27/
CATEGORIES:Classes
END:VEVENT
BEGIN:VEVENT
DTSTART;TZID=America/New_York:20280928T190000
DTEND;TZID=America/New_York:20280928T203000
DTSTAMP:20260421T012839
CREATED:20260412T165154Z
LAST-MODIFIED:20260412T165154Z
UID:10007302-1853780400-1853785800@templeisraelorlando.org
SUMMARY:TI Men's Club Monthly Social @ The Back Porch
DESCRIPTION:Join Men’s Club on the 4th Thursday of each month @ 7 PM at The Back Porch\, 145 Wekiva Springs Rd #161\, Longwood.
URL:https://templeisraelorlando.org/event/ti-mens-club-monthly-social-the-back-porch/2028-09-28/
CATEGORIES:Event
END:VEVENT
BEGIN:VEVENT
DTSTART;TZID=America/New_York:20280929T190000
DTEND;TZID=America/New_York:20280929T200000
DTSTAMP:20260421T012839
CREATED:20240507T020417Z
LAST-MODIFIED:20260108T191902Z
UID:10004847-1853866800-1853870400@templeisraelorlando.org
SUMMARY:Kabbalat Shabbat
DESCRIPTION:
URL:https://templeisraelorlando.org/event/kabbalat-shabbat/2028-09-29/
CATEGORIES:Services
END:VEVENT
BEGIN:VEVENT
DTSTART;TZID=America/New_York:20280930T093000
DTEND;TZID=America/New_York:20280930T120000
DTSTAMP:20260421T012839
CREATED:20250715T172155Z
LAST-MODIFIED:20250715T172816Z
UID:10006252-1853919000-1853928000@templeisraelorlando.org
SUMMARY:Shabbat Services
DESCRIPTION:
URL:https://templeisraelorlando.org/event/shabbat-services-2/2028-09-30/
LOCATION:Temple Israel\, 50 S Moss Road\, Winter Springs\, FL\, 32708\, United States
CATEGORIES:Services
END:VEVENT
BEGIN:VEVENT
DTSTART;TZID=America/New_York:20281001T090000
DTEND;TZID=America/New_York:20281001T093000
DTSTAMP:20260421T012839
CREATED:20240507T021438Z
LAST-MODIFIED:20250715T172314Z
UID:10005553-1854003600-1854005400@templeisraelorlando.org
SUMMARY:Sunday Minyan
DESCRIPTION:Our minyan starts at 9:00am in person and on zoom. \nhttps://us02web.zoom.us/j/83885789313?pwd=UkdrN25yMGRpTUIzNlRwejd1UWpjQT09 \nMeeting ID: 838 8578 9313\nPasscode: 165936
URL:https://templeisraelorlando.org/event/sunday-minyan/2028-10-01/
LOCATION:Temple Israel\, 50 S Moss Road\, Winter Springs\, FL\, 32708\, United States
CATEGORIES:Services
END:VEVENT
BEGIN:VEVENT
DTSTART;TZID=America/New_York:20281004T120000
DTEND;TZID=America/New_York:20281004T130000
DTSTAMP:20260421T012839
CREATED:20260224T125059Z
LAST-MODIFIED:20260318T180202Z
UID:10007037-1854273600-1854277200@templeisraelorlando.org
SUMMARY:Lunchtime class with Rabbi Neely
DESCRIPTION:
URL:https://templeisraelorlando.org/event/lunchtime-class-with-rabbi-neely/2028-10-04/
CATEGORIES:Classes
END:VEVENT
BEGIN:VEVENT
DTSTART;TZID=America/New_York:20281006T180000
DTEND;TZID=America/New_York:20281006T190000
DTSTAMP:20260421T012839
CREATED:20250724T120311Z
LAST-MODIFIED:20260406T182700Z
UID:10006645-1854468000-1854471600@templeisraelorlando.org
SUMMARY:Kabbalat Shabbat
DESCRIPTION:
URL:https://templeisraelorlando.org/event/kabbalat-shabbat-2-2/2028-10-06/
LOCATION:Temple Israel\, 50 S Moss Road\, Winter Springs\, FL\, 32708\, United States
CATEGORIES:Services
END:VEVENT
BEGIN:VEVENT
DTSTART;TZID=America/New_York:20281007T093000
DTEND;TZID=America/New_York:20281007T120000
DTSTAMP:20260421T012839
CREATED:20250715T172155Z
LAST-MODIFIED:20250715T172816Z
UID:10006253-1854523800-1854532800@templeisraelorlando.org
SUMMARY:Shabbat Services
DESCRIPTION:
URL:https://templeisraelorlando.org/event/shabbat-services-2/2028-10-07/
LOCATION:Temple Israel\, 50 S Moss Road\, Winter Springs\, FL\, 32708\, United States
CATEGORIES:Services
END:VEVENT
BEGIN:VEVENT
DTSTART;TZID=America/New_York:20281008T090000
DTEND;TZID=America/New_York:20281008T093000
DTSTAMP:20260421T012839
CREATED:20240507T021438Z
LAST-MODIFIED:20250715T172314Z
UID:10005554-1854608400-1854610200@templeisraelorlando.org
SUMMARY:Sunday Minyan
DESCRIPTION:Our minyan starts at 9:00am in person and on zoom. \nhttps://us02web.zoom.us/j/83885789313?pwd=UkdrN25yMGRpTUIzNlRwejd1UWpjQT09 \nMeeting ID: 838 8578 9313\nPasscode: 165936
URL:https://templeisraelorlando.org/event/sunday-minyan/2028-10-08/
LOCATION:Temple Israel\, 50 S Moss Road\, Winter Springs\, FL\, 32708\, United States
CATEGORIES:Services
END:VEVENT
BEGIN:VEVENT
DTSTART;TZID=America/New_York:20281009T190000
DTEND;TZID=America/New_York:20281009T200000
DTSTAMP:20260421T012839
CREATED:20240827T002911Z
LAST-MODIFIED:20250928T233226Z
UID:10006453-1854730800-1854734400@templeisraelorlando.org
SUMMARY:Executive Committee
DESCRIPTION:
URL:https://templeisraelorlando.org/event/executive-committee-2-2/2028-10-09/
END:VEVENT
BEGIN:VEVENT
DTSTART;TZID=America/New_York:20281011T120000
DTEND;TZID=America/New_York:20281011T130000
DTSTAMP:20260421T012839
CREATED:20260224T125059Z
LAST-MODIFIED:20260318T180202Z
UID:10007038-1854878400-1854882000@templeisraelorlando.org
SUMMARY:Lunchtime class with Rabbi Neely
DESCRIPTION:
URL:https://templeisraelorlando.org/event/lunchtime-class-with-rabbi-neely/2028-10-11/
CATEGORIES:Classes
END:VEVENT
BEGIN:VEVENT
DTSTART;TZID=America/New_York:20281013T170000
DTEND;TZID=America/New_York:20281013T183000
DTSTAMP:20260421T012839
CREATED:20260412T164837Z
LAST-MODIFIED:20260412T165527Z
UID:10007242-1855069200-1855074600@templeisraelorlando.org
SUMMARY:TI Men's Club Warm-Up Dinner @ Corfu Restaurant
DESCRIPTION:Join Men’s Club for dinner on the 2nd Friday of each month at Corfu Restaurant\, 124 W SR 434\, Winter Springs.
URL:https://templeisraelorlando.org/event/ti-mens-club-warm-up-dinner/2028-10-13/
CATEGORIES:Event
END:VEVENT
BEGIN:VEVENT
DTSTART;TZID=America/New_York:20281013T190000
DTEND;TZID=America/New_York:20281013T200000
DTSTAMP:20260421T012839
CREATED:20240507T020417Z
LAST-MODIFIED:20260108T191902Z
UID:10004848-1855076400-1855080000@templeisraelorlando.org
SUMMARY:Kabbalat Shabbat
DESCRIPTION:
URL:https://templeisraelorlando.org/event/kabbalat-shabbat/2028-10-13/
CATEGORIES:Services
END:VEVENT
BEGIN:VEVENT
DTSTART;TZID=America/New_York:20281014T093000
DTEND;TZID=America/New_York:20281014T120000
DTSTAMP:20260421T012839
CREATED:20250715T172155Z
LAST-MODIFIED:20250715T172816Z
UID:10006254-1855128600-1855137600@templeisraelorlando.org
SUMMARY:Shabbat Services
DESCRIPTION:
URL:https://templeisraelorlando.org/event/shabbat-services-2/2028-10-14/
LOCATION:Temple Israel\, 50 S Moss Road\, Winter Springs\, FL\, 32708\, United States
CATEGORIES:Services
END:VEVENT
BEGIN:VEVENT
DTSTART;TZID=America/New_York:20281015T090000
DTEND;TZID=America/New_York:20281015T093000
DTSTAMP:20260421T012839
CREATED:20240507T021438Z
LAST-MODIFIED:20250715T172314Z
UID:10005555-1855213200-1855215000@templeisraelorlando.org
SUMMARY:Sunday Minyan
DESCRIPTION:Our minyan starts at 9:00am in person and on zoom. \nhttps://us02web.zoom.us/j/83885789313?pwd=UkdrN25yMGRpTUIzNlRwejd1UWpjQT09 \nMeeting ID: 838 8578 9313\nPasscode: 165936
URL:https://templeisraelorlando.org/event/sunday-minyan/2028-10-15/
LOCATION:Temple Israel\, 50 S Moss Road\, Winter Springs\, FL\, 32708\, United States
CATEGORIES:Services
END:VEVENT
BEGIN:VEVENT
DTSTART;TZID=America/New_York:20281018T120000
DTEND;TZID=America/New_York:20281018T130000
DTSTAMP:20260421T012839
CREATED:20260224T125059Z
LAST-MODIFIED:20260318T180202Z
UID:10007039-1855483200-1855486800@templeisraelorlando.org
SUMMARY:Lunchtime class with Rabbi Neely
DESCRIPTION:
URL:https://templeisraelorlando.org/event/lunchtime-class-with-rabbi-neely/2028-10-18/
CATEGORIES:Classes
END:VEVENT
BEGIN:VEVENT
DTSTART;TZID=America/New_York:20281020T190000
DTEND;TZID=America/New_York:20281020T200000
DTSTAMP:20260421T012839
CREATED:20240507T020417Z
LAST-MODIFIED:20260108T191902Z
UID:10004849-1855681200-1855684800@templeisraelorlando.org
SUMMARY:Kabbalat Shabbat
DESCRIPTION:
URL:https://templeisraelorlando.org/event/kabbalat-shabbat/2028-10-20/
CATEGORIES:Services
END:VEVENT
BEGIN:VEVENT
DTSTART;TZID=America/New_York:20281021T093000
DTEND;TZID=America/New_York:20281021T120000
DTSTAMP:20260421T012839
CREATED:20250715T172155Z
LAST-MODIFIED:20250715T172816Z
UID:10006255-1855733400-1855742400@templeisraelorlando.org
SUMMARY:Shabbat Services
DESCRIPTION:
URL:https://templeisraelorlando.org/event/shabbat-services-2/2028-10-21/
LOCATION:Temple Israel\, 50 S Moss Road\, Winter Springs\, FL\, 32708\, United States
CATEGORIES:Services
END:VEVENT
BEGIN:VEVENT
DTSTART;TZID=America/New_York:20281021T110000
DTEND;TZID=America/New_York:20281021T234500
DTSTAMP:20260421T012839
CREATED:20240507T033334Z
LAST-MODIFIED:20250715T172956Z
UID:10006394-1855738800-1855784700@templeisraelorlando.org
SUMMARY:Tot Shabbat
DESCRIPTION:
URL:https://templeisraelorlando.org/event/tot-shabbat/2028-10-21/
CATEGORIES:Family
END:VEVENT
BEGIN:VEVENT
DTSTART;TZID=America/New_York:20281022T090000
DTEND;TZID=America/New_York:20281022T093000
DTSTAMP:20260421T012839
CREATED:20240507T021438Z
LAST-MODIFIED:20250715T172314Z
UID:10005556-1855818000-1855819800@templeisraelorlando.org
SUMMARY:Sunday Minyan
DESCRIPTION:Our minyan starts at 9:00am in person and on zoom. \nhttps://us02web.zoom.us/j/83885789313?pwd=UkdrN25yMGRpTUIzNlRwejd1UWpjQT09 \nMeeting ID: 838 8578 9313\nPasscode: 165936
URL:https://templeisraelorlando.org/event/sunday-minyan/2028-10-22/
LOCATION:Temple Israel\, 50 S Moss Road\, Winter Springs\, FL\, 32708\, United States
CATEGORIES:Services
END:VEVENT
BEGIN:VEVENT
DTSTART;TZID=America/New_York:20281023T190000
DTEND;TZID=America/New_York:20281023T200000
DTSTAMP:20260421T012839
CREATED:20240507T032905Z
LAST-MODIFIED:20250825T133443Z
UID:10006522-1855940400-1855944000@templeisraelorlando.org
SUMMARY:Board of Directors
DESCRIPTION:
URL:https://templeisraelorlando.org/event/board-of-directors/2028-10-23/
CATEGORIES:Committee meeting
END:VEVENT
BEGIN:VEVENT
DTSTART;TZID=America/New_York:20281024T193000
DTEND;TZID=America/New_York:20281024T203000
DTSTAMP:20260421T012839
CREATED:20250630T172741Z
LAST-MODIFIED:20250825T133756Z
UID:10003153-1856028600-1856032200@templeisraelorlando.org
SUMMARY:Membership Committee Meeting
DESCRIPTION:
URL:https://templeisraelorlando.org/event/membership-committee-meeting-3/2028-10-24/
CATEGORIES:Committee meeting
END:VEVENT
BEGIN:VEVENT
DTSTART;TZID=America/New_York:20281025T120000
DTEND;TZID=America/New_York:20281025T130000
DTSTAMP:20260421T012839
CREATED:20260224T125059Z
LAST-MODIFIED:20260318T180202Z
UID:10007040-1856088000-1856091600@templeisraelorlando.org
SUMMARY:Lunchtime class with Rabbi Neely
DESCRIPTION:
URL:https://templeisraelorlando.org/event/lunchtime-class-with-rabbi-neely/2028-10-25/
CATEGORIES:Classes
END:VEVENT
BEGIN:VEVENT
DTSTART;TZID=America/New_York:20281026T190000
DTEND;TZID=America/New_York:20281026T203000
DTSTAMP:20260421T012839
CREATED:20260412T165154Z
LAST-MODIFIED:20260412T165154Z
UID:10007303-1856199600-1856205000@templeisraelorlando.org
SUMMARY:TI Men's Club Monthly Social @ The Back Porch
DESCRIPTION:Join Men’s Club on the 4th Thursday of each month @ 7 PM at The Back Porch\, 145 Wekiva Springs Rd #161\, Longwood.
URL:https://templeisraelorlando.org/event/ti-mens-club-monthly-social-the-back-porch/2028-10-26/
CATEGORIES:Event
END:VEVENT
BEGIN:VEVENT
DTSTART;TZID=America/New_York:20281027T190000
DTEND;TZID=America/New_York:20281027T200000
DTSTAMP:20260421T012839
CREATED:20240507T020417Z
LAST-MODIFIED:20260108T191902Z
UID:10004850-1856286000-1856289600@templeisraelorlando.org
SUMMARY:Kabbalat Shabbat
DESCRIPTION:
URL:https://templeisraelorlando.org/event/kabbalat-shabbat/2028-10-27/
CATEGORIES:Services
END:VEVENT
BEGIN:VEVENT
DTSTART;TZID=America/New_York:20281028T093000
DTEND;TZID=America/New_York:20281028T120000
DTSTAMP:20260421T012839
CREATED:20250715T172155Z
LAST-MODIFIED:20250715T172816Z
UID:10006256-1856338200-1856347200@templeisraelorlando.org
SUMMARY:Shabbat Services
DESCRIPTION:
URL:https://templeisraelorlando.org/event/shabbat-services-2/2028-10-28/
LOCATION:Temple Israel\, 50 S Moss Road\, Winter Springs\, FL\, 32708\, United States
CATEGORIES:Services
END:VEVENT
END:VCALENDAR