BEGIN:VCALENDAR
VERSION:2.0
PRODID:-//Temple Israel - ECPv6.15.17.1//NONSGML v1.0//EN
CALSCALE:GREGORIAN
METHOD:PUBLISH
X-ORIGINAL-URL:https://templeisraelorlando.org
X-WR-CALDESC:Events for Temple Israel
REFRESH-INTERVAL;VALUE=DURATION:PT1H
X-Robots-Tag:noindex
X-PUBLISHED-TTL:PT1H
BEGIN:VTIMEZONE
TZID:America/New_York
BEGIN:DAYLIGHT
TZOFFSETFROM:-0500
TZOFFSETTO:-0400
TZNAME:EDT
DTSTART:20270314T070000
END:DAYLIGHT
BEGIN:STANDARD
TZOFFSETFROM:-0400
TZOFFSETTO:-0500
TZNAME:EST
DTSTART:20271107T060000
END:STANDARD
BEGIN:DAYLIGHT
TZOFFSETFROM:-0500
TZOFFSETTO:-0400
TZNAME:EDT
DTSTART:20280312T070000
END:DAYLIGHT
BEGIN:STANDARD
TZOFFSETFROM:-0400
TZOFFSETTO:-0500
TZNAME:EST
DTSTART:20281105T060000
END:STANDARD
BEGIN:DAYLIGHT
TZOFFSETFROM:-0500
TZOFFSETTO:-0400
TZNAME:EDT
DTSTART:20290311T070000
END:DAYLIGHT
BEGIN:STANDARD
TZOFFSETFROM:-0400
TZOFFSETTO:-0500
TZNAME:EST
DTSTART:20291104T060000
END:STANDARD
END:VTIMEZONE
BEGIN:VEVENT
DTSTART;TZID=America/New_York:20280523T193000
DTEND;TZID=America/New_York:20280523T203000
DTSTAMP:20260420T211934
CREATED:20250630T172741Z
LAST-MODIFIED:20250825T133756Z
UID:10003148-1842723000-1842726600@templeisraelorlando.org
SUMMARY:Membership Committee Meeting
DESCRIPTION:
URL:https://templeisraelorlando.org/event/membership-committee-meeting-3/2028-05-23/
CATEGORIES:Committee meeting
END:VEVENT
BEGIN:VEVENT
DTSTART;TZID=America/New_York:20280524T120000
DTEND;TZID=America/New_York:20280524T130000
DTSTAMP:20260420T211934
CREATED:20260224T125059Z
LAST-MODIFIED:20260318T180202Z
UID:10007018-1842782400-1842786000@templeisraelorlando.org
SUMMARY:Lunchtime class with Rabbi Neely
DESCRIPTION:
URL:https://templeisraelorlando.org/event/lunchtime-class-with-rabbi-neely/2028-05-24/
CATEGORIES:Classes
END:VEVENT
BEGIN:VEVENT
DTSTART;TZID=America/New_York:20280525T190000
DTEND;TZID=America/New_York:20280525T203000
DTSTAMP:20260420T211934
CREATED:20260412T165154Z
LAST-MODIFIED:20260412T165154Z
UID:10007298-1842894000-1842899400@templeisraelorlando.org
SUMMARY:TI Men's Club Monthly Social @ The Back Porch
DESCRIPTION:Join Men’s Club on the 4th Thursday of each month @ 7 PM at The Back Porch\, 145 Wekiva Springs Rd #161\, Longwood.
URL:https://templeisraelorlando.org/event/ti-mens-club-monthly-social-the-back-porch/2028-05-25/
CATEGORIES:Event
END:VEVENT
BEGIN:VEVENT
DTSTART;TZID=America/New_York:20280526T190000
DTEND;TZID=America/New_York:20280526T200000
DTSTAMP:20260420T211934
CREATED:20240507T020417Z
LAST-MODIFIED:20260108T191902Z
UID:10004833-1842980400-1842984000@templeisraelorlando.org
SUMMARY:Kabbalat Shabbat
DESCRIPTION:
URL:https://templeisraelorlando.org/event/kabbalat-shabbat/2028-05-26/
CATEGORIES:Services
END:VEVENT
BEGIN:VEVENT
DTSTART;TZID=America/New_York:20280527T093000
DTEND;TZID=America/New_York:20280527T120000
DTSTAMP:20260420T211934
CREATED:20250715T172155Z
LAST-MODIFIED:20250715T172816Z
UID:10006234-1843032600-1843041600@templeisraelorlando.org
SUMMARY:Shabbat Services
DESCRIPTION:
URL:https://templeisraelorlando.org/event/shabbat-services-2/2028-05-27/
LOCATION:Temple Israel\, 50 S Moss Road\, Winter Springs\, FL\, 32708\, United States
CATEGORIES:Services
END:VEVENT
BEGIN:VEVENT
DTSTART;TZID=America/New_York:20280528T090000
DTEND;TZID=America/New_York:20280528T093000
DTSTAMP:20260420T211934
CREATED:20240507T021438Z
LAST-MODIFIED:20250715T172314Z
UID:10005535-1843117200-1843119000@templeisraelorlando.org
SUMMARY:Sunday Minyan
DESCRIPTION:Our minyan starts at 9:00am in person and on zoom. \nhttps://us02web.zoom.us/j/83885789313?pwd=UkdrN25yMGRpTUIzNlRwejd1UWpjQT09 \nMeeting ID: 838 8578 9313\nPasscode: 165936
URL:https://templeisraelorlando.org/event/sunday-minyan/2028-05-28/
LOCATION:Temple Israel\, 50 S Moss Road\, Winter Springs\, FL\, 32708\, United States
CATEGORIES:Services
END:VEVENT
BEGIN:VEVENT
DTSTART;TZID=America/New_York:20280531T120000
DTEND;TZID=America/New_York:20280531T130000
DTSTAMP:20260420T211934
CREATED:20260224T125059Z
LAST-MODIFIED:20260318T180202Z
UID:10007019-1843387200-1843390800@templeisraelorlando.org
SUMMARY:Lunchtime class with Rabbi Neely
DESCRIPTION:
URL:https://templeisraelorlando.org/event/lunchtime-class-with-rabbi-neely/2028-05-31/
CATEGORIES:Classes
END:VEVENT
BEGIN:VEVENT
DTSTART;TZID=America/New_York:20280602T180000
DTEND;TZID=America/New_York:20280602T190000
DTSTAMP:20260420T211934
CREATED:20250724T120311Z
LAST-MODIFIED:20260406T182700Z
UID:10006641-1843581600-1843585200@templeisraelorlando.org
SUMMARY:Kabbalat Shabbat
DESCRIPTION:
URL:https://templeisraelorlando.org/event/kabbalat-shabbat-2-2/2028-06-02/
LOCATION:Temple Israel\, 50 S Moss Road\, Winter Springs\, FL\, 32708\, United States
CATEGORIES:Services
END:VEVENT
BEGIN:VEVENT
DTSTART;TZID=America/New_York:20280603T093000
DTEND;TZID=America/New_York:20280603T120000
DTSTAMP:20260420T211934
CREATED:20250715T172155Z
LAST-MODIFIED:20250715T172816Z
UID:10006235-1843637400-1843646400@templeisraelorlando.org
SUMMARY:Shabbat Services
DESCRIPTION:
URL:https://templeisraelorlando.org/event/shabbat-services-2/2028-06-03/
LOCATION:Temple Israel\, 50 S Moss Road\, Winter Springs\, FL\, 32708\, United States
CATEGORIES:Services
END:VEVENT
BEGIN:VEVENT
DTSTART;TZID=America/New_York:20280604T090000
DTEND;TZID=America/New_York:20280604T093000
DTSTAMP:20260420T211934
CREATED:20240507T021438Z
LAST-MODIFIED:20250715T172314Z
UID:10005536-1843722000-1843723800@templeisraelorlando.org
SUMMARY:Sunday Minyan
DESCRIPTION:Our minyan starts at 9:00am in person and on zoom. \nhttps://us02web.zoom.us/j/83885789313?pwd=UkdrN25yMGRpTUIzNlRwejd1UWpjQT09 \nMeeting ID: 838 8578 9313\nPasscode: 165936
URL:https://templeisraelorlando.org/event/sunday-minyan/2028-06-04/
LOCATION:Temple Israel\, 50 S Moss Road\, Winter Springs\, FL\, 32708\, United States
CATEGORIES:Services
END:VEVENT
BEGIN:VEVENT
DTSTART;TZID=America/New_York:20280607T120000
DTEND;TZID=America/New_York:20280607T130000
DTSTAMP:20260420T211934
CREATED:20260224T125059Z
LAST-MODIFIED:20260318T180202Z
UID:10007020-1843992000-1843995600@templeisraelorlando.org
SUMMARY:Lunchtime class with Rabbi Neely
DESCRIPTION:
URL:https://templeisraelorlando.org/event/lunchtime-class-with-rabbi-neely/2028-06-07/
CATEGORIES:Classes
END:VEVENT
BEGIN:VEVENT
DTSTART;TZID=America/New_York:20280609T170000
DTEND;TZID=America/New_York:20280609T183000
DTSTAMP:20260420T211934
CREATED:20260412T164837Z
LAST-MODIFIED:20260412T165527Z
UID:10007238-1844182800-1844188200@templeisraelorlando.org
SUMMARY:TI Men's Club Warm-Up Dinner @ Corfu Restaurant
DESCRIPTION:Join Men’s Club for dinner on the 2nd Friday of each month at Corfu Restaurant\, 124 W SR 434\, Winter Springs.
URL:https://templeisraelorlando.org/event/ti-mens-club-warm-up-dinner/2028-06-09/
CATEGORIES:Event
END:VEVENT
BEGIN:VEVENT
DTSTART;TZID=America/New_York:20280609T190000
DTEND;TZID=America/New_York:20280609T200000
DTSTAMP:20260420T211934
CREATED:20240507T020417Z
LAST-MODIFIED:20260108T191902Z
UID:10004834-1844190000-1844193600@templeisraelorlando.org
SUMMARY:Kabbalat Shabbat
DESCRIPTION:
URL:https://templeisraelorlando.org/event/kabbalat-shabbat/2028-06-09/
CATEGORIES:Services
END:VEVENT
BEGIN:VEVENT
DTSTART;TZID=America/New_York:20280610T093000
DTEND;TZID=America/New_York:20280610T120000
DTSTAMP:20260420T211934
CREATED:20250715T172155Z
LAST-MODIFIED:20250715T172816Z
UID:10006236-1844242200-1844251200@templeisraelorlando.org
SUMMARY:Shabbat Services
DESCRIPTION:
URL:https://templeisraelorlando.org/event/shabbat-services-2/2028-06-10/
LOCATION:Temple Israel\, 50 S Moss Road\, Winter Springs\, FL\, 32708\, United States
CATEGORIES:Services
END:VEVENT
BEGIN:VEVENT
DTSTART;TZID=America/New_York:20280611T090000
DTEND;TZID=America/New_York:20280611T093000
DTSTAMP:20260420T211934
CREATED:20240507T021438Z
LAST-MODIFIED:20250715T172314Z
UID:10005537-1844326800-1844328600@templeisraelorlando.org
SUMMARY:Sunday Minyan
DESCRIPTION:Our minyan starts at 9:00am in person and on zoom. \nhttps://us02web.zoom.us/j/83885789313?pwd=UkdrN25yMGRpTUIzNlRwejd1UWpjQT09 \nMeeting ID: 838 8578 9313\nPasscode: 165936
URL:https://templeisraelorlando.org/event/sunday-minyan/2028-06-11/
LOCATION:Temple Israel\, 50 S Moss Road\, Winter Springs\, FL\, 32708\, United States
CATEGORIES:Services
END:VEVENT
BEGIN:VEVENT
DTSTART;TZID=America/New_York:20280612T190000
DTEND;TZID=America/New_York:20280612T200000
DTSTAMP:20260420T211934
CREATED:20240827T002911Z
LAST-MODIFIED:20250928T233226Z
UID:10006449-1844449200-1844452800@templeisraelorlando.org
SUMMARY:Executive Committee
DESCRIPTION:
URL:https://templeisraelorlando.org/event/executive-committee-2-2/2028-06-12/
END:VEVENT
BEGIN:VEVENT
DTSTART;TZID=America/New_York:20280614T120000
DTEND;TZID=America/New_York:20280614T130000
DTSTAMP:20260420T211934
CREATED:20260224T125059Z
LAST-MODIFIED:20260318T180202Z
UID:10007021-1844596800-1844600400@templeisraelorlando.org
SUMMARY:Lunchtime class with Rabbi Neely
DESCRIPTION:
URL:https://templeisraelorlando.org/event/lunchtime-class-with-rabbi-neely/2028-06-14/
CATEGORIES:Classes
END:VEVENT
BEGIN:VEVENT
DTSTART;TZID=America/New_York:20280616T190000
DTEND;TZID=America/New_York:20280616T200000
DTSTAMP:20260420T211934
CREATED:20240507T020417Z
LAST-MODIFIED:20260108T191902Z
UID:10004835-1844794800-1844798400@templeisraelorlando.org
SUMMARY:Kabbalat Shabbat
DESCRIPTION:
URL:https://templeisraelorlando.org/event/kabbalat-shabbat/2028-06-16/
CATEGORIES:Services
END:VEVENT
BEGIN:VEVENT
DTSTART;TZID=America/New_York:20280617T093000
DTEND;TZID=America/New_York:20280617T120000
DTSTAMP:20260420T211934
CREATED:20250715T172155Z
LAST-MODIFIED:20250715T172816Z
UID:10006237-1844847000-1844856000@templeisraelorlando.org
SUMMARY:Shabbat Services
DESCRIPTION:
URL:https://templeisraelorlando.org/event/shabbat-services-2/2028-06-17/
LOCATION:Temple Israel\, 50 S Moss Road\, Winter Springs\, FL\, 32708\, United States
CATEGORIES:Services
END:VEVENT
BEGIN:VEVENT
DTSTART;TZID=America/New_York:20280617T110000
DTEND;TZID=America/New_York:20280617T234500
DTSTAMP:20260420T211934
CREATED:20240507T033334Z
LAST-MODIFIED:20250715T172956Z
UID:10006390-1844852400-1844898300@templeisraelorlando.org
SUMMARY:Tot Shabbat
DESCRIPTION:
URL:https://templeisraelorlando.org/event/tot-shabbat/2028-06-17/
CATEGORIES:Family
END:VEVENT
BEGIN:VEVENT
DTSTART;TZID=America/New_York:20280618T090000
DTEND;TZID=America/New_York:20280618T093000
DTSTAMP:20260420T211934
CREATED:20240507T021438Z
LAST-MODIFIED:20250715T172314Z
UID:10005538-1844931600-1844933400@templeisraelorlando.org
SUMMARY:Sunday Minyan
DESCRIPTION:Our minyan starts at 9:00am in person and on zoom. \nhttps://us02web.zoom.us/j/83885789313?pwd=UkdrN25yMGRpTUIzNlRwejd1UWpjQT09 \nMeeting ID: 838 8578 9313\nPasscode: 165936
URL:https://templeisraelorlando.org/event/sunday-minyan/2028-06-18/
LOCATION:Temple Israel\, 50 S Moss Road\, Winter Springs\, FL\, 32708\, United States
CATEGORIES:Services
END:VEVENT
BEGIN:VEVENT
DTSTART;TZID=America/New_York:20280621T120000
DTEND;TZID=America/New_York:20280621T130000
DTSTAMP:20260420T211934
CREATED:20260224T125059Z
LAST-MODIFIED:20260318T180202Z
UID:10007022-1845201600-1845205200@templeisraelorlando.org
SUMMARY:Lunchtime class with Rabbi Neely
DESCRIPTION:
URL:https://templeisraelorlando.org/event/lunchtime-class-with-rabbi-neely/2028-06-21/
CATEGORIES:Classes
END:VEVENT
BEGIN:VEVENT
DTSTART;TZID=America/New_York:20280622T190000
DTEND;TZID=America/New_York:20280622T203000
DTSTAMP:20260420T211934
CREATED:20260412T165154Z
LAST-MODIFIED:20260412T165154Z
UID:10007299-1845313200-1845318600@templeisraelorlando.org
SUMMARY:TI Men's Club Monthly Social @ The Back Porch
DESCRIPTION:Join Men’s Club on the 4th Thursday of each month @ 7 PM at The Back Porch\, 145 Wekiva Springs Rd #161\, Longwood.
URL:https://templeisraelorlando.org/event/ti-mens-club-monthly-social-the-back-porch/2028-06-22/
CATEGORIES:Event
END:VEVENT
BEGIN:VEVENT
DTSTART;TZID=America/New_York:20280623T190000
DTEND;TZID=America/New_York:20280623T200000
DTSTAMP:20260420T211934
CREATED:20240507T020417Z
LAST-MODIFIED:20260108T191902Z
UID:10004836-1845399600-1845403200@templeisraelorlando.org
SUMMARY:Kabbalat Shabbat
DESCRIPTION:
URL:https://templeisraelorlando.org/event/kabbalat-shabbat/2028-06-23/
CATEGORIES:Services
END:VEVENT
BEGIN:VEVENT
DTSTART;TZID=America/New_York:20280624T093000
DTEND;TZID=America/New_York:20280624T120000
DTSTAMP:20260420T211934
CREATED:20250715T172155Z
LAST-MODIFIED:20250715T172816Z
UID:10006238-1845451800-1845460800@templeisraelorlando.org
SUMMARY:Shabbat Services
DESCRIPTION:
URL:https://templeisraelorlando.org/event/shabbat-services-2/2028-06-24/
LOCATION:Temple Israel\, 50 S Moss Road\, Winter Springs\, FL\, 32708\, United States
CATEGORIES:Services
END:VEVENT
BEGIN:VEVENT
DTSTART;TZID=America/New_York:20280625T090000
DTEND;TZID=America/New_York:20280625T093000
DTSTAMP:20260420T211934
CREATED:20240507T021438Z
LAST-MODIFIED:20250715T172314Z
UID:10005539-1845536400-1845538200@templeisraelorlando.org
SUMMARY:Sunday Minyan
DESCRIPTION:Our minyan starts at 9:00am in person and on zoom. \nhttps://us02web.zoom.us/j/83885789313?pwd=UkdrN25yMGRpTUIzNlRwejd1UWpjQT09 \nMeeting ID: 838 8578 9313\nPasscode: 165936
URL:https://templeisraelorlando.org/event/sunday-minyan/2028-06-25/
LOCATION:Temple Israel\, 50 S Moss Road\, Winter Springs\, FL\, 32708\, United States
CATEGORIES:Services
END:VEVENT
BEGIN:VEVENT
DTSTART;TZID=America/New_York:20280626T190000
DTEND;TZID=America/New_York:20280626T200000
DTSTAMP:20260420T211934
CREATED:20240507T032905Z
LAST-MODIFIED:20250825T133443Z
UID:10006518-1845658800-1845662400@templeisraelorlando.org
SUMMARY:Board of Directors
DESCRIPTION:
URL:https://templeisraelorlando.org/event/board-of-directors/2028-06-26/
CATEGORIES:Committee meeting
END:VEVENT
BEGIN:VEVENT
DTSTART;TZID=America/New_York:20280627T193000
DTEND;TZID=America/New_York:20280627T203000
DTSTAMP:20260420T211934
CREATED:20250630T172741Z
LAST-MODIFIED:20250825T133756Z
UID:10003149-1845747000-1845750600@templeisraelorlando.org
SUMMARY:Membership Committee Meeting
DESCRIPTION:
URL:https://templeisraelorlando.org/event/membership-committee-meeting-3/2028-06-27/
CATEGORIES:Committee meeting
END:VEVENT
BEGIN:VEVENT
DTSTART;TZID=America/New_York:20280628T120000
DTEND;TZID=America/New_York:20280628T130000
DTSTAMP:20260420T211934
CREATED:20260224T125059Z
LAST-MODIFIED:20260318T180202Z
UID:10007023-1845806400-1845810000@templeisraelorlando.org
SUMMARY:Lunchtime class with Rabbi Neely
DESCRIPTION:
URL:https://templeisraelorlando.org/event/lunchtime-class-with-rabbi-neely/2028-06-28/
CATEGORIES:Classes
END:VEVENT
BEGIN:VEVENT
DTSTART;TZID=America/New_York:20280630T190000
DTEND;TZID=America/New_York:20280630T200000
DTSTAMP:20260420T211934
CREATED:20240507T020417Z
LAST-MODIFIED:20260108T191902Z
UID:10004837-1846004400-1846008000@templeisraelorlando.org
SUMMARY:Kabbalat Shabbat
DESCRIPTION:
URL:https://templeisraelorlando.org/event/kabbalat-shabbat/2028-06-30/
CATEGORIES:Services
END:VEVENT
END:VCALENDAR