BEGIN:VCALENDAR
VERSION:2.0
PRODID:-//Temple Israel - ECPv6.15.17.1//NONSGML v1.0//EN
CALSCALE:GREGORIAN
METHOD:PUBLISH
X-WR-CALNAME:Temple Israel
X-ORIGINAL-URL:https://templeisraelorlando.org
X-WR-CALDESC:Events for Temple Israel
REFRESH-INTERVAL;VALUE=DURATION:PT1H
X-Robots-Tag:noindex
X-PUBLISHED-TTL:PT1H
BEGIN:VTIMEZONE
TZID:America/New_York
BEGIN:DAYLIGHT
TZOFFSETFROM:-0500
TZOFFSETTO:-0400
TZNAME:EDT
DTSTART:20290311T070000
END:DAYLIGHT
BEGIN:STANDARD
TZOFFSETFROM:-0400
TZOFFSETTO:-0500
TZNAME:EST
DTSTART:20291104T060000
END:STANDARD
BEGIN:DAYLIGHT
TZOFFSETFROM:-0500
TZOFFSETTO:-0400
TZNAME:EDT
DTSTART:20300310T070000
END:DAYLIGHT
BEGIN:STANDARD
TZOFFSETFROM:-0400
TZOFFSETTO:-0500
TZNAME:EST
DTSTART:20301103T060000
END:STANDARD
BEGIN:DAYLIGHT
TZOFFSETFROM:-0500
TZOFFSETTO:-0400
TZNAME:EDT
DTSTART:20310309T070000
END:DAYLIGHT
BEGIN:STANDARD
TZOFFSETFROM:-0400
TZOFFSETTO:-0500
TZNAME:EST
DTSTART:20311102T060000
END:STANDARD
END:VTIMEZONE
BEGIN:VEVENT
DTSTART;TZID=America/New_York:20300325T190000
DTEND;TZID=America/New_York:20300325T200000
DTSTAMP:20260423T161928
CREATED:20240507T032905Z
LAST-MODIFIED:20250825T133443Z
UID:10006539-1900695600-1900699200@templeisraelorlando.org
SUMMARY:Board of Directors
DESCRIPTION:
URL:https://templeisraelorlando.org/event/board-of-directors/2030-03-25/
CATEGORIES:Committee meeting
END:VEVENT
BEGIN:VEVENT
DTSTART;TZID=America/New_York:20300326T193000
DTEND;TZID=America/New_York:20300326T203000
DTSTAMP:20260423T161928
CREATED:20250630T172741Z
LAST-MODIFIED:20250825T133756Z
UID:10003170-1900783800-1900787400@templeisraelorlando.org
SUMMARY:Membership Committee Meeting
DESCRIPTION:
URL:https://templeisraelorlando.org/event/membership-committee-meeting-3/2030-03-26/
CATEGORIES:Committee meeting
END:VEVENT
BEGIN:VEVENT
DTSTART;TZID=America/New_York:20300327T120000
DTEND;TZID=America/New_York:20300327T130000
DTSTAMP:20260423T161928
CREATED:20260224T125059Z
LAST-MODIFIED:20260318T180202Z
UID:10007114-1900843200-1900846800@templeisraelorlando.org
SUMMARY:Lunchtime class with Rabbi Neely
DESCRIPTION:
URL:https://templeisraelorlando.org/event/lunchtime-class-with-rabbi-neely/2030-03-27/
CATEGORIES:Classes
END:VEVENT
BEGIN:VEVENT
DTSTART;TZID=America/New_York:20300328T190000
DTEND;TZID=America/New_York:20300328T203000
DTSTAMP:20260423T161928
CREATED:20260412T165154Z
LAST-MODIFIED:20260412T165154Z
UID:10007320-1900954800-1900960200@templeisraelorlando.org
SUMMARY:TI Men's Club Monthly Social @ The Back Porch
DESCRIPTION:Join Men’s Club on the 4th Thursday of each month @ 7 PM at The Back Porch\, 145 Wekiva Springs Rd #161\, Longwood.
URL:https://templeisraelorlando.org/event/ti-mens-club-monthly-social-the-back-porch/2030-03-28/
CATEGORIES:Event
END:VEVENT
BEGIN:VEVENT
DTSTART;TZID=America/New_York:20300329T190000
DTEND;TZID=America/New_York:20300329T200000
DTSTAMP:20260423T161928
CREATED:20240507T020417Z
LAST-MODIFIED:20260108T191902Z
UID:10004907-1901041200-1901044800@templeisraelorlando.org
SUMMARY:Kabbalat Shabbat
DESCRIPTION:
URL:https://templeisraelorlando.org/event/kabbalat-shabbat/2030-03-29/
CATEGORIES:Services
END:VEVENT
BEGIN:VEVENT
DTSTART;TZID=America/New_York:20300330T093000
DTEND;TZID=America/New_York:20300330T120000
DTSTAMP:20260423T161928
CREATED:20250715T172155Z
LAST-MODIFIED:20250715T172816Z
UID:10006330-1901093400-1901102400@templeisraelorlando.org
SUMMARY:Shabbat Services
DESCRIPTION:
URL:https://templeisraelorlando.org/event/shabbat-services-2/2030-03-30/
LOCATION:Temple Israel\, 50 S Moss Road\, Winter Springs\, FL\, 32708\, United States
CATEGORIES:Services
END:VEVENT
BEGIN:VEVENT
DTSTART;TZID=America/New_York:20300331T090000
DTEND;TZID=America/New_York:20300331T093000
DTSTAMP:20260423T161928
CREATED:20240507T021438Z
LAST-MODIFIED:20250715T172314Z
UID:10005631-1901178000-1901179800@templeisraelorlando.org
SUMMARY:Sunday Minyan
DESCRIPTION:Our minyan starts at 9:00am in person and on zoom. \nhttps://us02web.zoom.us/j/83885789313?pwd=UkdrN25yMGRpTUIzNlRwejd1UWpjQT09 \nMeeting ID: 838 8578 9313\nPasscode: 165936
URL:https://templeisraelorlando.org/event/sunday-minyan/2030-03-31/
LOCATION:Temple Israel\, 50 S Moss Road\, Winter Springs\, FL\, 32708\, United States
CATEGORIES:Services
END:VEVENT
BEGIN:VEVENT
DTSTART;TZID=America/New_York:20300403T120000
DTEND;TZID=America/New_York:20300403T130000
DTSTAMP:20260423T161928
CREATED:20260224T125059Z
LAST-MODIFIED:20260318T180202Z
UID:10007115-1901448000-1901451600@templeisraelorlando.org
SUMMARY:Lunchtime class with Rabbi Neely
DESCRIPTION:
URL:https://templeisraelorlando.org/event/lunchtime-class-with-rabbi-neely/2030-04-03/
CATEGORIES:Classes
END:VEVENT
BEGIN:VEVENT
DTSTART;TZID=America/New_York:20300405T180000
DTEND;TZID=America/New_York:20300405T190000
DTSTAMP:20260423T161928
CREATED:20250724T120311Z
LAST-MODIFIED:20260406T182700Z
UID:10006663-1901642400-1901646000@templeisraelorlando.org
SUMMARY:Kabbalat Shabbat
DESCRIPTION:
URL:https://templeisraelorlando.org/event/kabbalat-shabbat-2-2/2030-04-05/
LOCATION:Temple Israel\, 50 S Moss Road\, Winter Springs\, FL\, 32708\, United States
CATEGORIES:Services
END:VEVENT
BEGIN:VEVENT
DTSTART;TZID=America/New_York:20300406T093000
DTEND;TZID=America/New_York:20300406T120000
DTSTAMP:20260423T161928
CREATED:20250715T172155Z
LAST-MODIFIED:20250715T172816Z
UID:10006331-1901698200-1901707200@templeisraelorlando.org
SUMMARY:Shabbat Services
DESCRIPTION:
URL:https://templeisraelorlando.org/event/shabbat-services-2/2030-04-06/
LOCATION:Temple Israel\, 50 S Moss Road\, Winter Springs\, FL\, 32708\, United States
CATEGORIES:Services
END:VEVENT
BEGIN:VEVENT
DTSTART;TZID=America/New_York:20300407T090000
DTEND;TZID=America/New_York:20300407T093000
DTSTAMP:20260423T161928
CREATED:20240507T021438Z
LAST-MODIFIED:20250715T172314Z
UID:10005632-1901782800-1901784600@templeisraelorlando.org
SUMMARY:Sunday Minyan
DESCRIPTION:Our minyan starts at 9:00am in person and on zoom. \nhttps://us02web.zoom.us/j/83885789313?pwd=UkdrN25yMGRpTUIzNlRwejd1UWpjQT09 \nMeeting ID: 838 8578 9313\nPasscode: 165936
URL:https://templeisraelorlando.org/event/sunday-minyan/2030-04-07/
LOCATION:Temple Israel\, 50 S Moss Road\, Winter Springs\, FL\, 32708\, United States
CATEGORIES:Services
END:VEVENT
BEGIN:VEVENT
DTSTART;TZID=America/New_York:20300408T190000
DTEND;TZID=America/New_York:20300408T200000
DTSTAMP:20260423T161929
CREATED:20240827T002911Z
LAST-MODIFIED:20250928T233226Z
UID:10006471-1901905200-1901908800@templeisraelorlando.org
SUMMARY:Executive Committee
DESCRIPTION:
URL:https://templeisraelorlando.org/event/executive-committee-2-2/2030-04-08/
END:VEVENT
BEGIN:VEVENT
DTSTART;TZID=America/New_York:20300410T120000
DTEND;TZID=America/New_York:20300410T130000
DTSTAMP:20260423T161929
CREATED:20260224T125059Z
LAST-MODIFIED:20260318T180202Z
UID:10007116-1902052800-1902056400@templeisraelorlando.org
SUMMARY:Lunchtime class with Rabbi Neely
DESCRIPTION:
URL:https://templeisraelorlando.org/event/lunchtime-class-with-rabbi-neely/2030-04-10/
CATEGORIES:Classes
END:VEVENT
BEGIN:VEVENT
DTSTART;TZID=America/New_York:20300412T170000
DTEND;TZID=America/New_York:20300412T183000
DTSTAMP:20260423T161929
CREATED:20260412T164837Z
LAST-MODIFIED:20260412T165527Z
UID:10007260-1902243600-1902249000@templeisraelorlando.org
SUMMARY:TI Men's Club Warm-Up Dinner @ Corfu Restaurant
DESCRIPTION:Join Men’s Club for dinner on the 2nd Friday of each month at Corfu Restaurant\, 124 W SR 434\, Winter Springs.
URL:https://templeisraelorlando.org/event/ti-mens-club-warm-up-dinner/2030-04-12/
CATEGORIES:Event
END:VEVENT
BEGIN:VEVENT
DTSTART;TZID=America/New_York:20300412T190000
DTEND;TZID=America/New_York:20300412T200000
DTSTAMP:20260423T161929
CREATED:20240507T020417Z
LAST-MODIFIED:20260108T191902Z
UID:10004908-1902250800-1902254400@templeisraelorlando.org
SUMMARY:Kabbalat Shabbat
DESCRIPTION:
URL:https://templeisraelorlando.org/event/kabbalat-shabbat/2030-04-12/
CATEGORIES:Services
END:VEVENT
BEGIN:VEVENT
DTSTART;TZID=America/New_York:20300413T093000
DTEND;TZID=America/New_York:20300413T120000
DTSTAMP:20260423T161929
CREATED:20250715T172155Z
LAST-MODIFIED:20250715T172816Z
UID:10006332-1902303000-1902312000@templeisraelorlando.org
SUMMARY:Shabbat Services
DESCRIPTION:
URL:https://templeisraelorlando.org/event/shabbat-services-2/2030-04-13/
LOCATION:Temple Israel\, 50 S Moss Road\, Winter Springs\, FL\, 32708\, United States
CATEGORIES:Services
END:VEVENT
BEGIN:VEVENT
DTSTART;TZID=America/New_York:20300414T090000
DTEND;TZID=America/New_York:20300414T093000
DTSTAMP:20260423T161929
CREATED:20240507T021438Z
LAST-MODIFIED:20250715T172314Z
UID:10005633-1902387600-1902389400@templeisraelorlando.org
SUMMARY:Sunday Minyan
DESCRIPTION:Our minyan starts at 9:00am in person and on zoom. \nhttps://us02web.zoom.us/j/83885789313?pwd=UkdrN25yMGRpTUIzNlRwejd1UWpjQT09 \nMeeting ID: 838 8578 9313\nPasscode: 165936
URL:https://templeisraelorlando.org/event/sunday-minyan/2030-04-14/
LOCATION:Temple Israel\, 50 S Moss Road\, Winter Springs\, FL\, 32708\, United States
CATEGORIES:Services
END:VEVENT
BEGIN:VEVENT
DTSTART;TZID=America/New_York:20300417T120000
DTEND;TZID=America/New_York:20300417T130000
DTSTAMP:20260423T161929
CREATED:20260224T125059Z
LAST-MODIFIED:20260318T180202Z
UID:10007117-1902657600-1902661200@templeisraelorlando.org
SUMMARY:Lunchtime class with Rabbi Neely
DESCRIPTION:
URL:https://templeisraelorlando.org/event/lunchtime-class-with-rabbi-neely/2030-04-17/
CATEGORIES:Classes
END:VEVENT
BEGIN:VEVENT
DTSTART;TZID=America/New_York:20300419T190000
DTEND;TZID=America/New_York:20300419T200000
DTSTAMP:20260423T161929
CREATED:20240507T020417Z
LAST-MODIFIED:20260108T191902Z
UID:10004909-1902855600-1902859200@templeisraelorlando.org
SUMMARY:Kabbalat Shabbat
DESCRIPTION:
URL:https://templeisraelorlando.org/event/kabbalat-shabbat/2030-04-19/
CATEGORIES:Services
END:VEVENT
BEGIN:VEVENT
DTSTART;TZID=America/New_York:20300420T093000
DTEND;TZID=America/New_York:20300420T120000
DTSTAMP:20260423T161929
CREATED:20250715T172155Z
LAST-MODIFIED:20250715T172816Z
UID:10006333-1902907800-1902916800@templeisraelorlando.org
SUMMARY:Shabbat Services
DESCRIPTION:
URL:https://templeisraelorlando.org/event/shabbat-services-2/2030-04-20/
LOCATION:Temple Israel\, 50 S Moss Road\, Winter Springs\, FL\, 32708\, United States
CATEGORIES:Services
END:VEVENT
BEGIN:VEVENT
DTSTART;TZID=America/New_York:20300420T110000
DTEND;TZID=America/New_York:20300420T234500
DTSTAMP:20260423T161929
CREATED:20240507T033334Z
LAST-MODIFIED:20250715T172956Z
UID:10006412-1902913200-1902959100@templeisraelorlando.org
SUMMARY:Tot Shabbat
DESCRIPTION:
URL:https://templeisraelorlando.org/event/tot-shabbat/2030-04-20/
CATEGORIES:Family
END:VEVENT
BEGIN:VEVENT
DTSTART;TZID=America/New_York:20300421T090000
DTEND;TZID=America/New_York:20300421T093000
DTSTAMP:20260423T161929
CREATED:20240507T021438Z
LAST-MODIFIED:20250715T172314Z
UID:10005634-1902992400-1902994200@templeisraelorlando.org
SUMMARY:Sunday Minyan
DESCRIPTION:Our minyan starts at 9:00am in person and on zoom. \nhttps://us02web.zoom.us/j/83885789313?pwd=UkdrN25yMGRpTUIzNlRwejd1UWpjQT09 \nMeeting ID: 838 8578 9313\nPasscode: 165936
URL:https://templeisraelorlando.org/event/sunday-minyan/2030-04-21/
LOCATION:Temple Israel\, 50 S Moss Road\, Winter Springs\, FL\, 32708\, United States
CATEGORIES:Services
END:VEVENT
BEGIN:VEVENT
DTSTART;TZID=America/New_York:20300422T190000
DTEND;TZID=America/New_York:20300422T200000
DTSTAMP:20260423T161929
CREATED:20240507T032905Z
LAST-MODIFIED:20250825T133443Z
UID:10006540-1903114800-1903118400@templeisraelorlando.org
SUMMARY:Board of Directors
DESCRIPTION:
URL:https://templeisraelorlando.org/event/board-of-directors/2030-04-22/
CATEGORIES:Committee meeting
END:VEVENT
BEGIN:VEVENT
DTSTART;TZID=America/New_York:20300423T193000
DTEND;TZID=America/New_York:20300423T203000
DTSTAMP:20260423T161929
CREATED:20250630T172741Z
LAST-MODIFIED:20250825T133756Z
UID:10003171-1903203000-1903206600@templeisraelorlando.org
SUMMARY:Membership Committee Meeting
DESCRIPTION:
URL:https://templeisraelorlando.org/event/membership-committee-meeting-3/2030-04-23/
CATEGORIES:Committee meeting
END:VEVENT
BEGIN:VEVENT
DTSTART;TZID=America/New_York:20300424T120000
DTEND;TZID=America/New_York:20300424T130000
DTSTAMP:20260423T161929
CREATED:20260224T125059Z
LAST-MODIFIED:20260318T180202Z
UID:10007118-1903262400-1903266000@templeisraelorlando.org
SUMMARY:Lunchtime class with Rabbi Neely
DESCRIPTION:
URL:https://templeisraelorlando.org/event/lunchtime-class-with-rabbi-neely/2030-04-24/
CATEGORIES:Classes
END:VEVENT
BEGIN:VEVENT
DTSTART;TZID=America/New_York:20300425T190000
DTEND;TZID=America/New_York:20300425T203000
DTSTAMP:20260423T161929
CREATED:20260412T165154Z
LAST-MODIFIED:20260412T165154Z
UID:10007321-1903374000-1903379400@templeisraelorlando.org
SUMMARY:TI Men's Club Monthly Social @ The Back Porch
DESCRIPTION:Join Men’s Club on the 4th Thursday of each month @ 7 PM at The Back Porch\, 145 Wekiva Springs Rd #161\, Longwood.
URL:https://templeisraelorlando.org/event/ti-mens-club-monthly-social-the-back-porch/2030-04-25/
CATEGORIES:Event
END:VEVENT
BEGIN:VEVENT
DTSTART;TZID=America/New_York:20300426T190000
DTEND;TZID=America/New_York:20300426T200000
DTSTAMP:20260423T161929
CREATED:20240507T020417Z
LAST-MODIFIED:20260108T191902Z
UID:10004910-1903460400-1903464000@templeisraelorlando.org
SUMMARY:Kabbalat Shabbat
DESCRIPTION:
URL:https://templeisraelorlando.org/event/kabbalat-shabbat/2030-04-26/
CATEGORIES:Services
END:VEVENT
BEGIN:VEVENT
DTSTART;TZID=America/New_York:20300427T093000
DTEND;TZID=America/New_York:20300427T120000
DTSTAMP:20260423T161929
CREATED:20250715T172155Z
LAST-MODIFIED:20250715T172816Z
UID:10006334-1903512600-1903521600@templeisraelorlando.org
SUMMARY:Shabbat Services
DESCRIPTION:
URL:https://templeisraelorlando.org/event/shabbat-services-2/2030-04-27/
LOCATION:Temple Israel\, 50 S Moss Road\, Winter Springs\, FL\, 32708\, United States
CATEGORIES:Services
END:VEVENT
BEGIN:VEVENT
DTSTART;TZID=America/New_York:20300428T090000
DTEND;TZID=America/New_York:20300428T093000
DTSTAMP:20260423T161929
CREATED:20240507T021438Z
LAST-MODIFIED:20250715T172314Z
UID:10005635-1903597200-1903599000@templeisraelorlando.org
SUMMARY:Sunday Minyan
DESCRIPTION:Our minyan starts at 9:00am in person and on zoom. \nhttps://us02web.zoom.us/j/83885789313?pwd=UkdrN25yMGRpTUIzNlRwejd1UWpjQT09 \nMeeting ID: 838 8578 9313\nPasscode: 165936
URL:https://templeisraelorlando.org/event/sunday-minyan/2030-04-28/
LOCATION:Temple Israel\, 50 S Moss Road\, Winter Springs\, FL\, 32708\, United States
CATEGORIES:Services
END:VEVENT
BEGIN:VEVENT
DTSTART;TZID=America/New_York:20300501T120000
DTEND;TZID=America/New_York:20300501T130000
DTSTAMP:20260423T161929
CREATED:20260224T125059Z
LAST-MODIFIED:20260318T180202Z
UID:10007119-1903867200-1903870800@templeisraelorlando.org
SUMMARY:Lunchtime class with Rabbi Neely
DESCRIPTION:
URL:https://templeisraelorlando.org/event/lunchtime-class-with-rabbi-neely/2030-05-01/
CATEGORIES:Classes
END:VEVENT
END:VCALENDAR