BEGIN:VCALENDAR
VERSION:2.0
PRODID:-//Temple Israel - ECPv6.15.17.1//NONSGML v1.0//EN
CALSCALE:GREGORIAN
METHOD:PUBLISH
X-ORIGINAL-URL:https://templeisraelorlando.org
X-WR-CALDESC:Events for Temple Israel
REFRESH-INTERVAL;VALUE=DURATION:PT1H
X-Robots-Tag:noindex
X-PUBLISHED-TTL:PT1H
BEGIN:VTIMEZONE
TZID:America/New_York
BEGIN:DAYLIGHT
TZOFFSETFROM:-0500
TZOFFSETTO:-0400
TZNAME:EDT
DTSTART:20290311T070000
END:DAYLIGHT
BEGIN:STANDARD
TZOFFSETFROM:-0400
TZOFFSETTO:-0500
TZNAME:EST
DTSTART:20291104T060000
END:STANDARD
BEGIN:DAYLIGHT
TZOFFSETFROM:-0500
TZOFFSETTO:-0400
TZNAME:EDT
DTSTART:20300310T070000
END:DAYLIGHT
BEGIN:STANDARD
TZOFFSETFROM:-0400
TZOFFSETTO:-0500
TZNAME:EST
DTSTART:20301103T060000
END:STANDARD
BEGIN:DAYLIGHT
TZOFFSETFROM:-0500
TZOFFSETTO:-0400
TZNAME:EDT
DTSTART:20310309T070000
END:DAYLIGHT
BEGIN:STANDARD
TZOFFSETFROM:-0400
TZOFFSETTO:-0500
TZNAME:EST
DTSTART:20311102T060000
END:STANDARD
END:VTIMEZONE
BEGIN:VEVENT
DTSTART;TZID=America/New_York:20301009T120000
DTEND;TZID=America/New_York:20301009T130000
DTSTAMP:20260424T082048
CREATED:20260224T125059Z
LAST-MODIFIED:20260318T180202Z
UID:10007142-1917777600-1917781200@templeisraelorlando.org
SUMMARY:Lunchtime class with Rabbi Neely
DESCRIPTION:
URL:https://templeisraelorlando.org/event/lunchtime-class-with-rabbi-neely/2030-10-09/
CATEGORIES:Classes
END:VEVENT
BEGIN:VEVENT
DTSTART;TZID=America/New_York:20301011T170000
DTEND;TZID=America/New_York:20301011T183000
DTSTAMP:20260424T082048
CREATED:20260412T164837Z
LAST-MODIFIED:20260412T165527Z
UID:10007266-1917968400-1917973800@templeisraelorlando.org
SUMMARY:TI Men's Club Warm-Up Dinner @ Corfu Restaurant
DESCRIPTION:Join Men’s Club for dinner on the 2nd Friday of each month at Corfu Restaurant\, 124 W SR 434\, Winter Springs.
URL:https://templeisraelorlando.org/event/ti-mens-club-warm-up-dinner/2030-10-11/
CATEGORIES:Event
END:VEVENT
BEGIN:VEVENT
DTSTART;TZID=America/New_York:20301011T190000
DTEND;TZID=America/New_York:20301011T200000
DTSTAMP:20260424T082048
CREATED:20240507T020417Z
LAST-MODIFIED:20260108T191902Z
UID:10006783-1917975600-1917979200@templeisraelorlando.org
SUMMARY:Kabbalat Shabbat
DESCRIPTION:
URL:https://templeisraelorlando.org/event/kabbalat-shabbat/2030-10-11/
CATEGORIES:Services
END:VEVENT
BEGIN:VEVENT
DTSTART;TZID=America/New_York:20301012T093000
DTEND;TZID=America/New_York:20301012T120000
DTSTAMP:20260424T082048
CREATED:20250715T172155Z
LAST-MODIFIED:20250715T172816Z
UID:10007182-1918027800-1918036800@templeisraelorlando.org
SUMMARY:Shabbat Services
DESCRIPTION:
URL:https://templeisraelorlando.org/event/shabbat-services-2/2030-10-12/
LOCATION:Temple Israel\, 50 S Moss Road\, Winter Springs\, FL\, 32708\, United States
CATEGORIES:Services
END:VEVENT
BEGIN:VEVENT
DTSTART;TZID=America/New_York:20301016T120000
DTEND;TZID=America/New_York:20301016T130000
DTSTAMP:20260424T082048
CREATED:20260224T125059Z
LAST-MODIFIED:20260318T180202Z
UID:10007143-1918382400-1918386000@templeisraelorlando.org
SUMMARY:Lunchtime class with Rabbi Neely
DESCRIPTION:
URL:https://templeisraelorlando.org/event/lunchtime-class-with-rabbi-neely/2030-10-16/
CATEGORIES:Classes
END:VEVENT
BEGIN:VEVENT
DTSTART;TZID=America/New_York:20301018T190000
DTEND;TZID=America/New_York:20301018T200000
DTSTAMP:20260424T082048
CREATED:20240507T020417Z
LAST-MODIFIED:20260108T191902Z
UID:10006835-1918580400-1918584000@templeisraelorlando.org
SUMMARY:Kabbalat Shabbat
DESCRIPTION:
URL:https://templeisraelorlando.org/event/kabbalat-shabbat/2030-10-18/
CATEGORIES:Services
END:VEVENT
BEGIN:VEVENT
DTSTART;TZID=America/New_York:20301019T093000
DTEND;TZID=America/New_York:20301019T120000
DTSTAMP:20260424T082048
CREATED:20250715T172155Z
LAST-MODIFIED:20250715T172816Z
UID:10007183-1918632600-1918641600@templeisraelorlando.org
SUMMARY:Shabbat Services
DESCRIPTION:
URL:https://templeisraelorlando.org/event/shabbat-services-2/2030-10-19/
LOCATION:Temple Israel\, 50 S Moss Road\, Winter Springs\, FL\, 32708\, United States
CATEGORIES:Services
END:VEVENT
BEGIN:VEVENT
DTSTART;TZID=America/New_York:20301023T120000
DTEND;TZID=America/New_York:20301023T130000
DTSTAMP:20260424T082048
CREATED:20260224T125059Z
LAST-MODIFIED:20260318T180202Z
UID:10007144-1918987200-1918990800@templeisraelorlando.org
SUMMARY:Lunchtime class with Rabbi Neely
DESCRIPTION:
URL:https://templeisraelorlando.org/event/lunchtime-class-with-rabbi-neely/2030-10-23/
CATEGORIES:Classes
END:VEVENT
BEGIN:VEVENT
DTSTART;TZID=America/New_York:20301024T190000
DTEND;TZID=America/New_York:20301024T203000
DTSTAMP:20260424T082048
CREATED:20260412T165154Z
LAST-MODIFIED:20260412T165154Z
UID:10007327-1919098800-1919104200@templeisraelorlando.org
SUMMARY:TI Men's Club Monthly Social @ The Back Porch
DESCRIPTION:Join Men’s Club on the 4th Thursday of each month @ 7 PM at The Back Porch\, 145 Wekiva Springs Rd #161\, Longwood.
URL:https://templeisraelorlando.org/event/ti-mens-club-monthly-social-the-back-porch/2030-10-24/
CATEGORIES:Event
END:VEVENT
BEGIN:VEVENT
DTSTART;TZID=America/New_York:20301025T190000
DTEND;TZID=America/New_York:20301025T200000
DTSTAMP:20260424T082048
CREATED:20240507T020417Z
LAST-MODIFIED:20260108T191902Z
UID:10006836-1919185200-1919188800@templeisraelorlando.org
SUMMARY:Kabbalat Shabbat
DESCRIPTION:
URL:https://templeisraelorlando.org/event/kabbalat-shabbat/2030-10-25/
CATEGORIES:Services
END:VEVENT
BEGIN:VEVENT
DTSTART;TZID=America/New_York:20301026T093000
DTEND;TZID=America/New_York:20301026T120000
DTSTAMP:20260424T082048
CREATED:20250715T172155Z
LAST-MODIFIED:20250715T172816Z
UID:10007184-1919237400-1919246400@templeisraelorlando.org
SUMMARY:Shabbat Services
DESCRIPTION:
URL:https://templeisraelorlando.org/event/shabbat-services-2/2030-10-26/
LOCATION:Temple Israel\, 50 S Moss Road\, Winter Springs\, FL\, 32708\, United States
CATEGORIES:Services
END:VEVENT
BEGIN:VEVENT
DTSTART;TZID=America/New_York:20301030T120000
DTEND;TZID=America/New_York:20301030T130000
DTSTAMP:20260424T082048
CREATED:20260224T125059Z
LAST-MODIFIED:20260318T180202Z
UID:10007145-1919592000-1919595600@templeisraelorlando.org
SUMMARY:Lunchtime class with Rabbi Neely
DESCRIPTION:
URL:https://templeisraelorlando.org/event/lunchtime-class-with-rabbi-neely/2030-10-30/
CATEGORIES:Classes
END:VEVENT
BEGIN:VEVENT
DTSTART;TZID=America/New_York:20301101T180000
DTEND;TZID=America/New_York:20301101T190000
DTSTAMP:20260424T082048
CREATED:20250724T120311Z
LAST-MODIFIED:20260406T182700Z
UID:10006858-1919786400-1919790000@templeisraelorlando.org
SUMMARY:Kabbalat Shabbat
DESCRIPTION:
URL:https://templeisraelorlando.org/event/kabbalat-shabbat-2-2/2030-11-01/
LOCATION:Temple Israel\, 50 S Moss Road\, Winter Springs\, FL\, 32708\, United States
CATEGORIES:Services
END:VEVENT
BEGIN:VEVENT
DTSTART;TZID=America/New_York:20301102T093000
DTEND;TZID=America/New_York:20301102T120000
DTSTAMP:20260424T082048
CREATED:20250715T172155Z
LAST-MODIFIED:20250715T172816Z
UID:10007185-1919842200-1919851200@templeisraelorlando.org
SUMMARY:Shabbat Services
DESCRIPTION:
URL:https://templeisraelorlando.org/event/shabbat-services-2/2030-11-02/
LOCATION:Temple Israel\, 50 S Moss Road\, Winter Springs\, FL\, 32708\, United States
CATEGORIES:Services
END:VEVENT
BEGIN:VEVENT
DTSTART;TZID=America/New_York:20301106T120000
DTEND;TZID=America/New_York:20301106T130000
DTSTAMP:20260424T082048
CREATED:20260224T125059Z
LAST-MODIFIED:20260318T180202Z
UID:10007146-1920196800-1920200400@templeisraelorlando.org
SUMMARY:Lunchtime class with Rabbi Neely
DESCRIPTION:
URL:https://templeisraelorlando.org/event/lunchtime-class-with-rabbi-neely/2030-11-06/
CATEGORIES:Classes
END:VEVENT
BEGIN:VEVENT
DTSTART;TZID=America/New_York:20301108T170000
DTEND;TZID=America/New_York:20301108T183000
DTSTAMP:20260424T082048
CREATED:20260412T164837Z
LAST-MODIFIED:20260412T165527Z
UID:10007267-1920387600-1920393000@templeisraelorlando.org
SUMMARY:TI Men's Club Warm-Up Dinner @ Corfu Restaurant
DESCRIPTION:Join Men’s Club for dinner on the 2nd Friday of each month at Corfu Restaurant\, 124 W SR 434\, Winter Springs.
URL:https://templeisraelorlando.org/event/ti-mens-club-warm-up-dinner/2030-11-08/
CATEGORIES:Event
END:VEVENT
BEGIN:VEVENT
DTSTART;TZID=America/New_York:20301108T190000
DTEND;TZID=America/New_York:20301108T200000
DTSTAMP:20260424T082048
CREATED:20240507T020417Z
LAST-MODIFIED:20260108T191902Z
UID:10006837-1920394800-1920398400@templeisraelorlando.org
SUMMARY:Kabbalat Shabbat
DESCRIPTION:
URL:https://templeisraelorlando.org/event/kabbalat-shabbat/2030-11-08/
CATEGORIES:Services
END:VEVENT
BEGIN:VEVENT
DTSTART;TZID=America/New_York:20301109T093000
DTEND;TZID=America/New_York:20301109T120000
DTSTAMP:20260424T082048
CREATED:20250715T172155Z
LAST-MODIFIED:20250715T172816Z
UID:10007186-1920447000-1920456000@templeisraelorlando.org
SUMMARY:Shabbat Services
DESCRIPTION:
URL:https://templeisraelorlando.org/event/shabbat-services-2/2030-11-09/
LOCATION:Temple Israel\, 50 S Moss Road\, Winter Springs\, FL\, 32708\, United States
CATEGORIES:Services
END:VEVENT
BEGIN:VEVENT
DTSTART;TZID=America/New_York:20301113T120000
DTEND;TZID=America/New_York:20301113T130000
DTSTAMP:20260424T082048
CREATED:20260224T125059Z
LAST-MODIFIED:20260318T180202Z
UID:10007147-1920801600-1920805200@templeisraelorlando.org
SUMMARY:Lunchtime class with Rabbi Neely
DESCRIPTION:
URL:https://templeisraelorlando.org/event/lunchtime-class-with-rabbi-neely/2030-11-13/
CATEGORIES:Classes
END:VEVENT
BEGIN:VEVENT
DTSTART;TZID=America/New_York:20301115T190000
DTEND;TZID=America/New_York:20301115T200000
DTSTAMP:20260424T082048
CREATED:20240507T020417Z
LAST-MODIFIED:20260108T191902Z
UID:10006838-1920999600-1921003200@templeisraelorlando.org
SUMMARY:Kabbalat Shabbat
DESCRIPTION:
URL:https://templeisraelorlando.org/event/kabbalat-shabbat/2030-11-15/
CATEGORIES:Services
END:VEVENT
BEGIN:VEVENT
DTSTART;TZID=America/New_York:20301116T093000
DTEND;TZID=America/New_York:20301116T120000
DTSTAMP:20260424T082048
CREATED:20250715T172155Z
LAST-MODIFIED:20250715T172816Z
UID:10007187-1921051800-1921060800@templeisraelorlando.org
SUMMARY:Shabbat Services
DESCRIPTION:
URL:https://templeisraelorlando.org/event/shabbat-services-2/2030-11-16/
LOCATION:Temple Israel\, 50 S Moss Road\, Winter Springs\, FL\, 32708\, United States
CATEGORIES:Services
END:VEVENT
BEGIN:VEVENT
DTSTART;TZID=America/New_York:20301120T120000
DTEND;TZID=America/New_York:20301120T130000
DTSTAMP:20260424T082048
CREATED:20260224T125059Z
LAST-MODIFIED:20260318T180202Z
UID:10007148-1921406400-1921410000@templeisraelorlando.org
SUMMARY:Lunchtime class with Rabbi Neely
DESCRIPTION:
URL:https://templeisraelorlando.org/event/lunchtime-class-with-rabbi-neely/2030-11-20/
CATEGORIES:Classes
END:VEVENT
BEGIN:VEVENT
DTSTART;TZID=America/New_York:20301122T190000
DTEND;TZID=America/New_York:20301122T200000
DTSTAMP:20260424T082048
CREATED:20240507T020417Z
LAST-MODIFIED:20260108T191902Z
UID:10006870-1921604400-1921608000@templeisraelorlando.org
SUMMARY:Kabbalat Shabbat
DESCRIPTION:
URL:https://templeisraelorlando.org/event/kabbalat-shabbat/2030-11-22/
CATEGORIES:Services
END:VEVENT
BEGIN:VEVENT
DTSTART;TZID=America/New_York:20301123T093000
DTEND;TZID=America/New_York:20301123T120000
DTSTAMP:20260424T082048
CREATED:20250715T172155Z
LAST-MODIFIED:20250715T172816Z
UID:10007188-1921656600-1921665600@templeisraelorlando.org
SUMMARY:Shabbat Services
DESCRIPTION:
URL:https://templeisraelorlando.org/event/shabbat-services-2/2030-11-23/
LOCATION:Temple Israel\, 50 S Moss Road\, Winter Springs\, FL\, 32708\, United States
CATEGORIES:Services
END:VEVENT
BEGIN:VEVENT
DTSTART;TZID=America/New_York:20301127T120000
DTEND;TZID=America/New_York:20301127T130000
DTSTAMP:20260424T082048
CREATED:20260224T125059Z
LAST-MODIFIED:20260318T180202Z
UID:10007149-1922011200-1922014800@templeisraelorlando.org
SUMMARY:Lunchtime class with Rabbi Neely
DESCRIPTION:
URL:https://templeisraelorlando.org/event/lunchtime-class-with-rabbi-neely/2030-11-27/
CATEGORIES:Classes
END:VEVENT
BEGIN:VEVENT
DTSTART;TZID=America/New_York:20301128T190000
DTEND;TZID=America/New_York:20301128T203000
DTSTAMP:20260424T082048
CREATED:20260412T165154Z
LAST-MODIFIED:20260412T165154Z
UID:10007328-1922122800-1922128200@templeisraelorlando.org
SUMMARY:TI Men's Club Monthly Social @ The Back Porch
DESCRIPTION:Join Men’s Club on the 4th Thursday of each month @ 7 PM at The Back Porch\, 145 Wekiva Springs Rd #161\, Longwood.
URL:https://templeisraelorlando.org/event/ti-mens-club-monthly-social-the-back-porch/2030-11-28/
CATEGORIES:Event
END:VEVENT
BEGIN:VEVENT
DTSTART;TZID=America/New_York:20301129T190000
DTEND;TZID=America/New_York:20301129T200000
DTSTAMP:20260424T082048
CREATED:20240507T020417Z
LAST-MODIFIED:20260108T191902Z
UID:10006871-1922209200-1922212800@templeisraelorlando.org
SUMMARY:Kabbalat Shabbat
DESCRIPTION:
URL:https://templeisraelorlando.org/event/kabbalat-shabbat/2030-11-29/
CATEGORIES:Services
END:VEVENT
BEGIN:VEVENT
DTSTART;TZID=America/New_York:20301130T093000
DTEND;TZID=America/New_York:20301130T120000
DTSTAMP:20260424T082048
CREATED:20250715T172155Z
LAST-MODIFIED:20250715T172816Z
UID:10007189-1922261400-1922270400@templeisraelorlando.org
SUMMARY:Shabbat Services
DESCRIPTION:
URL:https://templeisraelorlando.org/event/shabbat-services-2/2030-11-30/
LOCATION:Temple Israel\, 50 S Moss Road\, Winter Springs\, FL\, 32708\, United States
CATEGORIES:Services
END:VEVENT
BEGIN:VEVENT
DTSTART;TZID=America/New_York:20301204T120000
DTEND;TZID=America/New_York:20301204T130000
DTSTAMP:20260424T082048
CREATED:20260224T125059Z
LAST-MODIFIED:20260318T180202Z
UID:10007150-1922616000-1922619600@templeisraelorlando.org
SUMMARY:Lunchtime class with Rabbi Neely
DESCRIPTION:
URL:https://templeisraelorlando.org/event/lunchtime-class-with-rabbi-neely/2030-12-04/
CATEGORIES:Classes
END:VEVENT
BEGIN:VEVENT
DTSTART;TZID=America/New_York:20301206T180000
DTEND;TZID=America/New_York:20301206T190000
DTSTAMP:20260424T082048
CREATED:20250724T120311Z
LAST-MODIFIED:20260406T182700Z
UID:10006859-1922810400-1922814000@templeisraelorlando.org
SUMMARY:Kabbalat Shabbat
DESCRIPTION:
URL:https://templeisraelorlando.org/event/kabbalat-shabbat-2-2/2030-12-06/
LOCATION:Temple Israel\, 50 S Moss Road\, Winter Springs\, FL\, 32708\, United States
CATEGORIES:Services
END:VEVENT
END:VCALENDAR