BEGIN:VCALENDAR
VERSION:2.0
PRODID:-//Temple Israel - ECPv6.15.17.1//NONSGML v1.0//EN
CALSCALE:GREGORIAN
METHOD:PUBLISH
X-WR-CALNAME:Temple Israel
X-ORIGINAL-URL:https://templeisraelorlando.org
X-WR-CALDESC:Events for Temple Israel
REFRESH-INTERVAL;VALUE=DURATION:PT1H
X-Robots-Tag:noindex
X-PUBLISHED-TTL:PT1H
BEGIN:VTIMEZONE
TZID:America/New_York
BEGIN:DAYLIGHT
TZOFFSETFROM:-0500
TZOFFSETTO:-0400
TZNAME:EDT
DTSTART:20230312T070000
END:DAYLIGHT
BEGIN:STANDARD
TZOFFSETFROM:-0400
TZOFFSETTO:-0500
TZNAME:EST
DTSTART:20231105T060000
END:STANDARD
BEGIN:DAYLIGHT
TZOFFSETFROM:-0500
TZOFFSETTO:-0400
TZNAME:EDT
DTSTART:20240310T070000
END:DAYLIGHT
BEGIN:STANDARD
TZOFFSETFROM:-0400
TZOFFSETTO:-0500
TZNAME:EST
DTSTART:20241103T060000
END:STANDARD
BEGIN:DAYLIGHT
TZOFFSETFROM:-0500
TZOFFSETTO:-0400
TZNAME:EDT
DTSTART:20250309T070000
END:DAYLIGHT
BEGIN:STANDARD
TZOFFSETFROM:-0400
TZOFFSETTO:-0500
TZNAME:EST
DTSTART:20251102T060000
END:STANDARD
END:VTIMEZONE
BEGIN:VTIMEZONE
TZID:UTC
BEGIN:STANDARD
TZOFFSETFROM:+0000
TZOFFSETTO:+0000
TZNAME:UTC
DTSTART:20230101T000000
END:STANDARD
END:VTIMEZONE
BEGIN:VEVENT
DTSTART;TZID=America/New_York:20240707T100000
DTEND;TZID=America/New_York:20240707T113000
DTSTAMP:20260420T222646
CREATED:20240515T192119Z
LAST-MODIFIED:20240515T192119Z
UID:10001811-1720346400-1720351800@templeisraelorlando.org
SUMMARY:Men's Club Committee
DESCRIPTION:
URL:https://templeisraelorlando.org/event/mens-club-committee/2024-07-07/
CATEGORIES:Committee meeting
END:VEVENT
BEGIN:VEVENT
DTSTART;TZID=America/New_York:20240707T090000
DTEND;TZID=America/New_York:20240707T093000
DTSTAMP:20260420T222646
CREATED:20240507T021438Z
LAST-MODIFIED:20250715T172314Z
UID:10005334-1720342800-1720344600@templeisraelorlando.org
SUMMARY:Sunday Minyan
DESCRIPTION:Our minyan starts at 9:00am in person and on zoom. \nhttps://us02web.zoom.us/j/83885789313?pwd=UkdrN25yMGRpTUIzNlRwejd1UWpjQT09 \nMeeting ID: 838 8578 9313\nPasscode: 165936
URL:https://templeisraelorlando.org/event/sunday-minyan/2024-07-07/
LOCATION:Temple Israel\, 50 S Moss Road\, Winter Springs\, FL\, 32708\, United States
CATEGORIES:Services
END:VEVENT
BEGIN:VEVENT
DTSTART;TZID=America/New_York:20240706T133000
DTEND;TZID=America/New_York:20240706T160000
DTSTAMP:20260420T222646
CREATED:20240507T020909Z
LAST-MODIFIED:20250715T170210Z
UID:10003759-1720272600-1720281600@templeisraelorlando.org
SUMMARY:Shabbat Services
DESCRIPTION:
URL:https://templeisraelorlando.org/event/shabbat-services/2024-07-06/
LOCATION:Temple Israel\, 50 S Moss Road\, Winter Springs\, FL\, 32708\, United States
CATEGORIES:Services
END:VEVENT
BEGIN:VEVENT
DTSTART;TZID=America/New_York:20240705T190000
DTEND;TZID=America/New_York:20240705T200000
DTSTAMP:20260420T222646
CREATED:20240507T020708Z
LAST-MODIFIED:20250715T171954Z
UID:10004994-1720206000-1720209600@templeisraelorlando.org
SUMMARY:Kabbalat Shabbat
DESCRIPTION:
URL:https://templeisraelorlando.org/event/kabbalat-shabbat-2/2024-07-05/
LOCATION:Temple Israel\, 50 S Moss Road\, Winter Springs\, FL\, 32708\, United States
CATEGORIES:Services
END:VEVENT
BEGIN:VEVENT
DTSTART;VALUE=DATE:20240704
DTEND;VALUE=DATE:20240705
DTSTAMP:20260420T222646
CREATED:20240514T185917Z
LAST-MODIFIED:20240514T185917Z
UID:10001760-1720051200-1720137599@templeisraelorlando.org
SUMMARY:Independence Day
DESCRIPTION:
URL:https://templeisraelorlando.org/event/independence-day/
CATEGORIES:Holiday
END:VEVENT
BEGIN:VEVENT
DTSTART;TZID=America/New_York:20240703T100000
DTEND;TZID=America/New_York:20240703T110000
DTSTAMP:20260420T222646
CREATED:20240514T034609Z
LAST-MODIFIED:20250909T130745Z
UID:10006691-1720000800-1720004400@templeisraelorlando.org
SUMMARY:Men's Club Poker
DESCRIPTION:Join Temple Israel’s Men’s Club for a friendly game of poker and more! Everyone welcome!\n$10. Beer and snacks provided.\nContact Michael Danoff for more information and to RSVP at michael.danoff@gmail.com.
URL:https://templeisraelorlando.org/event/mens-club-poker/2024-07-03/
CATEGORIES:Event
END:VEVENT
BEGIN:VEVENT
DTSTART;TZID=America/New_York:20240702T193000
DTEND;TZID=America/New_York:20240702T203000
DTSTAMP:20260420T222646
CREATED:20240514T200645Z
LAST-MODIFIED:20240514T200645Z
UID:10001803-1719948600-1719952200@templeisraelorlando.org
SUMMARY:Ways and Means Committee
DESCRIPTION:
URL:https://templeisraelorlando.org/event/ways-and-means-committee-2/
CATEGORIES:Committee meeting
END:VEVENT
BEGIN:VEVENT
DTSTART;TZID=America/New_York:20240630T090000
DTEND;TZID=America/New_York:20240630T093000
DTSTAMP:20260420T222646
CREATED:20240507T021438Z
LAST-MODIFIED:20250715T172314Z
UID:10005333-1719738000-1719739800@templeisraelorlando.org
SUMMARY:Sunday Minyan
DESCRIPTION:Our minyan starts at 9:00am in person and on zoom. \nhttps://us02web.zoom.us/j/83885789313?pwd=UkdrN25yMGRpTUIzNlRwejd1UWpjQT09 \nMeeting ID: 838 8578 9313\nPasscode: 165936
URL:https://templeisraelorlando.org/event/sunday-minyan/2024-06-30/
LOCATION:Temple Israel\, 50 S Moss Road\, Winter Springs\, FL\, 32708\, United States
CATEGORIES:Services
END:VEVENT
BEGIN:VEVENT
DTSTART;TZID=America/New_York:20240629T133000
DTEND;TZID=America/New_York:20240629T160000
DTSTAMP:20260420T222646
CREATED:20240507T020909Z
LAST-MODIFIED:20250715T170210Z
UID:10003758-1719667800-1719676800@templeisraelorlando.org
SUMMARY:Shabbat Services
DESCRIPTION:
URL:https://templeisraelorlando.org/event/shabbat-services/2024-06-29/
LOCATION:Temple Israel\, 50 S Moss Road\, Winter Springs\, FL\, 32708\, United States
CATEGORIES:Services
END:VEVENT
BEGIN:VEVENT
DTSTART;TZID=America/New_York:20240628T190000
DTEND;TZID=America/New_York:20240628T200000
DTSTAMP:20260420T222646
CREATED:20240507T020417Z
LAST-MODIFIED:20260108T191902Z
UID:10004677-1719601200-1719604800@templeisraelorlando.org
SUMMARY:Kabbalat Shabbat
DESCRIPTION:
URL:https://templeisraelorlando.org/event/kabbalat-shabbat/2024-06-28/
CATEGORIES:Services
END:VEVENT
BEGIN:VEVENT
DTSTART;TZID=America/New_York:20240624T190000
DTEND;TZID=America/New_York:20240624T200000
DTSTAMP:20260420T222646
CREATED:20240507T032905Z
LAST-MODIFIED:20250825T133443Z
UID:10006475-1719255600-1719259200@templeisraelorlando.org
SUMMARY:Board of Directors
DESCRIPTION:
URL:https://templeisraelorlando.org/event/board-of-directors/2024-06-24/
CATEGORIES:Committee meeting
END:VEVENT
BEGIN:VEVENT
DTSTART;TZID=America/New_York:20240623T100000
DTEND;TZID=America/New_York:20240623T170000
DTSTAMP:20260420T222646
CREATED:20240614T140749Z
LAST-MODIFIED:20240614T142727Z
UID:10001954-1719136800-1719162000@templeisraelorlando.org
SUMMARY:Men's Club Guest Speaker
DESCRIPTION:$5 for non-members\nFree for Men’s Club members \nRSVP to Natan Brener at 407-435-8613
URL:https://templeisraelorlando.org/event/mens-club-guest-speaker/
CATEGORIES:Event
ATTACH;FMTTYPE=image/png:https://templeisraelorlando.org/wp-content/uploads/2024/06/Mens-Club-Guest-Speaker-2.png
END:VEVENT
BEGIN:VEVENT
DTSTART;TZID=America/New_York:20240623T090000
DTEND;TZID=America/New_York:20240623T093000
DTSTAMP:20260420T222646
CREATED:20240507T021438Z
LAST-MODIFIED:20250715T172314Z
UID:10005332-1719133200-1719135000@templeisraelorlando.org
SUMMARY:Sunday Minyan
DESCRIPTION:Our minyan starts at 9:00am in person and on zoom. \nhttps://us02web.zoom.us/j/83885789313?pwd=UkdrN25yMGRpTUIzNlRwejd1UWpjQT09 \nMeeting ID: 838 8578 9313\nPasscode: 165936
URL:https://templeisraelorlando.org/event/sunday-minyan/2024-06-23/
LOCATION:Temple Israel\, 50 S Moss Road\, Winter Springs\, FL\, 32708\, United States
CATEGORIES:Services
END:VEVENT
BEGIN:VEVENT
DTSTART;TZID=America/New_York:20240622T133000
DTEND;TZID=America/New_York:20240622T160000
DTSTAMP:20260420T222646
CREATED:20240507T020909Z
LAST-MODIFIED:20250715T170210Z
UID:10003757-1719063000-1719072000@templeisraelorlando.org
SUMMARY:Shabbat Services
DESCRIPTION:
URL:https://templeisraelorlando.org/event/shabbat-services/2024-06-22/
LOCATION:Temple Israel\, 50 S Moss Road\, Winter Springs\, FL\, 32708\, United States
CATEGORIES:Services
END:VEVENT
BEGIN:VEVENT
DTSTART;TZID=America/New_York:20240621T190000
DTEND;TZID=America/New_York:20240621T200000
DTSTAMP:20260420T222646
CREATED:20240507T020417Z
LAST-MODIFIED:20260108T191902Z
UID:10004676-1718996400-1719000000@templeisraelorlando.org
SUMMARY:Kabbalat Shabbat
DESCRIPTION:
URL:https://templeisraelorlando.org/event/kabbalat-shabbat/2024-06-21/
CATEGORIES:Services
END:VEVENT
BEGIN:VEVENT
DTSTART;VALUE=DATE:20240619
DTEND;VALUE=DATE:20240620
DTSTAMP:20260420T222646
CREATED:20240514T185855Z
LAST-MODIFIED:20240514T185855Z
UID:10001759-1718755200-1718841599@templeisraelorlando.org
SUMMARY:Juneteenth
DESCRIPTION:
URL:https://templeisraelorlando.org/event/juneteenth/
CATEGORIES:Holiday
END:VEVENT
BEGIN:VEVENT
DTSTART;TZID=UTC:20240616T100000
DTEND;TZID=UTC:20240616T120000
DTSTAMP:20260420T222646
CREATED:20240511T000733Z
LAST-MODIFIED:20240511T000733Z
UID:10001691-1718532000-1718539200@templeisraelorlando.org
SUMMARY:Congregational Town Hall Meeting
DESCRIPTION:Please make every effort to attend as we need a quorum! \nIn addition\, we will be broadcasting via Zoom: \nMeeting ID: 845 7204 8175 \nPasscode: 259681 \nPlease enter through school doors #3 only
URL:https://templeisraelorlando.org/event/congregational-town-hall-meeting/
LOCATION:Temple Israel\, 50 S Moss Road\, Winter Springs\, FL\, 32708\, United States
CATEGORIES:Congregational meeting
END:VEVENT
BEGIN:VEVENT
DTSTART;TZID=UTC:20240616T093000
DTEND;TZID=UTC:20240616T103000
DTSTAMP:20260420T222646
CREATED:20240507T022122Z
LAST-MODIFIED:20240508T162738Z
UID:10001322-1718530200-1718533800@templeisraelorlando.org
SUMMARY:Café Rishon @ Temple Israel
DESCRIPTION:
URL:https://templeisraelorlando.org/event/cafe-rishon-temple-israel/2024-06-16/
LOCATION:Temple Israel\, 50 S Moss Road\, Winter Springs\, FL\, 32708\, United States
CATEGORIES:Event
END:VEVENT
BEGIN:VEVENT
DTSTART;TZID=America/New_York:20240616T090000
DTEND;TZID=America/New_York:20240616T093000
DTSTAMP:20260420T222646
CREATED:20240507T021438Z
LAST-MODIFIED:20250715T172314Z
UID:10005331-1718528400-1718530200@templeisraelorlando.org
SUMMARY:Sunday Minyan
DESCRIPTION:Our minyan starts at 9:00am in person and on zoom. \nhttps://us02web.zoom.us/j/83885789313?pwd=UkdrN25yMGRpTUIzNlRwejd1UWpjQT09 \nMeeting ID: 838 8578 9313\nPasscode: 165936
URL:https://templeisraelorlando.org/event/sunday-minyan/2024-06-16/
LOCATION:Temple Israel\, 50 S Moss Road\, Winter Springs\, FL\, 32708\, United States
CATEGORIES:Services
END:VEVENT
BEGIN:VEVENT
DTSTART;VALUE=DATE:20240616
DTEND;VALUE=DATE:20240617
DTSTAMP:20260420T222646
CREATED:20240514T185823Z
LAST-MODIFIED:20240514T185823Z
UID:10001758-1718496000-1718582399@templeisraelorlando.org
SUMMARY:Flag Day
DESCRIPTION:
URL:https://templeisraelorlando.org/event/flag-day/
CATEGORIES:Holiday
END:VEVENT
BEGIN:VEVENT
DTSTART;TZID=America/New_York:20240615T133000
DTEND;TZID=America/New_York:20240615T160000
DTSTAMP:20260420T222646
CREATED:20240507T020909Z
LAST-MODIFIED:20250715T170210Z
UID:10003756-1718458200-1718467200@templeisraelorlando.org
SUMMARY:Shabbat Services
DESCRIPTION:
URL:https://templeisraelorlando.org/event/shabbat-services/2024-06-15/
LOCATION:Temple Israel\, 50 S Moss Road\, Winter Springs\, FL\, 32708\, United States
CATEGORIES:Services
END:VEVENT
BEGIN:VEVENT
DTSTART;TZID=America/New_York:20240614T190000
DTEND;TZID=America/New_York:20240614T200000
DTSTAMP:20260420T222646
CREATED:20240507T020417Z
LAST-MODIFIED:20260108T191902Z
UID:10004675-1718391600-1718395200@templeisraelorlando.org
SUMMARY:Kabbalat Shabbat
DESCRIPTION:
URL:https://templeisraelorlando.org/event/kabbalat-shabbat/2024-06-14/
CATEGORIES:Services
END:VEVENT
BEGIN:VEVENT
DTSTART;TZID=UTC:20240613T093000
DTEND;TZID=UTC:20240613T120000
DTSTAMP:20260420T222646
CREATED:20240510T042054Z
LAST-MODIFIED:20240510T042108Z
UID:10001686-1718271000-1718280000@templeisraelorlando.org
SUMMARY:Shavuot Services Day 2
DESCRIPTION:
URL:https://templeisraelorlando.org/event/shavuot-services-day-2/
LOCATION:Temple Israel\, 50 S Moss Road\, Winter Springs\, FL\, 32708\, United States
CATEGORIES:Services
END:VEVENT
BEGIN:VEVENT
DTSTART;VALUE=DATE:20240613
DTEND;VALUE=DATE:20240614
DTSTAMP:20260420T222646
CREATED:20240514T191513Z
LAST-MODIFIED:20240514T191513Z
UID:10001777-1718236800-1718323199@templeisraelorlando.org
SUMMARY:Shavuot II
DESCRIPTION:
URL:https://templeisraelorlando.org/event/shavuot-ii/
CATEGORIES:Holiday
END:VEVENT
BEGIN:VEVENT
DTSTART;TZID=UTC:20240612T093000
DTEND;TZID=UTC:20240612T120000
DTSTAMP:20260420T222646
CREATED:20240510T042028Z
LAST-MODIFIED:20240510T042028Z
UID:10001685-1718184600-1718193600@templeisraelorlando.org
SUMMARY:Shavuot Services Day 1
DESCRIPTION:
URL:https://templeisraelorlando.org/event/shavuot-services-day-1/
LOCATION:Temple Israel\, 50 S Moss Road\, Winter Springs\, FL\, 32708\, United States
CATEGORIES:Services
END:VEVENT
BEGIN:VEVENT
DTSTART;VALUE=DATE:20240612
DTEND;VALUE=DATE:20240613
DTSTAMP:20260420T222646
CREATED:20240514T191348Z
LAST-MODIFIED:20240514T191348Z
UID:10001776-1718150400-1718236799@templeisraelorlando.org
SUMMARY:Shavuot
DESCRIPTION:
URL:https://templeisraelorlando.org/event/shavuot/
CATEGORIES:Holiday
END:VEVENT
BEGIN:VEVENT
DTSTART;TZID=UTC:20240611T200000
DTEND;TZID=UTC:20240611T235900
DTSTAMP:20260420T222646
CREATED:20240510T041937Z
LAST-MODIFIED:20240514T181240Z
UID:10001684-1718136000-1718150340@templeisraelorlando.org
SUMMARY:Tikkun Leil Shavuot
DESCRIPTION:
URL:https://templeisraelorlando.org/event/tikkun-leil-shavuot/
LOCATION:Temple Israel\, 50 S Moss Road\, Winter Springs\, FL\, 32708\, United States
CATEGORIES:Services
END:VEVENT
BEGIN:VEVENT
DTSTART;TZID=America/New_York:20240611T200000
DTEND;TZID=America/New_York:20240611T200000
DTSTAMP:20260420T222646
CREATED:20240605T171120Z
LAST-MODIFIED:20240605T171213Z
UID:10001945-1718136000-1718136000@templeisraelorlando.org
SUMMARY:Temple Israel Cheesecake Competition
DESCRIPTION:
URL:https://templeisraelorlando.org/event/temple-israel-cheesecake-competition/
CATEGORIES:Event
END:VEVENT
BEGIN:VEVENT
DTSTART;VALUE=DATE:20240611
DTEND;VALUE=DATE:20240612
DTSTAMP:20260420T222646
CREATED:20240514T191245Z
LAST-MODIFIED:20240514T191245Z
UID:10001775-1718064000-1718150399@templeisraelorlando.org
SUMMARY:Erev Shavuot
DESCRIPTION:
URL:https://templeisraelorlando.org/event/erev-shavuot/
CATEGORIES:Holiday
END:VEVENT
BEGIN:VEVENT
DTSTART;TZID=UTC:20240610T190000
DTEND;TZID=UTC:20240610T200000
DTSTAMP:20260420T222646
CREATED:20240507T032758Z
LAST-MODIFIED:20240507T032758Z
UID:10001377-1718046000-1718049600@templeisraelorlando.org
SUMMARY:Executive Committee
DESCRIPTION:
URL:https://templeisraelorlando.org/event/executive-committee/2024-06-10/
END:VEVENT
END:VCALENDAR