BEGIN:VCALENDAR
VERSION:2.0
PRODID:-//Temple Israel - ECPv6.15.17.1//NONSGML v1.0//EN
CALSCALE:GREGORIAN
METHOD:PUBLISH
X-WR-CALNAME:Temple Israel
X-ORIGINAL-URL:https://templeisraelorlando.org
X-WR-CALDESC:Events for Temple Israel
REFRESH-INTERVAL;VALUE=DURATION:PT1H
X-Robots-Tag:noindex
X-PUBLISHED-TTL:PT1H
BEGIN:VTIMEZONE
TZID:America/New_York
BEGIN:DAYLIGHT
TZOFFSETFROM:-0500
TZOFFSETTO:-0400
TZNAME:EDT
DTSTART:20270314T070000
END:DAYLIGHT
BEGIN:STANDARD
TZOFFSETFROM:-0400
TZOFFSETTO:-0500
TZNAME:EST
DTSTART:20271107T060000
END:STANDARD
BEGIN:DAYLIGHT
TZOFFSETFROM:-0500
TZOFFSETTO:-0400
TZNAME:EDT
DTSTART:20280312T070000
END:DAYLIGHT
BEGIN:STANDARD
TZOFFSETFROM:-0400
TZOFFSETTO:-0500
TZNAME:EST
DTSTART:20281105T060000
END:STANDARD
BEGIN:DAYLIGHT
TZOFFSETFROM:-0500
TZOFFSETTO:-0400
TZNAME:EDT
DTSTART:20290311T070000
END:DAYLIGHT
BEGIN:STANDARD
TZOFFSETFROM:-0400
TZOFFSETTO:-0500
TZNAME:EST
DTSTART:20291104T060000
END:STANDARD
END:VTIMEZONE
BEGIN:VEVENT
DTSTART;TZID=America/New_York:20280622T190000
DTEND;TZID=America/New_York:20280622T203000
DTSTAMP:20260421T013753
CREATED:20260412T165154Z
LAST-MODIFIED:20260412T165154Z
UID:10007299-1845313200-1845318600@templeisraelorlando.org
SUMMARY:TI Men's Club Monthly Social @ The Back Porch
DESCRIPTION:Join Men’s Club on the 4th Thursday of each month @ 7 PM at The Back Porch\, 145 Wekiva Springs Rd #161\, Longwood.
URL:https://templeisraelorlando.org/event/ti-mens-club-monthly-social-the-back-porch/2028-06-22/
CATEGORIES:Event
END:VEVENT
BEGIN:VEVENT
DTSTART;TZID=America/New_York:20280623T190000
DTEND;TZID=America/New_York:20280623T200000
DTSTAMP:20260421T013753
CREATED:20240507T020417Z
LAST-MODIFIED:20260108T191902Z
UID:10004836-1845399600-1845403200@templeisraelorlando.org
SUMMARY:Kabbalat Shabbat
DESCRIPTION:
URL:https://templeisraelorlando.org/event/kabbalat-shabbat/2028-06-23/
CATEGORIES:Services
END:VEVENT
BEGIN:VEVENT
DTSTART;TZID=America/New_York:20280624T093000
DTEND;TZID=America/New_York:20280624T120000
DTSTAMP:20260421T013753
CREATED:20250715T172155Z
LAST-MODIFIED:20250715T172816Z
UID:10006238-1845451800-1845460800@templeisraelorlando.org
SUMMARY:Shabbat Services
DESCRIPTION:
URL:https://templeisraelorlando.org/event/shabbat-services-2/2028-06-24/
LOCATION:Temple Israel\, 50 S Moss Road\, Winter Springs\, FL\, 32708\, United States
CATEGORIES:Services
END:VEVENT
BEGIN:VEVENT
DTSTART;TZID=America/New_York:20280625T090000
DTEND;TZID=America/New_York:20280625T093000
DTSTAMP:20260421T013753
CREATED:20240507T021438Z
LAST-MODIFIED:20250715T172314Z
UID:10005539-1845536400-1845538200@templeisraelorlando.org
SUMMARY:Sunday Minyan
DESCRIPTION:Our minyan starts at 9:00am in person and on zoom. \nhttps://us02web.zoom.us/j/83885789313?pwd=UkdrN25yMGRpTUIzNlRwejd1UWpjQT09 \nMeeting ID: 838 8578 9313\nPasscode: 165936
URL:https://templeisraelorlando.org/event/sunday-minyan/2028-06-25/
LOCATION:Temple Israel\, 50 S Moss Road\, Winter Springs\, FL\, 32708\, United States
CATEGORIES:Services
END:VEVENT
BEGIN:VEVENT
DTSTART;TZID=America/New_York:20280626T190000
DTEND;TZID=America/New_York:20280626T200000
DTSTAMP:20260421T013753
CREATED:20240507T032905Z
LAST-MODIFIED:20250825T133443Z
UID:10006518-1845658800-1845662400@templeisraelorlando.org
SUMMARY:Board of Directors
DESCRIPTION:
URL:https://templeisraelorlando.org/event/board-of-directors/2028-06-26/
CATEGORIES:Committee meeting
END:VEVENT
BEGIN:VEVENT
DTSTART;TZID=America/New_York:20280627T193000
DTEND;TZID=America/New_York:20280627T203000
DTSTAMP:20260421T013753
CREATED:20250630T172741Z
LAST-MODIFIED:20250825T133756Z
UID:10003149-1845747000-1845750600@templeisraelorlando.org
SUMMARY:Membership Committee Meeting
DESCRIPTION:
URL:https://templeisraelorlando.org/event/membership-committee-meeting-3/2028-06-27/
CATEGORIES:Committee meeting
END:VEVENT
BEGIN:VEVENT
DTSTART;TZID=America/New_York:20280628T120000
DTEND;TZID=America/New_York:20280628T130000
DTSTAMP:20260421T013753
CREATED:20260224T125059Z
LAST-MODIFIED:20260318T180202Z
UID:10007023-1845806400-1845810000@templeisraelorlando.org
SUMMARY:Lunchtime class with Rabbi Neely
DESCRIPTION:
URL:https://templeisraelorlando.org/event/lunchtime-class-with-rabbi-neely/2028-06-28/
CATEGORIES:Classes
END:VEVENT
BEGIN:VEVENT
DTSTART;TZID=America/New_York:20280630T190000
DTEND;TZID=America/New_York:20280630T200000
DTSTAMP:20260421T013753
CREATED:20240507T020417Z
LAST-MODIFIED:20260108T191902Z
UID:10004837-1846004400-1846008000@templeisraelorlando.org
SUMMARY:Kabbalat Shabbat
DESCRIPTION:
URL:https://templeisraelorlando.org/event/kabbalat-shabbat/2028-06-30/
CATEGORIES:Services
END:VEVENT
BEGIN:VEVENT
DTSTART;TZID=America/New_York:20280701T093000
DTEND;TZID=America/New_York:20280701T120000
DTSTAMP:20260421T013753
CREATED:20250715T172155Z
LAST-MODIFIED:20250715T172816Z
UID:10006239-1846056600-1846065600@templeisraelorlando.org
SUMMARY:Shabbat Services
DESCRIPTION:
URL:https://templeisraelorlando.org/event/shabbat-services-2/2028-07-01/
LOCATION:Temple Israel\, 50 S Moss Road\, Winter Springs\, FL\, 32708\, United States
CATEGORIES:Services
END:VEVENT
BEGIN:VEVENT
DTSTART;TZID=America/New_York:20280702T090000
DTEND;TZID=America/New_York:20280702T093000
DTSTAMP:20260421T013753
CREATED:20240507T021438Z
LAST-MODIFIED:20250715T172314Z
UID:10005540-1846141200-1846143000@templeisraelorlando.org
SUMMARY:Sunday Minyan
DESCRIPTION:Our minyan starts at 9:00am in person and on zoom. \nhttps://us02web.zoom.us/j/83885789313?pwd=UkdrN25yMGRpTUIzNlRwejd1UWpjQT09 \nMeeting ID: 838 8578 9313\nPasscode: 165936
URL:https://templeisraelorlando.org/event/sunday-minyan/2028-07-02/
LOCATION:Temple Israel\, 50 S Moss Road\, Winter Springs\, FL\, 32708\, United States
CATEGORIES:Services
END:VEVENT
BEGIN:VEVENT
DTSTART;TZID=America/New_York:20280705T120000
DTEND;TZID=America/New_York:20280705T130000
DTSTAMP:20260421T013753
CREATED:20260224T125059Z
LAST-MODIFIED:20260318T180202Z
UID:10007024-1846411200-1846414800@templeisraelorlando.org
SUMMARY:Lunchtime class with Rabbi Neely
DESCRIPTION:
URL:https://templeisraelorlando.org/event/lunchtime-class-with-rabbi-neely/2028-07-05/
CATEGORIES:Classes
END:VEVENT
BEGIN:VEVENT
DTSTART;TZID=America/New_York:20280707T180000
DTEND;TZID=America/New_York:20280707T190000
DTSTAMP:20260421T013753
CREATED:20250724T120311Z
LAST-MODIFIED:20260406T182700Z
UID:10006642-1846605600-1846609200@templeisraelorlando.org
SUMMARY:Kabbalat Shabbat
DESCRIPTION:
URL:https://templeisraelorlando.org/event/kabbalat-shabbat-2-2/2028-07-07/
LOCATION:Temple Israel\, 50 S Moss Road\, Winter Springs\, FL\, 32708\, United States
CATEGORIES:Services
END:VEVENT
BEGIN:VEVENT
DTSTART;TZID=America/New_York:20280708T093000
DTEND;TZID=America/New_York:20280708T120000
DTSTAMP:20260421T013753
CREATED:20250715T172155Z
LAST-MODIFIED:20250715T172816Z
UID:10006240-1846661400-1846670400@templeisraelorlando.org
SUMMARY:Shabbat Services
DESCRIPTION:
URL:https://templeisraelorlando.org/event/shabbat-services-2/2028-07-08/
LOCATION:Temple Israel\, 50 S Moss Road\, Winter Springs\, FL\, 32708\, United States
CATEGORIES:Services
END:VEVENT
BEGIN:VEVENT
DTSTART;TZID=America/New_York:20280709T090000
DTEND;TZID=America/New_York:20280709T093000
DTSTAMP:20260421T013753
CREATED:20240507T021438Z
LAST-MODIFIED:20250715T172314Z
UID:10005541-1846746000-1846747800@templeisraelorlando.org
SUMMARY:Sunday Minyan
DESCRIPTION:Our minyan starts at 9:00am in person and on zoom. \nhttps://us02web.zoom.us/j/83885789313?pwd=UkdrN25yMGRpTUIzNlRwejd1UWpjQT09 \nMeeting ID: 838 8578 9313\nPasscode: 165936
URL:https://templeisraelorlando.org/event/sunday-minyan/2028-07-09/
LOCATION:Temple Israel\, 50 S Moss Road\, Winter Springs\, FL\, 32708\, United States
CATEGORIES:Services
END:VEVENT
BEGIN:VEVENT
DTSTART;TZID=America/New_York:20280710T190000
DTEND;TZID=America/New_York:20280710T200000
DTSTAMP:20260421T013753
CREATED:20240827T002911Z
LAST-MODIFIED:20250928T233226Z
UID:10006450-1846868400-1846872000@templeisraelorlando.org
SUMMARY:Executive Committee
DESCRIPTION:
URL:https://templeisraelorlando.org/event/executive-committee-2-2/2028-07-10/
END:VEVENT
BEGIN:VEVENT
DTSTART;TZID=America/New_York:20280712T120000
DTEND;TZID=America/New_York:20280712T130000
DTSTAMP:20260421T013753
CREATED:20260224T125059Z
LAST-MODIFIED:20260318T180202Z
UID:10007025-1847016000-1847019600@templeisraelorlando.org
SUMMARY:Lunchtime class with Rabbi Neely
DESCRIPTION:
URL:https://templeisraelorlando.org/event/lunchtime-class-with-rabbi-neely/2028-07-12/
CATEGORIES:Classes
END:VEVENT
BEGIN:VEVENT
DTSTART;TZID=America/New_York:20280714T170000
DTEND;TZID=America/New_York:20280714T183000
DTSTAMP:20260421T013753
CREATED:20260412T164837Z
LAST-MODIFIED:20260412T165527Z
UID:10007239-1847206800-1847212200@templeisraelorlando.org
SUMMARY:TI Men's Club Warm-Up Dinner @ Corfu Restaurant
DESCRIPTION:Join Men’s Club for dinner on the 2nd Friday of each month at Corfu Restaurant\, 124 W SR 434\, Winter Springs.
URL:https://templeisraelorlando.org/event/ti-mens-club-warm-up-dinner/2028-07-14/
CATEGORIES:Event
END:VEVENT
BEGIN:VEVENT
DTSTART;TZID=America/New_York:20280714T190000
DTEND;TZID=America/New_York:20280714T200000
DTSTAMP:20260421T013753
CREATED:20240507T020417Z
LAST-MODIFIED:20260108T191902Z
UID:10004838-1847214000-1847217600@templeisraelorlando.org
SUMMARY:Kabbalat Shabbat
DESCRIPTION:
URL:https://templeisraelorlando.org/event/kabbalat-shabbat/2028-07-14/
CATEGORIES:Services
END:VEVENT
BEGIN:VEVENT
DTSTART;TZID=America/New_York:20280715T093000
DTEND;TZID=America/New_York:20280715T120000
DTSTAMP:20260421T013753
CREATED:20250715T172155Z
LAST-MODIFIED:20250715T172816Z
UID:10006241-1847266200-1847275200@templeisraelorlando.org
SUMMARY:Shabbat Services
DESCRIPTION:
URL:https://templeisraelorlando.org/event/shabbat-services-2/2028-07-15/
LOCATION:Temple Israel\, 50 S Moss Road\, Winter Springs\, FL\, 32708\, United States
CATEGORIES:Services
END:VEVENT
BEGIN:VEVENT
DTSTART;TZID=America/New_York:20280715T110000
DTEND;TZID=America/New_York:20280715T234500
DTSTAMP:20260421T013753
CREATED:20240507T033334Z
LAST-MODIFIED:20250715T172956Z
UID:10006391-1847271600-1847317500@templeisraelorlando.org
SUMMARY:Tot Shabbat
DESCRIPTION:
URL:https://templeisraelorlando.org/event/tot-shabbat/2028-07-15/
CATEGORIES:Family
END:VEVENT
BEGIN:VEVENT
DTSTART;TZID=America/New_York:20280716T090000
DTEND;TZID=America/New_York:20280716T093000
DTSTAMP:20260421T013753
CREATED:20240507T021438Z
LAST-MODIFIED:20250715T172314Z
UID:10005542-1847350800-1847352600@templeisraelorlando.org
SUMMARY:Sunday Minyan
DESCRIPTION:Our minyan starts at 9:00am in person and on zoom. \nhttps://us02web.zoom.us/j/83885789313?pwd=UkdrN25yMGRpTUIzNlRwejd1UWpjQT09 \nMeeting ID: 838 8578 9313\nPasscode: 165936
URL:https://templeisraelorlando.org/event/sunday-minyan/2028-07-16/
LOCATION:Temple Israel\, 50 S Moss Road\, Winter Springs\, FL\, 32708\, United States
CATEGORIES:Services
END:VEVENT
BEGIN:VEVENT
DTSTART;TZID=America/New_York:20280719T120000
DTEND;TZID=America/New_York:20280719T130000
DTSTAMP:20260421T013753
CREATED:20260224T125059Z
LAST-MODIFIED:20260318T180202Z
UID:10007026-1847620800-1847624400@templeisraelorlando.org
SUMMARY:Lunchtime class with Rabbi Neely
DESCRIPTION:
URL:https://templeisraelorlando.org/event/lunchtime-class-with-rabbi-neely/2028-07-19/
CATEGORIES:Classes
END:VEVENT
BEGIN:VEVENT
DTSTART;TZID=America/New_York:20280721T190000
DTEND;TZID=America/New_York:20280721T200000
DTSTAMP:20260421T013753
CREATED:20240507T020417Z
LAST-MODIFIED:20260108T191902Z
UID:10004839-1847818800-1847822400@templeisraelorlando.org
SUMMARY:Kabbalat Shabbat
DESCRIPTION:
URL:https://templeisraelorlando.org/event/kabbalat-shabbat/2028-07-21/
CATEGORIES:Services
END:VEVENT
BEGIN:VEVENT
DTSTART;TZID=America/New_York:20280722T093000
DTEND;TZID=America/New_York:20280722T120000
DTSTAMP:20260421T013753
CREATED:20250715T172155Z
LAST-MODIFIED:20250715T172816Z
UID:10006242-1847871000-1847880000@templeisraelorlando.org
SUMMARY:Shabbat Services
DESCRIPTION:
URL:https://templeisraelorlando.org/event/shabbat-services-2/2028-07-22/
LOCATION:Temple Israel\, 50 S Moss Road\, Winter Springs\, FL\, 32708\, United States
CATEGORIES:Services
END:VEVENT
BEGIN:VEVENT
DTSTART;TZID=America/New_York:20280723T090000
DTEND;TZID=America/New_York:20280723T093000
DTSTAMP:20260421T013753
CREATED:20240507T021438Z
LAST-MODIFIED:20250715T172314Z
UID:10005543-1847955600-1847957400@templeisraelorlando.org
SUMMARY:Sunday Minyan
DESCRIPTION:Our minyan starts at 9:00am in person and on zoom. \nhttps://us02web.zoom.us/j/83885789313?pwd=UkdrN25yMGRpTUIzNlRwejd1UWpjQT09 \nMeeting ID: 838 8578 9313\nPasscode: 165936
URL:https://templeisraelorlando.org/event/sunday-minyan/2028-07-23/
LOCATION:Temple Israel\, 50 S Moss Road\, Winter Springs\, FL\, 32708\, United States
CATEGORIES:Services
END:VEVENT
BEGIN:VEVENT
DTSTART;TZID=America/New_York:20280724T190000
DTEND;TZID=America/New_York:20280724T200000
DTSTAMP:20260421T013753
CREATED:20240507T032905Z
LAST-MODIFIED:20250825T133443Z
UID:10006519-1848078000-1848081600@templeisraelorlando.org
SUMMARY:Board of Directors
DESCRIPTION:
URL:https://templeisraelorlando.org/event/board-of-directors/2028-07-24/
CATEGORIES:Committee meeting
END:VEVENT
BEGIN:VEVENT
DTSTART;TZID=America/New_York:20280725T193000
DTEND;TZID=America/New_York:20280725T203000
DTSTAMP:20260421T013753
CREATED:20250630T172741Z
LAST-MODIFIED:20250825T133756Z
UID:10003150-1848166200-1848169800@templeisraelorlando.org
SUMMARY:Membership Committee Meeting
DESCRIPTION:
URL:https://templeisraelorlando.org/event/membership-committee-meeting-3/2028-07-25/
CATEGORIES:Committee meeting
END:VEVENT
BEGIN:VEVENT
DTSTART;TZID=America/New_York:20280726T120000
DTEND;TZID=America/New_York:20280726T130000
DTSTAMP:20260421T013753
CREATED:20260224T125059Z
LAST-MODIFIED:20260318T180202Z
UID:10007027-1848225600-1848229200@templeisraelorlando.org
SUMMARY:Lunchtime class with Rabbi Neely
DESCRIPTION:
URL:https://templeisraelorlando.org/event/lunchtime-class-with-rabbi-neely/2028-07-26/
CATEGORIES:Classes
END:VEVENT
BEGIN:VEVENT
DTSTART;TZID=America/New_York:20280727T190000
DTEND;TZID=America/New_York:20280727T203000
DTSTAMP:20260421T013753
CREATED:20260412T165154Z
LAST-MODIFIED:20260412T165154Z
UID:10007300-1848337200-1848342600@templeisraelorlando.org
SUMMARY:TI Men's Club Monthly Social @ The Back Porch
DESCRIPTION:Join Men’s Club on the 4th Thursday of each month @ 7 PM at The Back Porch\, 145 Wekiva Springs Rd #161\, Longwood.
URL:https://templeisraelorlando.org/event/ti-mens-club-monthly-social-the-back-porch/2028-07-27/
CATEGORIES:Event
END:VEVENT
BEGIN:VEVENT
DTSTART;TZID=America/New_York:20280728T190000
DTEND;TZID=America/New_York:20280728T200000
DTSTAMP:20260421T013753
CREATED:20240507T020417Z
LAST-MODIFIED:20260108T191902Z
UID:10004840-1848423600-1848427200@templeisraelorlando.org
SUMMARY:Kabbalat Shabbat
DESCRIPTION:
URL:https://templeisraelorlando.org/event/kabbalat-shabbat/2028-07-28/
CATEGORIES:Services
END:VEVENT
END:VCALENDAR