BEGIN:VCALENDAR
VERSION:2.0
PRODID:-//Temple Israel - ECPv6.15.17.1//NONSGML v1.0//EN
CALSCALE:GREGORIAN
METHOD:PUBLISH
X-WR-CALNAME:Temple Israel
X-ORIGINAL-URL:https://templeisraelorlando.org
X-WR-CALDESC:Events for Temple Israel
REFRESH-INTERVAL;VALUE=DURATION:PT1H
X-Robots-Tag:noindex
X-PUBLISHED-TTL:PT1H
BEGIN:VTIMEZONE
TZID:America/New_York
BEGIN:DAYLIGHT
TZOFFSETFROM:-0500
TZOFFSETTO:-0400
TZNAME:EDT
DTSTART:20280312T070000
END:DAYLIGHT
BEGIN:STANDARD
TZOFFSETFROM:-0400
TZOFFSETTO:-0500
TZNAME:EST
DTSTART:20281105T060000
END:STANDARD
BEGIN:DAYLIGHT
TZOFFSETFROM:-0500
TZOFFSETTO:-0400
TZNAME:EDT
DTSTART:20290311T070000
END:DAYLIGHT
BEGIN:STANDARD
TZOFFSETFROM:-0400
TZOFFSETTO:-0500
TZNAME:EST
DTSTART:20291104T060000
END:STANDARD
BEGIN:DAYLIGHT
TZOFFSETFROM:-0500
TZOFFSETTO:-0400
TZNAME:EDT
DTSTART:20300310T070000
END:DAYLIGHT
BEGIN:STANDARD
TZOFFSETFROM:-0400
TZOFFSETTO:-0500
TZNAME:EST
DTSTART:20301103T060000
END:STANDARD
END:VTIMEZONE
BEGIN:VEVENT
DTSTART;TZID=America/New_York:20290131T120000
DTEND;TZID=America/New_York:20290131T130000
DTSTAMP:20260421T210520
CREATED:20260224T125059Z
LAST-MODIFIED:20260318T180202Z
UID:10007054-1864555200-1864558800@templeisraelorlando.org
SUMMARY:Lunchtime class with Rabbi Neely
DESCRIPTION:
URL:https://templeisraelorlando.org/event/lunchtime-class-with-rabbi-neely/2029-01-31/
CATEGORIES:Classes
END:VEVENT
BEGIN:VEVENT
DTSTART;TZID=America/New_York:20290202T180000
DTEND;TZID=America/New_York:20290202T190000
DTSTAMP:20260421T210520
CREATED:20250724T120311Z
LAST-MODIFIED:20260406T182700Z
UID:10006649-1864749600-1864753200@templeisraelorlando.org
SUMMARY:Kabbalat Shabbat
DESCRIPTION:
URL:https://templeisraelorlando.org/event/kabbalat-shabbat-2-2/2029-02-02/
LOCATION:Temple Israel\, 50 S Moss Road\, Winter Springs\, FL\, 32708\, United States
CATEGORIES:Services
END:VEVENT
BEGIN:VEVENT
DTSTART;TZID=America/New_York:20290203T093000
DTEND;TZID=America/New_York:20290203T120000
DTSTAMP:20260421T210520
CREATED:20250715T172155Z
LAST-MODIFIED:20250715T172816Z
UID:10006270-1864805400-1864814400@templeisraelorlando.org
SUMMARY:Shabbat Services
DESCRIPTION:
URL:https://templeisraelorlando.org/event/shabbat-services-2/2029-02-03/
LOCATION:Temple Israel\, 50 S Moss Road\, Winter Springs\, FL\, 32708\, United States
CATEGORIES:Services
END:VEVENT
BEGIN:VEVENT
DTSTART;TZID=America/New_York:20290204T090000
DTEND;TZID=America/New_York:20290204T093000
DTSTAMP:20260421T210520
CREATED:20240507T021438Z
LAST-MODIFIED:20250715T172314Z
UID:10005571-1864890000-1864891800@templeisraelorlando.org
SUMMARY:Sunday Minyan
DESCRIPTION:Our minyan starts at 9:00am in person and on zoom. \nhttps://us02web.zoom.us/j/83885789313?pwd=UkdrN25yMGRpTUIzNlRwejd1UWpjQT09 \nMeeting ID: 838 8578 9313\nPasscode: 165936
URL:https://templeisraelorlando.org/event/sunday-minyan/2029-02-04/
LOCATION:Temple Israel\, 50 S Moss Road\, Winter Springs\, FL\, 32708\, United States
CATEGORIES:Services
END:VEVENT
BEGIN:VEVENT
DTSTART;TZID=America/New_York:20290207T120000
DTEND;TZID=America/New_York:20290207T130000
DTSTAMP:20260421T210520
CREATED:20260224T125059Z
LAST-MODIFIED:20260318T180202Z
UID:10007055-1865160000-1865163600@templeisraelorlando.org
SUMMARY:Lunchtime class with Rabbi Neely
DESCRIPTION:
URL:https://templeisraelorlando.org/event/lunchtime-class-with-rabbi-neely/2029-02-07/
CATEGORIES:Classes
END:VEVENT
BEGIN:VEVENT
DTSTART;TZID=America/New_York:20290209T170000
DTEND;TZID=America/New_York:20290209T183000
DTSTAMP:20260421T210520
CREATED:20260412T164837Z
LAST-MODIFIED:20260412T165527Z
UID:10007246-1865350800-1865356200@templeisraelorlando.org
SUMMARY:TI Men's Club Warm-Up Dinner @ Corfu Restaurant
DESCRIPTION:Join Men’s Club for dinner on the 2nd Friday of each month at Corfu Restaurant\, 124 W SR 434\, Winter Springs.
URL:https://templeisraelorlando.org/event/ti-mens-club-warm-up-dinner/2029-02-09/
CATEGORIES:Event
END:VEVENT
BEGIN:VEVENT
DTSTART;TZID=America/New_York:20290209T190000
DTEND;TZID=America/New_York:20290209T200000
DTSTAMP:20260421T210520
CREATED:20240507T020417Z
LAST-MODIFIED:20260108T191902Z
UID:10004861-1865358000-1865361600@templeisraelorlando.org
SUMMARY:Kabbalat Shabbat
DESCRIPTION:
URL:https://templeisraelorlando.org/event/kabbalat-shabbat/2029-02-09/
CATEGORIES:Services
END:VEVENT
BEGIN:VEVENT
DTSTART;TZID=America/New_York:20290210T093000
DTEND;TZID=America/New_York:20290210T120000
DTSTAMP:20260421T210520
CREATED:20250715T172155Z
LAST-MODIFIED:20250715T172816Z
UID:10006271-1865410200-1865419200@templeisraelorlando.org
SUMMARY:Shabbat Services
DESCRIPTION:
URL:https://templeisraelorlando.org/event/shabbat-services-2/2029-02-10/
LOCATION:Temple Israel\, 50 S Moss Road\, Winter Springs\, FL\, 32708\, United States
CATEGORIES:Services
END:VEVENT
BEGIN:VEVENT
DTSTART;TZID=America/New_York:20290211T090000
DTEND;TZID=America/New_York:20290211T093000
DTSTAMP:20260421T210520
CREATED:20240507T021438Z
LAST-MODIFIED:20250715T172314Z
UID:10005572-1865494800-1865496600@templeisraelorlando.org
SUMMARY:Sunday Minyan
DESCRIPTION:Our minyan starts at 9:00am in person and on zoom. \nhttps://us02web.zoom.us/j/83885789313?pwd=UkdrN25yMGRpTUIzNlRwejd1UWpjQT09 \nMeeting ID: 838 8578 9313\nPasscode: 165936
URL:https://templeisraelorlando.org/event/sunday-minyan/2029-02-11/
LOCATION:Temple Israel\, 50 S Moss Road\, Winter Springs\, FL\, 32708\, United States
CATEGORIES:Services
END:VEVENT
BEGIN:VEVENT
DTSTART;TZID=America/New_York:20290212T190000
DTEND;TZID=America/New_York:20290212T200000
DTSTAMP:20260421T210520
CREATED:20240827T002911Z
LAST-MODIFIED:20250928T233226Z
UID:10006457-1865617200-1865620800@templeisraelorlando.org
SUMMARY:Executive Committee
DESCRIPTION:
URL:https://templeisraelorlando.org/event/executive-committee-2-2/2029-02-12/
END:VEVENT
BEGIN:VEVENT
DTSTART;TZID=America/New_York:20290214T120000
DTEND;TZID=America/New_York:20290214T130000
DTSTAMP:20260421T210520
CREATED:20260224T125059Z
LAST-MODIFIED:20260318T180202Z
UID:10007056-1865764800-1865768400@templeisraelorlando.org
SUMMARY:Lunchtime class with Rabbi Neely
DESCRIPTION:
URL:https://templeisraelorlando.org/event/lunchtime-class-with-rabbi-neely/2029-02-14/
CATEGORIES:Classes
END:VEVENT
BEGIN:VEVENT
DTSTART;TZID=America/New_York:20290216T190000
DTEND;TZID=America/New_York:20290216T200000
DTSTAMP:20260421T210520
CREATED:20240507T020417Z
LAST-MODIFIED:20260108T191902Z
UID:10004862-1865962800-1865966400@templeisraelorlando.org
SUMMARY:Kabbalat Shabbat
DESCRIPTION:
URL:https://templeisraelorlando.org/event/kabbalat-shabbat/2029-02-16/
CATEGORIES:Services
END:VEVENT
BEGIN:VEVENT
DTSTART;TZID=America/New_York:20290217T093000
DTEND;TZID=America/New_York:20290217T120000
DTSTAMP:20260421T210520
CREATED:20250715T172155Z
LAST-MODIFIED:20250715T172816Z
UID:10006272-1866015000-1866024000@templeisraelorlando.org
SUMMARY:Shabbat Services
DESCRIPTION:
URL:https://templeisraelorlando.org/event/shabbat-services-2/2029-02-17/
LOCATION:Temple Israel\, 50 S Moss Road\, Winter Springs\, FL\, 32708\, United States
CATEGORIES:Services
END:VEVENT
BEGIN:VEVENT
DTSTART;TZID=America/New_York:20290217T110000
DTEND;TZID=America/New_York:20290217T234500
DTSTAMP:20260421T210520
CREATED:20240507T033334Z
LAST-MODIFIED:20250715T172956Z
UID:10006398-1866020400-1866066300@templeisraelorlando.org
SUMMARY:Tot Shabbat
DESCRIPTION:
URL:https://templeisraelorlando.org/event/tot-shabbat/2029-02-17/
CATEGORIES:Family
END:VEVENT
BEGIN:VEVENT
DTSTART;TZID=America/New_York:20290218T090000
DTEND;TZID=America/New_York:20290218T093000
DTSTAMP:20260421T210520
CREATED:20240507T021438Z
LAST-MODIFIED:20250715T172314Z
UID:10005573-1866099600-1866101400@templeisraelorlando.org
SUMMARY:Sunday Minyan
DESCRIPTION:Our minyan starts at 9:00am in person and on zoom. \nhttps://us02web.zoom.us/j/83885789313?pwd=UkdrN25yMGRpTUIzNlRwejd1UWpjQT09 \nMeeting ID: 838 8578 9313\nPasscode: 165936
URL:https://templeisraelorlando.org/event/sunday-minyan/2029-02-18/
LOCATION:Temple Israel\, 50 S Moss Road\, Winter Springs\, FL\, 32708\, United States
CATEGORIES:Services
END:VEVENT
BEGIN:VEVENT
DTSTART;TZID=America/New_York:20290221T120000
DTEND;TZID=America/New_York:20290221T130000
DTSTAMP:20260421T210520
CREATED:20260224T125059Z
LAST-MODIFIED:20260318T180202Z
UID:10007057-1866369600-1866373200@templeisraelorlando.org
SUMMARY:Lunchtime class with Rabbi Neely
DESCRIPTION:
URL:https://templeisraelorlando.org/event/lunchtime-class-with-rabbi-neely/2029-02-21/
CATEGORIES:Classes
END:VEVENT
BEGIN:VEVENT
DTSTART;TZID=America/New_York:20290222T190000
DTEND;TZID=America/New_York:20290222T203000
DTSTAMP:20260421T210520
CREATED:20260412T165154Z
LAST-MODIFIED:20260412T165154Z
UID:10007307-1866481200-1866486600@templeisraelorlando.org
SUMMARY:TI Men's Club Monthly Social @ The Back Porch
DESCRIPTION:Join Men’s Club on the 4th Thursday of each month @ 7 PM at The Back Porch\, 145 Wekiva Springs Rd #161\, Longwood.
URL:https://templeisraelorlando.org/event/ti-mens-club-monthly-social-the-back-porch/2029-02-22/
CATEGORIES:Event
END:VEVENT
BEGIN:VEVENT
DTSTART;TZID=America/New_York:20290223T190000
DTEND;TZID=America/New_York:20290223T200000
DTSTAMP:20260421T210520
CREATED:20240507T020417Z
LAST-MODIFIED:20260108T191902Z
UID:10004863-1866567600-1866571200@templeisraelorlando.org
SUMMARY:Kabbalat Shabbat
DESCRIPTION:
URL:https://templeisraelorlando.org/event/kabbalat-shabbat/2029-02-23/
CATEGORIES:Services
END:VEVENT
BEGIN:VEVENT
DTSTART;TZID=America/New_York:20290224T093000
DTEND;TZID=America/New_York:20290224T120000
DTSTAMP:20260421T210520
CREATED:20250715T172155Z
LAST-MODIFIED:20250715T172816Z
UID:10006273-1866619800-1866628800@templeisraelorlando.org
SUMMARY:Shabbat Services
DESCRIPTION:
URL:https://templeisraelorlando.org/event/shabbat-services-2/2029-02-24/
LOCATION:Temple Israel\, 50 S Moss Road\, Winter Springs\, FL\, 32708\, United States
CATEGORIES:Services
END:VEVENT
BEGIN:VEVENT
DTSTART;TZID=America/New_York:20290225T090000
DTEND;TZID=America/New_York:20290225T093000
DTSTAMP:20260421T210520
CREATED:20240507T021438Z
LAST-MODIFIED:20250715T172314Z
UID:10005574-1866704400-1866706200@templeisraelorlando.org
SUMMARY:Sunday Minyan
DESCRIPTION:Our minyan starts at 9:00am in person and on zoom. \nhttps://us02web.zoom.us/j/83885789313?pwd=UkdrN25yMGRpTUIzNlRwejd1UWpjQT09 \nMeeting ID: 838 8578 9313\nPasscode: 165936
URL:https://templeisraelorlando.org/event/sunday-minyan/2029-02-25/
LOCATION:Temple Israel\, 50 S Moss Road\, Winter Springs\, FL\, 32708\, United States
CATEGORIES:Services
END:VEVENT
BEGIN:VEVENT
DTSTART;TZID=America/New_York:20290226T190000
DTEND;TZID=America/New_York:20290226T200000
DTSTAMP:20260421T210520
CREATED:20240507T032905Z
LAST-MODIFIED:20250825T133443Z
UID:10006526-1866826800-1866830400@templeisraelorlando.org
SUMMARY:Board of Directors
DESCRIPTION:
URL:https://templeisraelorlando.org/event/board-of-directors/2029-02-26/
CATEGORIES:Committee meeting
END:VEVENT
BEGIN:VEVENT
DTSTART;TZID=America/New_York:20290227T193000
DTEND;TZID=America/New_York:20290227T203000
DTSTAMP:20260421T210520
CREATED:20250630T172741Z
LAST-MODIFIED:20250825T133756Z
UID:10003157-1866915000-1866918600@templeisraelorlando.org
SUMMARY:Membership Committee Meeting
DESCRIPTION:
URL:https://templeisraelorlando.org/event/membership-committee-meeting-3/2029-02-27/
CATEGORIES:Committee meeting
END:VEVENT
BEGIN:VEVENT
DTSTART;TZID=America/New_York:20290228T120000
DTEND;TZID=America/New_York:20290228T130000
DTSTAMP:20260421T210520
CREATED:20260224T125059Z
LAST-MODIFIED:20260318T180202Z
UID:10007058-1866974400-1866978000@templeisraelorlando.org
SUMMARY:Lunchtime class with Rabbi Neely
DESCRIPTION:
URL:https://templeisraelorlando.org/event/lunchtime-class-with-rabbi-neely/2029-02-28/
CATEGORIES:Classes
END:VEVENT
BEGIN:VEVENT
DTSTART;TZID=America/New_York:20290302T180000
DTEND;TZID=America/New_York:20290302T190000
DTSTAMP:20260421T210520
CREATED:20250724T120311Z
LAST-MODIFIED:20260406T182700Z
UID:10006650-1867168800-1867172400@templeisraelorlando.org
SUMMARY:Kabbalat Shabbat
DESCRIPTION:
URL:https://templeisraelorlando.org/event/kabbalat-shabbat-2-2/2029-03-02/
LOCATION:Temple Israel\, 50 S Moss Road\, Winter Springs\, FL\, 32708\, United States
CATEGORIES:Services
END:VEVENT
BEGIN:VEVENT
DTSTART;TZID=America/New_York:20290303T093000
DTEND;TZID=America/New_York:20290303T120000
DTSTAMP:20260421T210520
CREATED:20250715T172155Z
LAST-MODIFIED:20250715T172816Z
UID:10006274-1867224600-1867233600@templeisraelorlando.org
SUMMARY:Shabbat Services
DESCRIPTION:
URL:https://templeisraelorlando.org/event/shabbat-services-2/2029-03-03/
LOCATION:Temple Israel\, 50 S Moss Road\, Winter Springs\, FL\, 32708\, United States
CATEGORIES:Services
END:VEVENT
BEGIN:VEVENT
DTSTART;TZID=America/New_York:20290304T090000
DTEND;TZID=America/New_York:20290304T093000
DTSTAMP:20260421T210520
CREATED:20240507T021438Z
LAST-MODIFIED:20250715T172314Z
UID:10005575-1867309200-1867311000@templeisraelorlando.org
SUMMARY:Sunday Minyan
DESCRIPTION:Our minyan starts at 9:00am in person and on zoom. \nhttps://us02web.zoom.us/j/83885789313?pwd=UkdrN25yMGRpTUIzNlRwejd1UWpjQT09 \nMeeting ID: 838 8578 9313\nPasscode: 165936
URL:https://templeisraelorlando.org/event/sunday-minyan/2029-03-04/
LOCATION:Temple Israel\, 50 S Moss Road\, Winter Springs\, FL\, 32708\, United States
CATEGORIES:Services
END:VEVENT
BEGIN:VEVENT
DTSTART;TZID=America/New_York:20290307T120000
DTEND;TZID=America/New_York:20290307T130000
DTSTAMP:20260421T210520
CREATED:20260224T125059Z
LAST-MODIFIED:20260318T180202Z
UID:10007059-1867579200-1867582800@templeisraelorlando.org
SUMMARY:Lunchtime class with Rabbi Neely
DESCRIPTION:
URL:https://templeisraelorlando.org/event/lunchtime-class-with-rabbi-neely/2029-03-07/
CATEGORIES:Classes
END:VEVENT
BEGIN:VEVENT
DTSTART;TZID=America/New_York:20290309T170000
DTEND;TZID=America/New_York:20290309T183000
DTSTAMP:20260421T210520
CREATED:20260412T164837Z
LAST-MODIFIED:20260412T165527Z
UID:10007247-1867770000-1867775400@templeisraelorlando.org
SUMMARY:TI Men's Club Warm-Up Dinner @ Corfu Restaurant
DESCRIPTION:Join Men’s Club for dinner on the 2nd Friday of each month at Corfu Restaurant\, 124 W SR 434\, Winter Springs.
URL:https://templeisraelorlando.org/event/ti-mens-club-warm-up-dinner/2029-03-09/
CATEGORIES:Event
END:VEVENT
BEGIN:VEVENT
DTSTART;TZID=America/New_York:20290309T190000
DTEND;TZID=America/New_York:20290309T200000
DTSTAMP:20260421T210520
CREATED:20240507T020417Z
LAST-MODIFIED:20260108T191902Z
UID:10004864-1867777200-1867780800@templeisraelorlando.org
SUMMARY:Kabbalat Shabbat
DESCRIPTION:
URL:https://templeisraelorlando.org/event/kabbalat-shabbat/2029-03-09/
CATEGORIES:Services
END:VEVENT
BEGIN:VEVENT
DTSTART;TZID=America/New_York:20290310T093000
DTEND;TZID=America/New_York:20290310T120000
DTSTAMP:20260421T210520
CREATED:20250715T172155Z
LAST-MODIFIED:20250715T172816Z
UID:10006275-1867829400-1867838400@templeisraelorlando.org
SUMMARY:Shabbat Services
DESCRIPTION:
URL:https://templeisraelorlando.org/event/shabbat-services-2/2029-03-10/
LOCATION:Temple Israel\, 50 S Moss Road\, Winter Springs\, FL\, 32708\, United States
CATEGORIES:Services
END:VEVENT
END:VCALENDAR