BEGIN:VCALENDAR
VERSION:2.0
PRODID:-//Temple Israel - ECPv6.15.17.1//NONSGML v1.0//EN
CALSCALE:GREGORIAN
METHOD:PUBLISH
X-WR-CALNAME:Temple Israel
X-ORIGINAL-URL:https://templeisraelorlando.org
X-WR-CALDESC:Events for Temple Israel
REFRESH-INTERVAL;VALUE=DURATION:PT1H
X-Robots-Tag:noindex
X-PUBLISHED-TTL:PT1H
BEGIN:VTIMEZONE
TZID:America/New_York
BEGIN:DAYLIGHT
TZOFFSETFROM:-0500
TZOFFSETTO:-0400
TZNAME:EDT
DTSTART:20280312T070000
END:DAYLIGHT
BEGIN:STANDARD
TZOFFSETFROM:-0400
TZOFFSETTO:-0500
TZNAME:EST
DTSTART:20281105T060000
END:STANDARD
BEGIN:DAYLIGHT
TZOFFSETFROM:-0500
TZOFFSETTO:-0400
TZNAME:EDT
DTSTART:20290311T070000
END:DAYLIGHT
BEGIN:STANDARD
TZOFFSETFROM:-0400
TZOFFSETTO:-0500
TZNAME:EST
DTSTART:20291104T060000
END:STANDARD
BEGIN:DAYLIGHT
TZOFFSETFROM:-0500
TZOFFSETTO:-0400
TZNAME:EDT
DTSTART:20300310T070000
END:DAYLIGHT
BEGIN:STANDARD
TZOFFSETFROM:-0400
TZOFFSETTO:-0500
TZNAME:EST
DTSTART:20301103T060000
END:STANDARD
END:VTIMEZONE
BEGIN:VEVENT
DTSTART;TZID=America/New_York:20290103T120000
DTEND;TZID=America/New_York:20290103T130000
DTSTAMP:20260420T235454
CREATED:20260224T125059Z
LAST-MODIFIED:20260318T180202Z
UID:10007050-1862136000-1862139600@templeisraelorlando.org
SUMMARY:Lunchtime class with Rabbi Neely
DESCRIPTION:
URL:https://templeisraelorlando.org/event/lunchtime-class-with-rabbi-neely/2029-01-03/
CATEGORIES:Classes
END:VEVENT
BEGIN:VEVENT
DTSTART;TZID=America/New_York:20290105T180000
DTEND;TZID=America/New_York:20290105T190000
DTSTAMP:20260420T235454
CREATED:20250724T120311Z
LAST-MODIFIED:20260406T182700Z
UID:10006648-1862330400-1862334000@templeisraelorlando.org
SUMMARY:Kabbalat Shabbat
DESCRIPTION:
URL:https://templeisraelorlando.org/event/kabbalat-shabbat-2-2/2029-01-05/
LOCATION:Temple Israel\, 50 S Moss Road\, Winter Springs\, FL\, 32708\, United States
CATEGORIES:Services
END:VEVENT
BEGIN:VEVENT
DTSTART;TZID=America/New_York:20290106T093000
DTEND;TZID=America/New_York:20290106T120000
DTSTAMP:20260420T235454
CREATED:20250715T172155Z
LAST-MODIFIED:20250715T172816Z
UID:10006266-1862386200-1862395200@templeisraelorlando.org
SUMMARY:Shabbat Services
DESCRIPTION:
URL:https://templeisraelorlando.org/event/shabbat-services-2/2029-01-06/
LOCATION:Temple Israel\, 50 S Moss Road\, Winter Springs\, FL\, 32708\, United States
CATEGORIES:Services
END:VEVENT
BEGIN:VEVENT
DTSTART;TZID=America/New_York:20290107T090000
DTEND;TZID=America/New_York:20290107T093000
DTSTAMP:20260420T235454
CREATED:20240507T021438Z
LAST-MODIFIED:20250715T172314Z
UID:10005567-1862470800-1862472600@templeisraelorlando.org
SUMMARY:Sunday Minyan
DESCRIPTION:Our minyan starts at 9:00am in person and on zoom. \nhttps://us02web.zoom.us/j/83885789313?pwd=UkdrN25yMGRpTUIzNlRwejd1UWpjQT09 \nMeeting ID: 838 8578 9313\nPasscode: 165936
URL:https://templeisraelorlando.org/event/sunday-minyan/2029-01-07/
LOCATION:Temple Israel\, 50 S Moss Road\, Winter Springs\, FL\, 32708\, United States
CATEGORIES:Services
END:VEVENT
BEGIN:VEVENT
DTSTART;TZID=America/New_York:20290108T190000
DTEND;TZID=America/New_York:20290108T200000
DTSTAMP:20260420T235454
CREATED:20240827T002911Z
LAST-MODIFIED:20250928T233226Z
UID:10006456-1862593200-1862596800@templeisraelorlando.org
SUMMARY:Executive Committee
DESCRIPTION:
URL:https://templeisraelorlando.org/event/executive-committee-2-2/2029-01-08/
END:VEVENT
BEGIN:VEVENT
DTSTART;TZID=America/New_York:20290110T120000
DTEND;TZID=America/New_York:20290110T130000
DTSTAMP:20260420T235454
CREATED:20260224T125059Z
LAST-MODIFIED:20260318T180202Z
UID:10007051-1862740800-1862744400@templeisraelorlando.org
SUMMARY:Lunchtime class with Rabbi Neely
DESCRIPTION:
URL:https://templeisraelorlando.org/event/lunchtime-class-with-rabbi-neely/2029-01-10/
CATEGORIES:Classes
END:VEVENT
BEGIN:VEVENT
DTSTART;TZID=America/New_York:20290112T170000
DTEND;TZID=America/New_York:20290112T183000
DTSTAMP:20260420T235454
CREATED:20260412T164837Z
LAST-MODIFIED:20260412T165527Z
UID:10007245-1862931600-1862937000@templeisraelorlando.org
SUMMARY:TI Men's Club Warm-Up Dinner @ Corfu Restaurant
DESCRIPTION:Join Men’s Club for dinner on the 2nd Friday of each month at Corfu Restaurant\, 124 W SR 434\, Winter Springs.
URL:https://templeisraelorlando.org/event/ti-mens-club-warm-up-dinner/2029-01-12/
CATEGORIES:Event
END:VEVENT
BEGIN:VEVENT
DTSTART;TZID=America/New_York:20290112T190000
DTEND;TZID=America/New_York:20290112T200000
DTSTAMP:20260420T235454
CREATED:20240507T020417Z
LAST-MODIFIED:20260108T191902Z
UID:10004858-1862938800-1862942400@templeisraelorlando.org
SUMMARY:Kabbalat Shabbat
DESCRIPTION:
URL:https://templeisraelorlando.org/event/kabbalat-shabbat/2029-01-12/
CATEGORIES:Services
END:VEVENT
BEGIN:VEVENT
DTSTART;TZID=America/New_York:20290113T093000
DTEND;TZID=America/New_York:20290113T120000
DTSTAMP:20260420T235454
CREATED:20250715T172155Z
LAST-MODIFIED:20250715T172816Z
UID:10006267-1862991000-1863000000@templeisraelorlando.org
SUMMARY:Shabbat Services
DESCRIPTION:
URL:https://templeisraelorlando.org/event/shabbat-services-2/2029-01-13/
LOCATION:Temple Israel\, 50 S Moss Road\, Winter Springs\, FL\, 32708\, United States
CATEGORIES:Services
END:VEVENT
BEGIN:VEVENT
DTSTART;TZID=America/New_York:20290114T090000
DTEND;TZID=America/New_York:20290114T093000
DTSTAMP:20260420T235454
CREATED:20240507T021438Z
LAST-MODIFIED:20250715T172314Z
UID:10005568-1863075600-1863077400@templeisraelorlando.org
SUMMARY:Sunday Minyan
DESCRIPTION:Our minyan starts at 9:00am in person and on zoom. \nhttps://us02web.zoom.us/j/83885789313?pwd=UkdrN25yMGRpTUIzNlRwejd1UWpjQT09 \nMeeting ID: 838 8578 9313\nPasscode: 165936
URL:https://templeisraelorlando.org/event/sunday-minyan/2029-01-14/
LOCATION:Temple Israel\, 50 S Moss Road\, Winter Springs\, FL\, 32708\, United States
CATEGORIES:Services
END:VEVENT
BEGIN:VEVENT
DTSTART;TZID=America/New_York:20290117T120000
DTEND;TZID=America/New_York:20290117T130000
DTSTAMP:20260420T235454
CREATED:20260224T125059Z
LAST-MODIFIED:20260318T180202Z
UID:10007052-1863345600-1863349200@templeisraelorlando.org
SUMMARY:Lunchtime class with Rabbi Neely
DESCRIPTION:
URL:https://templeisraelorlando.org/event/lunchtime-class-with-rabbi-neely/2029-01-17/
CATEGORIES:Classes
END:VEVENT
BEGIN:VEVENT
DTSTART;TZID=America/New_York:20290119T190000
DTEND;TZID=America/New_York:20290119T200000
DTSTAMP:20260420T235454
CREATED:20240507T020417Z
LAST-MODIFIED:20260108T191902Z
UID:10004859-1863543600-1863547200@templeisraelorlando.org
SUMMARY:Kabbalat Shabbat
DESCRIPTION:
URL:https://templeisraelorlando.org/event/kabbalat-shabbat/2029-01-19/
CATEGORIES:Services
END:VEVENT
BEGIN:VEVENT
DTSTART;TZID=America/New_York:20290120T093000
DTEND;TZID=America/New_York:20290120T120000
DTSTAMP:20260420T235454
CREATED:20250715T172155Z
LAST-MODIFIED:20250715T172816Z
UID:10006268-1863595800-1863604800@templeisraelorlando.org
SUMMARY:Shabbat Services
DESCRIPTION:
URL:https://templeisraelorlando.org/event/shabbat-services-2/2029-01-20/
LOCATION:Temple Israel\, 50 S Moss Road\, Winter Springs\, FL\, 32708\, United States
CATEGORIES:Services
END:VEVENT
BEGIN:VEVENT
DTSTART;TZID=America/New_York:20290120T110000
DTEND;TZID=America/New_York:20290120T234500
DTSTAMP:20260420T235454
CREATED:20240507T033334Z
LAST-MODIFIED:20250715T172956Z
UID:10006397-1863601200-1863647100@templeisraelorlando.org
SUMMARY:Tot Shabbat
DESCRIPTION:
URL:https://templeisraelorlando.org/event/tot-shabbat/2029-01-20/
CATEGORIES:Family
END:VEVENT
BEGIN:VEVENT
DTSTART;TZID=America/New_York:20290121T090000
DTEND;TZID=America/New_York:20290121T093000
DTSTAMP:20260420T235454
CREATED:20240507T021438Z
LAST-MODIFIED:20250715T172314Z
UID:10005569-1863680400-1863682200@templeisraelorlando.org
SUMMARY:Sunday Minyan
DESCRIPTION:Our minyan starts at 9:00am in person and on zoom. \nhttps://us02web.zoom.us/j/83885789313?pwd=UkdrN25yMGRpTUIzNlRwejd1UWpjQT09 \nMeeting ID: 838 8578 9313\nPasscode: 165936
URL:https://templeisraelorlando.org/event/sunday-minyan/2029-01-21/
LOCATION:Temple Israel\, 50 S Moss Road\, Winter Springs\, FL\, 32708\, United States
CATEGORIES:Services
END:VEVENT
BEGIN:VEVENT
DTSTART;TZID=America/New_York:20290122T190000
DTEND;TZID=America/New_York:20290122T200000
DTSTAMP:20260420T235454
CREATED:20240507T032905Z
LAST-MODIFIED:20250825T133443Z
UID:10006525-1863802800-1863806400@templeisraelorlando.org
SUMMARY:Board of Directors
DESCRIPTION:
URL:https://templeisraelorlando.org/event/board-of-directors/2029-01-22/
CATEGORIES:Committee meeting
END:VEVENT
BEGIN:VEVENT
DTSTART;TZID=America/New_York:20290123T193000
DTEND;TZID=America/New_York:20290123T203000
DTSTAMP:20260420T235454
CREATED:20250630T172741Z
LAST-MODIFIED:20250825T133756Z
UID:10003156-1863891000-1863894600@templeisraelorlando.org
SUMMARY:Membership Committee Meeting
DESCRIPTION:
URL:https://templeisraelorlando.org/event/membership-committee-meeting-3/2029-01-23/
CATEGORIES:Committee meeting
END:VEVENT
BEGIN:VEVENT
DTSTART;TZID=America/New_York:20290124T120000
DTEND;TZID=America/New_York:20290124T130000
DTSTAMP:20260420T235454
CREATED:20260224T125059Z
LAST-MODIFIED:20260318T180202Z
UID:10007053-1863950400-1863954000@templeisraelorlando.org
SUMMARY:Lunchtime class with Rabbi Neely
DESCRIPTION:
URL:https://templeisraelorlando.org/event/lunchtime-class-with-rabbi-neely/2029-01-24/
CATEGORIES:Classes
END:VEVENT
BEGIN:VEVENT
DTSTART;TZID=America/New_York:20290125T190000
DTEND;TZID=America/New_York:20290125T203000
DTSTAMP:20260420T235454
CREATED:20260412T165154Z
LAST-MODIFIED:20260412T165154Z
UID:10007306-1864062000-1864067400@templeisraelorlando.org
SUMMARY:TI Men's Club Monthly Social @ The Back Porch
DESCRIPTION:Join Men’s Club on the 4th Thursday of each month @ 7 PM at The Back Porch\, 145 Wekiva Springs Rd #161\, Longwood.
URL:https://templeisraelorlando.org/event/ti-mens-club-monthly-social-the-back-porch/2029-01-25/
CATEGORIES:Event
END:VEVENT
BEGIN:VEVENT
DTSTART;TZID=America/New_York:20290126T190000
DTEND;TZID=America/New_York:20290126T200000
DTSTAMP:20260420T235454
CREATED:20240507T020417Z
LAST-MODIFIED:20260108T191902Z
UID:10004860-1864148400-1864152000@templeisraelorlando.org
SUMMARY:Kabbalat Shabbat
DESCRIPTION:
URL:https://templeisraelorlando.org/event/kabbalat-shabbat/2029-01-26/
CATEGORIES:Services
END:VEVENT
BEGIN:VEVENT
DTSTART;TZID=America/New_York:20290127T093000
DTEND;TZID=America/New_York:20290127T120000
DTSTAMP:20260420T235454
CREATED:20250715T172155Z
LAST-MODIFIED:20250715T172816Z
UID:10006269-1864200600-1864209600@templeisraelorlando.org
SUMMARY:Shabbat Services
DESCRIPTION:
URL:https://templeisraelorlando.org/event/shabbat-services-2/2029-01-27/
LOCATION:Temple Israel\, 50 S Moss Road\, Winter Springs\, FL\, 32708\, United States
CATEGORIES:Services
END:VEVENT
BEGIN:VEVENT
DTSTART;TZID=America/New_York:20290128T090000
DTEND;TZID=America/New_York:20290128T093000
DTSTAMP:20260420T235454
CREATED:20240507T021438Z
LAST-MODIFIED:20250715T172314Z
UID:10005570-1864285200-1864287000@templeisraelorlando.org
SUMMARY:Sunday Minyan
DESCRIPTION:Our minyan starts at 9:00am in person and on zoom. \nhttps://us02web.zoom.us/j/83885789313?pwd=UkdrN25yMGRpTUIzNlRwejd1UWpjQT09 \nMeeting ID: 838 8578 9313\nPasscode: 165936
URL:https://templeisraelorlando.org/event/sunday-minyan/2029-01-28/
LOCATION:Temple Israel\, 50 S Moss Road\, Winter Springs\, FL\, 32708\, United States
CATEGORIES:Services
END:VEVENT
BEGIN:VEVENT
DTSTART;TZID=America/New_York:20290131T120000
DTEND;TZID=America/New_York:20290131T130000
DTSTAMP:20260420T235454
CREATED:20260224T125059Z
LAST-MODIFIED:20260318T180202Z
UID:10007054-1864555200-1864558800@templeisraelorlando.org
SUMMARY:Lunchtime class with Rabbi Neely
DESCRIPTION:
URL:https://templeisraelorlando.org/event/lunchtime-class-with-rabbi-neely/2029-01-31/
CATEGORIES:Classes
END:VEVENT
END:VCALENDAR