BEGIN:VCALENDAR
VERSION:2.0
PRODID:-//Temple Israel - ECPv6.15.17.1//NONSGML v1.0//EN
CALSCALE:GREGORIAN
METHOD:PUBLISH
X-WR-CALNAME:Temple Israel
X-ORIGINAL-URL:https://templeisraelorlando.org
X-WR-CALDESC:Events for Temple Israel
REFRESH-INTERVAL;VALUE=DURATION:PT1H
X-Robots-Tag:noindex
X-PUBLISHED-TTL:PT1H
BEGIN:VTIMEZONE
TZID:America/New_York
BEGIN:DAYLIGHT
TZOFFSETFROM:-0500
TZOFFSETTO:-0400
TZNAME:EDT
DTSTART:20300310T070000
END:DAYLIGHT
BEGIN:STANDARD
TZOFFSETFROM:-0400
TZOFFSETTO:-0500
TZNAME:EST
DTSTART:20301103T060000
END:STANDARD
BEGIN:DAYLIGHT
TZOFFSETFROM:-0500
TZOFFSETTO:-0400
TZNAME:EDT
DTSTART:20310309T070000
END:DAYLIGHT
BEGIN:STANDARD
TZOFFSETFROM:-0400
TZOFFSETTO:-0500
TZNAME:EST
DTSTART:20311102T060000
END:STANDARD
BEGIN:DAYLIGHT
TZOFFSETFROM:-0500
TZOFFSETTO:-0400
TZNAME:EDT
DTSTART:20320314T070000
END:DAYLIGHT
BEGIN:STANDARD
TZOFFSETFROM:-0400
TZOFFSETTO:-0500
TZNAME:EST
DTSTART:20321107T060000
END:STANDARD
END:VTIMEZONE
BEGIN:VEVENT
DTSTART;TZID=America/New_York:20310101T120000
DTEND;TZID=America/New_York:20310101T130000
DTSTAMP:20260424T011055
CREATED:20260224T125059Z
LAST-MODIFIED:20260318T180202Z
UID:10007154-1925035200-1925038800@templeisraelorlando.org
SUMMARY:Lunchtime class with Rabbi Neely
DESCRIPTION:
URL:https://templeisraelorlando.org/event/lunchtime-class-with-rabbi-neely/2031-01-01/
CATEGORIES:Classes
END:VEVENT
BEGIN:VEVENT
DTSTART;TZID=America/New_York:20310103T180000
DTEND;TZID=America/New_York:20310103T190000
DTSTAMP:20260424T011055
CREATED:20250724T120311Z
LAST-MODIFIED:20260406T182700Z
UID:10007208-1925229600-1925233200@templeisraelorlando.org
SUMMARY:Kabbalat Shabbat
DESCRIPTION:
URL:https://templeisraelorlando.org/event/kabbalat-shabbat-2-2/2031-01-03/
LOCATION:Temple Israel\, 50 S Moss Road\, Winter Springs\, FL\, 32708\, United States
CATEGORIES:Services
END:VEVENT
BEGIN:VEVENT
DTSTART;TZID=America/New_York:20310104T093000
DTEND;TZID=America/New_York:20310104T120000
DTSTAMP:20260424T011055
CREATED:20250715T172155Z
LAST-MODIFIED:20250715T172816Z
UID:10007194-1925285400-1925294400@templeisraelorlando.org
SUMMARY:Shabbat Services
DESCRIPTION:
URL:https://templeisraelorlando.org/event/shabbat-services-2/2031-01-04/
LOCATION:Temple Israel\, 50 S Moss Road\, Winter Springs\, FL\, 32708\, United States
CATEGORIES:Services
END:VEVENT
BEGIN:VEVENT
DTSTART;TZID=America/New_York:20310108T120000
DTEND;TZID=America/New_York:20310108T130000
DTSTAMP:20260424T011055
CREATED:20260224T125059Z
LAST-MODIFIED:20260318T180202Z
UID:10007155-1925640000-1925643600@templeisraelorlando.org
SUMMARY:Lunchtime class with Rabbi Neely
DESCRIPTION:
URL:https://templeisraelorlando.org/event/lunchtime-class-with-rabbi-neely/2031-01-08/
CATEGORIES:Classes
END:VEVENT
BEGIN:VEVENT
DTSTART;TZID=America/New_York:20310110T170000
DTEND;TZID=America/New_York:20310110T183000
DTSTAMP:20260424T011055
CREATED:20260412T164837Z
LAST-MODIFIED:20260412T165527Z
UID:10007269-1925830800-1925836200@templeisraelorlando.org
SUMMARY:TI Men's Club Warm-Up Dinner @ Corfu Restaurant
DESCRIPTION:Join Men’s Club for dinner on the 2nd Friday of each month at Corfu Restaurant\, 124 W SR 434\, Winter Springs.
URL:https://templeisraelorlando.org/event/ti-mens-club-warm-up-dinner/2031-01-10/
CATEGORIES:Event
END:VEVENT
BEGIN:VEVENT
DTSTART;TZID=America/New_York:20310111T093000
DTEND;TZID=America/New_York:20310111T120000
DTSTAMP:20260424T011055
CREATED:20250715T172155Z
LAST-MODIFIED:20250715T172816Z
UID:10007195-1925890200-1925899200@templeisraelorlando.org
SUMMARY:Shabbat Services
DESCRIPTION:
URL:https://templeisraelorlando.org/event/shabbat-services-2/2031-01-11/
LOCATION:Temple Israel\, 50 S Moss Road\, Winter Springs\, FL\, 32708\, United States
CATEGORIES:Services
END:VEVENT
BEGIN:VEVENT
DTSTART;TZID=America/New_York:20310115T120000
DTEND;TZID=America/New_York:20310115T130000
DTSTAMP:20260424T011055
CREATED:20260224T125059Z
LAST-MODIFIED:20260318T180202Z
UID:10007156-1926244800-1926248400@templeisraelorlando.org
SUMMARY:Lunchtime class with Rabbi Neely
DESCRIPTION:
URL:https://templeisraelorlando.org/event/lunchtime-class-with-rabbi-neely/2031-01-15/
CATEGORIES:Classes
END:VEVENT
BEGIN:VEVENT
DTSTART;TZID=America/New_York:20310118T093000
DTEND;TZID=America/New_York:20310118T120000
DTSTAMP:20260424T011055
CREATED:20250715T172155Z
LAST-MODIFIED:20250715T172816Z
UID:10007196-1926495000-1926504000@templeisraelorlando.org
SUMMARY:Shabbat Services
DESCRIPTION:
URL:https://templeisraelorlando.org/event/shabbat-services-2/2031-01-18/
LOCATION:Temple Israel\, 50 S Moss Road\, Winter Springs\, FL\, 32708\, United States
CATEGORIES:Services
END:VEVENT
BEGIN:VEVENT
DTSTART;TZID=America/New_York:20310122T120000
DTEND;TZID=America/New_York:20310122T130000
DTSTAMP:20260424T011055
CREATED:20260224T125059Z
LAST-MODIFIED:20260318T180202Z
UID:10007157-1926849600-1926853200@templeisraelorlando.org
SUMMARY:Lunchtime class with Rabbi Neely
DESCRIPTION:
URL:https://templeisraelorlando.org/event/lunchtime-class-with-rabbi-neely/2031-01-22/
CATEGORIES:Classes
END:VEVENT
BEGIN:VEVENT
DTSTART;TZID=America/New_York:20310123T190000
DTEND;TZID=America/New_York:20310123T203000
DTSTAMP:20260424T011055
CREATED:20260412T165154Z
LAST-MODIFIED:20260412T165154Z
UID:10007330-1926961200-1926966600@templeisraelorlando.org
SUMMARY:TI Men's Club Monthly Social @ The Back Porch
DESCRIPTION:Join Men’s Club on the 4th Thursday of each month @ 7 PM at The Back Porch\, 145 Wekiva Springs Rd #161\, Longwood.
URL:https://templeisraelorlando.org/event/ti-mens-club-monthly-social-the-back-porch/2031-01-23/
CATEGORIES:Event
END:VEVENT
BEGIN:VEVENT
DTSTART;TZID=America/New_York:20310125T093000
DTEND;TZID=America/New_York:20310125T120000
DTSTAMP:20260424T011055
CREATED:20250715T172155Z
LAST-MODIFIED:20250715T172816Z
UID:10007197-1927099800-1927108800@templeisraelorlando.org
SUMMARY:Shabbat Services
DESCRIPTION:
URL:https://templeisraelorlando.org/event/shabbat-services-2/2031-01-25/
LOCATION:Temple Israel\, 50 S Moss Road\, Winter Springs\, FL\, 32708\, United States
CATEGORIES:Services
END:VEVENT
BEGIN:VEVENT
DTSTART;TZID=America/New_York:20310129T120000
DTEND;TZID=America/New_York:20310129T130000
DTSTAMP:20260424T011055
CREATED:20260224T125059Z
LAST-MODIFIED:20260318T180202Z
UID:10007158-1927454400-1927458000@templeisraelorlando.org
SUMMARY:Lunchtime class with Rabbi Neely
DESCRIPTION:
URL:https://templeisraelorlando.org/event/lunchtime-class-with-rabbi-neely/2031-01-29/
CATEGORIES:Classes
END:VEVENT
END:VCALENDAR