BEGIN:VCALENDAR
VERSION:2.0
PRODID:-//Temple Israel - ECPv6.15.17.1//NONSGML v1.0//EN
CALSCALE:GREGORIAN
METHOD:PUBLISH
X-ORIGINAL-URL:https://templeisraelorlando.org
X-WR-CALDESC:Events for Temple Israel
REFRESH-INTERVAL;VALUE=DURATION:PT1H
X-Robots-Tag:noindex
X-PUBLISHED-TTL:PT1H
BEGIN:VTIMEZONE
TZID:America/New_York
BEGIN:DAYLIGHT
TZOFFSETFROM:-0500
TZOFFSETTO:-0400
TZNAME:EDT
DTSTART:20300310T070000
END:DAYLIGHT
BEGIN:STANDARD
TZOFFSETFROM:-0400
TZOFFSETTO:-0500
TZNAME:EST
DTSTART:20301103T060000
END:STANDARD
BEGIN:DAYLIGHT
TZOFFSETFROM:-0500
TZOFFSETTO:-0400
TZNAME:EDT
DTSTART:20310309T070000
END:DAYLIGHT
BEGIN:STANDARD
TZOFFSETFROM:-0400
TZOFFSETTO:-0500
TZNAME:EST
DTSTART:20311102T060000
END:STANDARD
BEGIN:DAYLIGHT
TZOFFSETFROM:-0500
TZOFFSETTO:-0400
TZNAME:EDT
DTSTART:20320314T070000
END:DAYLIGHT
BEGIN:STANDARD
TZOFFSETFROM:-0400
TZOFFSETTO:-0500
TZNAME:EST
DTSTART:20321107T060000
END:STANDARD
END:VTIMEZONE
BEGIN:VEVENT
DTSTART;TZID=America/New_York:20310201T093000
DTEND;TZID=America/New_York:20310201T120000
DTSTAMP:20260424T022519
CREATED:20250715T172155Z
LAST-MODIFIED:20250715T172816Z
UID:10007198-1927704600-1927713600@templeisraelorlando.org
SUMMARY:Shabbat Services
DESCRIPTION:
URL:https://templeisraelorlando.org/event/shabbat-services-2/2031-02-01/
LOCATION:Temple Israel\, 50 S Moss Road\, Winter Springs\, FL\, 32708\, United States
CATEGORIES:Services
END:VEVENT
BEGIN:VEVENT
DTSTART;TZID=America/New_York:20310205T120000
DTEND;TZID=America/New_York:20310205T130000
DTSTAMP:20260424T022519
CREATED:20260224T125059Z
LAST-MODIFIED:20260318T180202Z
UID:10007159-1928059200-1928062800@templeisraelorlando.org
SUMMARY:Lunchtime class with Rabbi Neely
DESCRIPTION:
URL:https://templeisraelorlando.org/event/lunchtime-class-with-rabbi-neely/2031-02-05/
CATEGORIES:Classes
END:VEVENT
BEGIN:VEVENT
DTSTART;TZID=America/New_York:20310207T180000
DTEND;TZID=America/New_York:20310207T190000
DTSTAMP:20260424T022519
CREATED:20250724T120311Z
LAST-MODIFIED:20260406T182700Z
UID:10007209-1928253600-1928257200@templeisraelorlando.org
SUMMARY:Kabbalat Shabbat
DESCRIPTION:
URL:https://templeisraelorlando.org/event/kabbalat-shabbat-2-2/2031-02-07/
LOCATION:Temple Israel\, 50 S Moss Road\, Winter Springs\, FL\, 32708\, United States
CATEGORIES:Services
END:VEVENT
BEGIN:VEVENT
DTSTART;TZID=America/New_York:20310208T093000
DTEND;TZID=America/New_York:20310208T120000
DTSTAMP:20260424T022519
CREATED:20250715T172155Z
LAST-MODIFIED:20250715T172816Z
UID:10007199-1928309400-1928318400@templeisraelorlando.org
SUMMARY:Shabbat Services
DESCRIPTION:
URL:https://templeisraelorlando.org/event/shabbat-services-2/2031-02-08/
LOCATION:Temple Israel\, 50 S Moss Road\, Winter Springs\, FL\, 32708\, United States
CATEGORIES:Services
END:VEVENT
BEGIN:VEVENT
DTSTART;TZID=America/New_York:20310212T120000
DTEND;TZID=America/New_York:20310212T130000
DTSTAMP:20260424T022519
CREATED:20260224T125059Z
LAST-MODIFIED:20260318T180202Z
UID:10007160-1928664000-1928667600@templeisraelorlando.org
SUMMARY:Lunchtime class with Rabbi Neely
DESCRIPTION:
URL:https://templeisraelorlando.org/event/lunchtime-class-with-rabbi-neely/2031-02-12/
CATEGORIES:Classes
END:VEVENT
BEGIN:VEVENT
DTSTART;TZID=America/New_York:20310214T170000
DTEND;TZID=America/New_York:20310214T183000
DTSTAMP:20260424T022519
CREATED:20260412T164837Z
LAST-MODIFIED:20260412T165527Z
UID:10007270-1928854800-1928860200@templeisraelorlando.org
SUMMARY:TI Men's Club Warm-Up Dinner @ Corfu Restaurant
DESCRIPTION:Join Men’s Club for dinner on the 2nd Friday of each month at Corfu Restaurant\, 124 W SR 434\, Winter Springs.
URL:https://templeisraelorlando.org/event/ti-mens-club-warm-up-dinner/2031-02-14/
CATEGORIES:Event
END:VEVENT
BEGIN:VEVENT
DTSTART;TZID=America/New_York:20310215T093000
DTEND;TZID=America/New_York:20310215T120000
DTSTAMP:20260424T022519
CREATED:20250715T172155Z
LAST-MODIFIED:20250715T172816Z
UID:10007200-1928914200-1928923200@templeisraelorlando.org
SUMMARY:Shabbat Services
DESCRIPTION:
URL:https://templeisraelorlando.org/event/shabbat-services-2/2031-02-15/
LOCATION:Temple Israel\, 50 S Moss Road\, Winter Springs\, FL\, 32708\, United States
CATEGORIES:Services
END:VEVENT
BEGIN:VEVENT
DTSTART;TZID=America/New_York:20310219T120000
DTEND;TZID=America/New_York:20310219T130000
DTSTAMP:20260424T022519
CREATED:20260224T125059Z
LAST-MODIFIED:20260318T180202Z
UID:10007161-1929268800-1929272400@templeisraelorlando.org
SUMMARY:Lunchtime class with Rabbi Neely
DESCRIPTION:
URL:https://templeisraelorlando.org/event/lunchtime-class-with-rabbi-neely/2031-02-19/
CATEGORIES:Classes
END:VEVENT
BEGIN:VEVENT
DTSTART;TZID=America/New_York:20310222T093000
DTEND;TZID=America/New_York:20310222T120000
DTSTAMP:20260424T022519
CREATED:20250715T172155Z
LAST-MODIFIED:20250715T172816Z
UID:10007201-1929519000-1929528000@templeisraelorlando.org
SUMMARY:Shabbat Services
DESCRIPTION:
URL:https://templeisraelorlando.org/event/shabbat-services-2/2031-02-22/
LOCATION:Temple Israel\, 50 S Moss Road\, Winter Springs\, FL\, 32708\, United States
CATEGORIES:Services
END:VEVENT
BEGIN:VEVENT
DTSTART;TZID=America/New_York:20310226T120000
DTEND;TZID=America/New_York:20310226T130000
DTSTAMP:20260424T022519
CREATED:20260224T125059Z
LAST-MODIFIED:20260318T180202Z
UID:10007165-1929873600-1929877200@templeisraelorlando.org
SUMMARY:Lunchtime class with Rabbi Neely
DESCRIPTION:
URL:https://templeisraelorlando.org/event/lunchtime-class-with-rabbi-neely/2031-02-26/
CATEGORIES:Classes
END:VEVENT
BEGIN:VEVENT
DTSTART;TZID=America/New_York:20310227T190000
DTEND;TZID=America/New_York:20310227T203000
DTSTAMP:20260424T022519
CREATED:20260412T165154Z
LAST-MODIFIED:20260412T165154Z
UID:10007331-1929985200-1929990600@templeisraelorlando.org
SUMMARY:TI Men's Club Monthly Social @ The Back Porch
DESCRIPTION:Join Men’s Club on the 4th Thursday of each month @ 7 PM at The Back Porch\, 145 Wekiva Springs Rd #161\, Longwood.
URL:https://templeisraelorlando.org/event/ti-mens-club-monthly-social-the-back-porch/2031-02-27/
CATEGORIES:Event
END:VEVENT
END:VCALENDAR