BEGIN:VCALENDAR
VERSION:2.0
PRODID:-//Temple Israel - ECPv6.15.17.1//NONSGML v1.0//EN
CALSCALE:GREGORIAN
METHOD:PUBLISH
X-WR-CALNAME:Temple Israel
X-ORIGINAL-URL:https://templeisraelorlando.org
X-WR-CALDESC:Events for Temple Israel
REFRESH-INTERVAL;VALUE=DURATION:PT1H
X-Robots-Tag:noindex
X-PUBLISHED-TTL:PT1H
BEGIN:VTIMEZONE
TZID:America/New_York
BEGIN:DAYLIGHT
TZOFFSETFROM:-0500
TZOFFSETTO:-0400
TZNAME:EDT
DTSTART:20250309T070000
END:DAYLIGHT
BEGIN:STANDARD
TZOFFSETFROM:-0400
TZOFFSETTO:-0500
TZNAME:EST
DTSTART:20251102T060000
END:STANDARD
BEGIN:DAYLIGHT
TZOFFSETFROM:-0500
TZOFFSETTO:-0400
TZNAME:EDT
DTSTART:20260308T070000
END:DAYLIGHT
BEGIN:STANDARD
TZOFFSETFROM:-0400
TZOFFSETTO:-0500
TZNAME:EST
DTSTART:20261101T060000
END:STANDARD
BEGIN:DAYLIGHT
TZOFFSETFROM:-0500
TZOFFSETTO:-0400
TZNAME:EDT
DTSTART:20270314T070000
END:DAYLIGHT
BEGIN:STANDARD
TZOFFSETFROM:-0400
TZOFFSETTO:-0500
TZNAME:EST
DTSTART:20271107T060000
END:STANDARD
END:VTIMEZONE
BEGIN:VEVENT
DTSTART;TZID=America/New_York:20260605T180000
DTEND;TZID=America/New_York:20260605T190000
DTSTAMP:20260424T211932
CREATED:20250724T120311Z
LAST-MODIFIED:20260406T182700Z
UID:10006617-1780682400-1780686000@templeisraelorlando.org
SUMMARY:Kabbalat Shabbat
DESCRIPTION:
URL:https://templeisraelorlando.org/event/kabbalat-shabbat-2-2/2026-06-05/
LOCATION:Temple Israel\, 50 S Moss Road\, Winter Springs\, FL\, 32708\, United States
CATEGORIES:Services
END:VEVENT
BEGIN:VEVENT
DTSTART;TZID=America/New_York:20260606T093000
DTEND;TZID=America/New_York:20260606T120000
DTSTAMP:20260424T211932
CREATED:20250715T172155Z
LAST-MODIFIED:20250715T172816Z
UID:10006131-1780738200-1780747200@templeisraelorlando.org
SUMMARY:Shabbat Services
DESCRIPTION:
URL:https://templeisraelorlando.org/event/shabbat-services-2/2026-06-06/
LOCATION:Temple Israel\, 50 S Moss Road\, Winter Springs\, FL\, 32708\, United States
CATEGORIES:Services
END:VEVENT
BEGIN:VEVENT
DTSTART;TZID=America/New_York:20260607T090000
DTEND;TZID=America/New_York:20260607T093000
DTSTAMP:20260424T211932
CREATED:20240507T021438Z
LAST-MODIFIED:20250715T172314Z
UID:10005432-1780822800-1780824600@templeisraelorlando.org
SUMMARY:Sunday Minyan
DESCRIPTION:Our minyan starts at 9:00am in person and on zoom. \nhttps://us02web.zoom.us/j/83885789313?pwd=UkdrN25yMGRpTUIzNlRwejd1UWpjQT09 \nMeeting ID: 838 8578 9313\nPasscode: 165936
URL:https://templeisraelorlando.org/event/sunday-minyan/2026-06-07/
LOCATION:Temple Israel\, 50 S Moss Road\, Winter Springs\, FL\, 32708\, United States
CATEGORIES:Services
END:VEVENT
BEGIN:VEVENT
DTSTART;TZID=America/New_York:20260613T093000
DTEND;TZID=America/New_York:20260613T120000
DTSTAMP:20260424T211932
CREATED:20250715T172155Z
LAST-MODIFIED:20250715T172816Z
UID:10006132-1781343000-1781352000@templeisraelorlando.org
SUMMARY:Shabbat Services
DESCRIPTION:
URL:https://templeisraelorlando.org/event/shabbat-services-2/2026-06-13/
LOCATION:Temple Israel\, 50 S Moss Road\, Winter Springs\, FL\, 32708\, United States
CATEGORIES:Services
END:VEVENT
BEGIN:VEVENT
DTSTART;TZID=America/New_York:20260614T090000
DTEND;TZID=America/New_York:20260614T093000
DTSTAMP:20260424T211932
CREATED:20240507T021438Z
LAST-MODIFIED:20250715T172314Z
UID:10005433-1781427600-1781429400@templeisraelorlando.org
SUMMARY:Sunday Minyan
DESCRIPTION:Our minyan starts at 9:00am in person and on zoom. \nhttps://us02web.zoom.us/j/83885789313?pwd=UkdrN25yMGRpTUIzNlRwejd1UWpjQT09 \nMeeting ID: 838 8578 9313\nPasscode: 165936
URL:https://templeisraelorlando.org/event/sunday-minyan/2026-06-14/
LOCATION:Temple Israel\, 50 S Moss Road\, Winter Springs\, FL\, 32708\, United States
CATEGORIES:Services
END:VEVENT
BEGIN:VEVENT
DTSTART;TZID=America/New_York:20260620T093000
DTEND;TZID=America/New_York:20260620T120000
DTSTAMP:20260424T211932
CREATED:20250715T172155Z
LAST-MODIFIED:20250715T172816Z
UID:10006133-1781947800-1781956800@templeisraelorlando.org
SUMMARY:Shabbat Services
DESCRIPTION:
URL:https://templeisraelorlando.org/event/shabbat-services-2/2026-06-20/
LOCATION:Temple Israel\, 50 S Moss Road\, Winter Springs\, FL\, 32708\, United States
CATEGORIES:Services
END:VEVENT
BEGIN:VEVENT
DTSTART;TZID=America/New_York:20260621T090000
DTEND;TZID=America/New_York:20260621T093000
DTSTAMP:20260424T211932
CREATED:20240507T021438Z
LAST-MODIFIED:20250715T172314Z
UID:10005434-1782032400-1782034200@templeisraelorlando.org
SUMMARY:Sunday Minyan
DESCRIPTION:Our minyan starts at 9:00am in person and on zoom. \nhttps://us02web.zoom.us/j/83885789313?pwd=UkdrN25yMGRpTUIzNlRwejd1UWpjQT09 \nMeeting ID: 838 8578 9313\nPasscode: 165936
URL:https://templeisraelorlando.org/event/sunday-minyan/2026-06-21/
LOCATION:Temple Israel\, 50 S Moss Road\, Winter Springs\, FL\, 32708\, United States
CATEGORIES:Services
END:VEVENT
BEGIN:VEVENT
DTSTART;TZID=America/New_York:20260627T093000
DTEND;TZID=America/New_York:20260627T120000
DTSTAMP:20260424T211932
CREATED:20250715T172155Z
LAST-MODIFIED:20250715T172816Z
UID:10006134-1782552600-1782561600@templeisraelorlando.org
SUMMARY:Shabbat Services
DESCRIPTION:
URL:https://templeisraelorlando.org/event/shabbat-services-2/2026-06-27/
LOCATION:Temple Israel\, 50 S Moss Road\, Winter Springs\, FL\, 32708\, United States
CATEGORIES:Services
END:VEVENT
BEGIN:VEVENT
DTSTART;TZID=America/New_York:20260628T090000
DTEND;TZID=America/New_York:20260628T093000
DTSTAMP:20260424T211932
CREATED:20240507T021438Z
LAST-MODIFIED:20250715T172314Z
UID:10005435-1782637200-1782639000@templeisraelorlando.org
SUMMARY:Sunday Minyan
DESCRIPTION:Our minyan starts at 9:00am in person and on zoom. \nhttps://us02web.zoom.us/j/83885789313?pwd=UkdrN25yMGRpTUIzNlRwejd1UWpjQT09 \nMeeting ID: 838 8578 9313\nPasscode: 165936
URL:https://templeisraelorlando.org/event/sunday-minyan/2026-06-28/
LOCATION:Temple Israel\, 50 S Moss Road\, Winter Springs\, FL\, 32708\, United States
CATEGORIES:Services
END:VEVENT
BEGIN:VEVENT
DTSTART;TZID=America/New_York:20260703T180000
DTEND;TZID=America/New_York:20260703T190000
DTSTAMP:20260424T211932
CREATED:20250724T120311Z
LAST-MODIFIED:20260406T182700Z
UID:10006618-1783101600-1783105200@templeisraelorlando.org
SUMMARY:Kabbalat Shabbat
DESCRIPTION:
URL:https://templeisraelorlando.org/event/kabbalat-shabbat-2-2/2026-07-03/
LOCATION:Temple Israel\, 50 S Moss Road\, Winter Springs\, FL\, 32708\, United States
CATEGORIES:Services
END:VEVENT
BEGIN:VEVENT
DTSTART;TZID=America/New_York:20260704T093000
DTEND;TZID=America/New_York:20260704T120000
DTSTAMP:20260424T211932
CREATED:20250715T172155Z
LAST-MODIFIED:20250715T172816Z
UID:10006135-1783157400-1783166400@templeisraelorlando.org
SUMMARY:Shabbat Services
DESCRIPTION:
URL:https://templeisraelorlando.org/event/shabbat-services-2/2026-07-04/
LOCATION:Temple Israel\, 50 S Moss Road\, Winter Springs\, FL\, 32708\, United States
CATEGORIES:Services
END:VEVENT
BEGIN:VEVENT
DTSTART;TZID=America/New_York:20260705T090000
DTEND;TZID=America/New_York:20260705T093000
DTSTAMP:20260424T211932
CREATED:20240507T021438Z
LAST-MODIFIED:20250715T172314Z
UID:10005436-1783242000-1783243800@templeisraelorlando.org
SUMMARY:Sunday Minyan
DESCRIPTION:Our minyan starts at 9:00am in person and on zoom. \nhttps://us02web.zoom.us/j/83885789313?pwd=UkdrN25yMGRpTUIzNlRwejd1UWpjQT09 \nMeeting ID: 838 8578 9313\nPasscode: 165936
URL:https://templeisraelorlando.org/event/sunday-minyan/2026-07-05/
LOCATION:Temple Israel\, 50 S Moss Road\, Winter Springs\, FL\, 32708\, United States
CATEGORIES:Services
END:VEVENT
BEGIN:VEVENT
DTSTART;TZID=America/New_York:20260711T093000
DTEND;TZID=America/New_York:20260711T120000
DTSTAMP:20260424T211932
CREATED:20250715T172155Z
LAST-MODIFIED:20250715T172816Z
UID:10006136-1783762200-1783771200@templeisraelorlando.org
SUMMARY:Shabbat Services
DESCRIPTION:
URL:https://templeisraelorlando.org/event/shabbat-services-2/2026-07-11/
LOCATION:Temple Israel\, 50 S Moss Road\, Winter Springs\, FL\, 32708\, United States
CATEGORIES:Services
END:VEVENT
BEGIN:VEVENT
DTSTART;TZID=America/New_York:20260712T090000
DTEND;TZID=America/New_York:20260712T093000
DTSTAMP:20260424T211932
CREATED:20240507T021438Z
LAST-MODIFIED:20250715T172314Z
UID:10005437-1783846800-1783848600@templeisraelorlando.org
SUMMARY:Sunday Minyan
DESCRIPTION:Our minyan starts at 9:00am in person and on zoom. \nhttps://us02web.zoom.us/j/83885789313?pwd=UkdrN25yMGRpTUIzNlRwejd1UWpjQT09 \nMeeting ID: 838 8578 9313\nPasscode: 165936
URL:https://templeisraelorlando.org/event/sunday-minyan/2026-07-12/
LOCATION:Temple Israel\, 50 S Moss Road\, Winter Springs\, FL\, 32708\, United States
CATEGORIES:Services
END:VEVENT
BEGIN:VEVENT
DTSTART;TZID=America/New_York:20260718T093000
DTEND;TZID=America/New_York:20260718T120000
DTSTAMP:20260424T211932
CREATED:20250715T172155Z
LAST-MODIFIED:20250715T172816Z
UID:10006137-1784367000-1784376000@templeisraelorlando.org
SUMMARY:Shabbat Services
DESCRIPTION:
URL:https://templeisraelorlando.org/event/shabbat-services-2/2026-07-18/
LOCATION:Temple Israel\, 50 S Moss Road\, Winter Springs\, FL\, 32708\, United States
CATEGORIES:Services
END:VEVENT
BEGIN:VEVENT
DTSTART;TZID=America/New_York:20260719T090000
DTEND;TZID=America/New_York:20260719T093000
DTSTAMP:20260424T211932
CREATED:20240507T021438Z
LAST-MODIFIED:20250715T172314Z
UID:10005438-1784451600-1784453400@templeisraelorlando.org
SUMMARY:Sunday Minyan
DESCRIPTION:Our minyan starts at 9:00am in person and on zoom. \nhttps://us02web.zoom.us/j/83885789313?pwd=UkdrN25yMGRpTUIzNlRwejd1UWpjQT09 \nMeeting ID: 838 8578 9313\nPasscode: 165936
URL:https://templeisraelorlando.org/event/sunday-minyan/2026-07-19/
LOCATION:Temple Israel\, 50 S Moss Road\, Winter Springs\, FL\, 32708\, United States
CATEGORIES:Services
END:VEVENT
BEGIN:VEVENT
DTSTART;TZID=America/New_York:20260725T093000
DTEND;TZID=America/New_York:20260725T120000
DTSTAMP:20260424T211932
CREATED:20250715T172155Z
LAST-MODIFIED:20250715T172816Z
UID:10006138-1784971800-1784980800@templeisraelorlando.org
SUMMARY:Shabbat Services
DESCRIPTION:
URL:https://templeisraelorlando.org/event/shabbat-services-2/2026-07-25/
LOCATION:Temple Israel\, 50 S Moss Road\, Winter Springs\, FL\, 32708\, United States
CATEGORIES:Services
END:VEVENT
BEGIN:VEVENT
DTSTART;TZID=America/New_York:20260726T090000
DTEND;TZID=America/New_York:20260726T093000
DTSTAMP:20260424T211932
CREATED:20240507T021438Z
LAST-MODIFIED:20250715T172314Z
UID:10005439-1785056400-1785058200@templeisraelorlando.org
SUMMARY:Sunday Minyan
DESCRIPTION:Our minyan starts at 9:00am in person and on zoom. \nhttps://us02web.zoom.us/j/83885789313?pwd=UkdrN25yMGRpTUIzNlRwejd1UWpjQT09 \nMeeting ID: 838 8578 9313\nPasscode: 165936
URL:https://templeisraelorlando.org/event/sunday-minyan/2026-07-26/
LOCATION:Temple Israel\, 50 S Moss Road\, Winter Springs\, FL\, 32708\, United States
CATEGORIES:Services
END:VEVENT
BEGIN:VEVENT
DTSTART;TZID=America/New_York:20260801T093000
DTEND;TZID=America/New_York:20260801T120000
DTSTAMP:20260424T211932
CREATED:20250715T172155Z
LAST-MODIFIED:20250715T172816Z
UID:10006139-1785576600-1785585600@templeisraelorlando.org
SUMMARY:Shabbat Services
DESCRIPTION:
URL:https://templeisraelorlando.org/event/shabbat-services-2/2026-08-01/
LOCATION:Temple Israel\, 50 S Moss Road\, Winter Springs\, FL\, 32708\, United States
CATEGORIES:Services
END:VEVENT
BEGIN:VEVENT
DTSTART;TZID=America/New_York:20260802T090000
DTEND;TZID=America/New_York:20260802T093000
DTSTAMP:20260424T211932
CREATED:20240507T021438Z
LAST-MODIFIED:20250715T172314Z
UID:10005440-1785661200-1785663000@templeisraelorlando.org
SUMMARY:Sunday Minyan
DESCRIPTION:Our minyan starts at 9:00am in person and on zoom. \nhttps://us02web.zoom.us/j/83885789313?pwd=UkdrN25yMGRpTUIzNlRwejd1UWpjQT09 \nMeeting ID: 838 8578 9313\nPasscode: 165936
URL:https://templeisraelorlando.org/event/sunday-minyan/2026-08-02/
LOCATION:Temple Israel\, 50 S Moss Road\, Winter Springs\, FL\, 32708\, United States
CATEGORIES:Services
END:VEVENT
BEGIN:VEVENT
DTSTART;TZID=America/New_York:20260807T180000
DTEND;TZID=America/New_York:20260807T190000
DTSTAMP:20260424T211932
CREATED:20250724T120311Z
LAST-MODIFIED:20260406T182700Z
UID:10006619-1786125600-1786129200@templeisraelorlando.org
SUMMARY:Kabbalat Shabbat
DESCRIPTION:
URL:https://templeisraelorlando.org/event/kabbalat-shabbat-2-2/2026-08-07/
LOCATION:Temple Israel\, 50 S Moss Road\, Winter Springs\, FL\, 32708\, United States
CATEGORIES:Services
END:VEVENT
BEGIN:VEVENT
DTSTART;TZID=America/New_York:20260808T093000
DTEND;TZID=America/New_York:20260808T120000
DTSTAMP:20260424T211932
CREATED:20250715T172155Z
LAST-MODIFIED:20250715T172816Z
UID:10006140-1786181400-1786190400@templeisraelorlando.org
SUMMARY:Shabbat Services
DESCRIPTION:
URL:https://templeisraelorlando.org/event/shabbat-services-2/2026-08-08/
LOCATION:Temple Israel\, 50 S Moss Road\, Winter Springs\, FL\, 32708\, United States
CATEGORIES:Services
END:VEVENT
BEGIN:VEVENT
DTSTART;TZID=America/New_York:20260809T090000
DTEND;TZID=America/New_York:20260809T093000
DTSTAMP:20260424T211932
CREATED:20240507T021438Z
LAST-MODIFIED:20250715T172314Z
UID:10005441-1786266000-1786267800@templeisraelorlando.org
SUMMARY:Sunday Minyan
DESCRIPTION:Our minyan starts at 9:00am in person and on zoom. \nhttps://us02web.zoom.us/j/83885789313?pwd=UkdrN25yMGRpTUIzNlRwejd1UWpjQT09 \nMeeting ID: 838 8578 9313\nPasscode: 165936
URL:https://templeisraelorlando.org/event/sunday-minyan/2026-08-09/
LOCATION:Temple Israel\, 50 S Moss Road\, Winter Springs\, FL\, 32708\, United States
CATEGORIES:Services
END:VEVENT
BEGIN:VEVENT
DTSTART;TZID=America/New_York:20260815T093000
DTEND;TZID=America/New_York:20260815T120000
DTSTAMP:20260424T211932
CREATED:20250715T172155Z
LAST-MODIFIED:20250715T172816Z
UID:10006141-1786786200-1786795200@templeisraelorlando.org
SUMMARY:Shabbat Services
DESCRIPTION:
URL:https://templeisraelorlando.org/event/shabbat-services-2/2026-08-15/
LOCATION:Temple Israel\, 50 S Moss Road\, Winter Springs\, FL\, 32708\, United States
CATEGORIES:Services
END:VEVENT
BEGIN:VEVENT
DTSTART;TZID=America/New_York:20260816T090000
DTEND;TZID=America/New_York:20260816T093000
DTSTAMP:20260424T211932
CREATED:20240507T021438Z
LAST-MODIFIED:20250715T172314Z
UID:10005442-1786870800-1786872600@templeisraelorlando.org
SUMMARY:Sunday Minyan
DESCRIPTION:Our minyan starts at 9:00am in person and on zoom. \nhttps://us02web.zoom.us/j/83885789313?pwd=UkdrN25yMGRpTUIzNlRwejd1UWpjQT09 \nMeeting ID: 838 8578 9313\nPasscode: 165936
URL:https://templeisraelorlando.org/event/sunday-minyan/2026-08-16/
LOCATION:Temple Israel\, 50 S Moss Road\, Winter Springs\, FL\, 32708\, United States
CATEGORIES:Services
END:VEVENT
BEGIN:VEVENT
DTSTART;TZID=America/New_York:20260822T093000
DTEND;TZID=America/New_York:20260822T120000
DTSTAMP:20260424T211932
CREATED:20250715T172155Z
LAST-MODIFIED:20250715T172816Z
UID:10006142-1787391000-1787400000@templeisraelorlando.org
SUMMARY:Shabbat Services
DESCRIPTION:
URL:https://templeisraelorlando.org/event/shabbat-services-2/2026-08-22/
LOCATION:Temple Israel\, 50 S Moss Road\, Winter Springs\, FL\, 32708\, United States
CATEGORIES:Services
END:VEVENT
BEGIN:VEVENT
DTSTART;TZID=America/New_York:20260823T090000
DTEND;TZID=America/New_York:20260823T093000
DTSTAMP:20260424T211932
CREATED:20240507T021438Z
LAST-MODIFIED:20250715T172314Z
UID:10005443-1787475600-1787477400@templeisraelorlando.org
SUMMARY:Sunday Minyan
DESCRIPTION:Our minyan starts at 9:00am in person and on zoom. \nhttps://us02web.zoom.us/j/83885789313?pwd=UkdrN25yMGRpTUIzNlRwejd1UWpjQT09 \nMeeting ID: 838 8578 9313\nPasscode: 165936
URL:https://templeisraelorlando.org/event/sunday-minyan/2026-08-23/
LOCATION:Temple Israel\, 50 S Moss Road\, Winter Springs\, FL\, 32708\, United States
CATEGORIES:Services
END:VEVENT
BEGIN:VEVENT
DTSTART;TZID=America/New_York:20260829T093000
DTEND;TZID=America/New_York:20260829T120000
DTSTAMP:20260424T211932
CREATED:20250715T172155Z
LAST-MODIFIED:20250715T172816Z
UID:10006143-1787995800-1788004800@templeisraelorlando.org
SUMMARY:Shabbat Services
DESCRIPTION:
URL:https://templeisraelorlando.org/event/shabbat-services-2/2026-08-29/
LOCATION:Temple Israel\, 50 S Moss Road\, Winter Springs\, FL\, 32708\, United States
CATEGORIES:Services
END:VEVENT
BEGIN:VEVENT
DTSTART;TZID=America/New_York:20260830T090000
DTEND;TZID=America/New_York:20260830T093000
DTSTAMP:20260424T211932
CREATED:20240507T021438Z
LAST-MODIFIED:20250715T172314Z
UID:10005444-1788080400-1788082200@templeisraelorlando.org
SUMMARY:Sunday Minyan
DESCRIPTION:Our minyan starts at 9:00am in person and on zoom. \nhttps://us02web.zoom.us/j/83885789313?pwd=UkdrN25yMGRpTUIzNlRwejd1UWpjQT09 \nMeeting ID: 838 8578 9313\nPasscode: 165936
URL:https://templeisraelorlando.org/event/sunday-minyan/2026-08-30/
LOCATION:Temple Israel\, 50 S Moss Road\, Winter Springs\, FL\, 32708\, United States
CATEGORIES:Services
END:VEVENT
BEGIN:VEVENT
DTSTART;TZID=America/New_York:20260904T180000
DTEND;TZID=America/New_York:20260904T190000
DTSTAMP:20260424T211932
CREATED:20250724T120311Z
LAST-MODIFIED:20260406T182700Z
UID:10006620-1788544800-1788548400@templeisraelorlando.org
SUMMARY:Kabbalat Shabbat
DESCRIPTION:
URL:https://templeisraelorlando.org/event/kabbalat-shabbat-2-2/2026-09-04/
LOCATION:Temple Israel\, 50 S Moss Road\, Winter Springs\, FL\, 32708\, United States
CATEGORIES:Services
END:VEVENT
END:VCALENDAR